Workbook
Name Contact_info: '1. Instructions'!$C$25
Name Equivalent_Note: '2. Equivalent position lookup'!$B$2
Name Example_bullet_1_of_2: '1. Instructions'!$B$15
Name Example_bullet_2_of_2: '1. Instructions'!$B$16
Name Example_PM_2_Minus_6_percent: '1. Instructions'!$C$15
Name Example_PM_2_Plus_6_percent: '1. Instructions'!$C$16
Name Guide_of_List_of_equivalent_positions_for_alternation___Max_salary_MINUS_6: Table_LookupTool[[#Headers],[Guide of potential equivalent positions for alternation (Max salary MINUS 6%)]]
Name H1_About: '1. Instructions'!$B$1
Name H1_EquivalentPositionLookup: '2. Equivalent position lookup'!$B$1
Name H1_Occupational_Groups: '3. Occupational groups'!$B$1
Name H2_Contact_info: '1. Instructions'!$B$23
Name H2_Example: '1. Instructions'!$B$13
Name H2_Instructions: '1. Instructions'!$B$7
Name H2_Meaning: '2. Equivalent position lookup'!$B$3
Name H2_Notes: '1. Instructions'!$B$19
Name H2_Purpose: '1. Instructions'!$B$2
Name H2_Start_here: '1. Instructions'!$B$17
Name Instruction_list_item_1_Text: '1. Instructions'!$C$8
Name Instruction_list_item_2_Text: '1. Instructions'!$C$9
Name Instruction_list_item_3_Text: '1. Instructions'!$C$10
Name Instruction_list_item_3a_Text: '1. Instructions'!$C$11
Name Instruction_list_item_3b_Text: '1. Instructions'!$C$12
Name Link_to_dropdown: '1. Instructions'!$B$18
Name List_of_equivalent_positions_for_alternation___Max_salary_MINUS_6: Table_LookupTool[[#Headers],[Guide of potential equivalent positions for alternation (Max salary MINUS 6%)]]
Name Lookup_DropDown_menu: Table_LookupTool[Starting position (group and level)]
Name Meaning_bullet_1_of_5: '2. Equivalent position lookup'!$B$4
Name Meaning_bullet_1_text: '2. Equivalent position lookup'!$C$4
Name Meaning_bullet_2_of_5: '2. Equivalent position lookup'!$B$5
Name Meaning_bullet_2_text: '2. Equivalent position lookup'!$C$5
Name Meaning_bullet_3_of_5: '2. Equivalent position lookup'!$B$6
Name Meaning_bullet_3_text: '2. Equivalent position lookup'!$C$6
Name Meaning_bullet_4_of_5: '2. Equivalent position lookup'!$B$7
Name Meaning_bullet_4_text: '2. Equivalent position lookup'!$C$7
Name Meaning_bullet_5_of_5: '2. Equivalent position lookup'!$B$8
Name Meaning_bullet_5_text: '2. Equivalent position lookup'!$C$8
Name Notes_bullet_1_of_3: '1. Instructions'!$B$20
Name Notes_bullet_1_text: '1. Instructions'!$C$20
Name Notes_bullet_2_of_3: '1. Instructions'!$B$21
Name Notes_bullet_2_text: '1. Instructions'!$C$21
Name Notes_bullet_3_of_3: '1. Instructions'!$B$22
Name Notes_bullet_3_text: '1. Instructions'!$C$22
Name Purpose_bullet_1_of_4: '1. Instructions'!$B$3
Name Purpose_bullet_1_text: '1. Instructions'!$C$3
Name Purpose_bullet_2_of_4: '1. Instructions'!$B$4
Name Purpose_bullet_2_text: '1. Instructions'!$C$4
Name Purpose_bullet_3_of_4: '1. Instructions'!$B$5
Name Purpose_bullet_3_text: '1. Instructions'!$C$5
Name Purpose_bullet_4_of_4: '1. Instructions'!$B$6
Name Purpose_bullet_4_text: '1. Instructions'!$C$6
Name Start_here_bullet_1_of_1_text: '1. Instructions'!$C$18
Name Starting_position___group_and_level: Table_LookupTool[[#Headers],[Starting position (group and level)]]
Name Starting_position_Dropdown: Table_LookupTool[Starting position (group and level)]
Name Starting_position_minus_6_percent: '2. Equivalent position lookup'!$D$10
Name Starting_position_plus_6_percent: '2. Equivalent position lookup'!$C$10

Sheet 1. Instructions
A1: Read columns B and C, rows 1 to 24 | B1: About the equivalent position lookup tool
B2: Purpose of this tool
B3: · | C3: This tool helps you compare positions (also known as occupational groups and levels) in the Core Public Administration (CPA) with similar pay and with which you can alternate.
B4: · | C4: It’s designed for CPA employees who are thinking about job alternation under the Work Force Adjustment Directive and applicable collective agreement appendices.
B5: · | C5: According to the Directive and appendices, positions are considered equivalent for the purposes of alternation when the maximum salary of the higher paid position is no more than 6% higher than the maximum salary of the lower paid position.
B6: · | C6: Users should note that under Tab 2 – Equivalent Position Lookup, Column C is used to validate whether positions are equivalent, when the starting position is the lower paid position. Column D is used as a guide to assist in identifying possible equivalent positions, when the starting position is the higher paid position.
B7: Instructions
B8: 1. | C8: Navigate to the 'Equivalent position lookup' tab.
B9: 2. | C9: Go to cell B10. The cell name is 'Starting_Position_Dropdown'
B10: 3. | C10: Select (or type) the group and level of the starting position. Keyboard navigation: Alt + Down arrow
B11: a. | C11: Cell C10 lists positions with a maximum salary of no more than 6% above the starting position's maximum salary considered equivalent for an alternation. The cell's name is 'Starting_position_plus_6'
B12: b. | C12: Cell D10 lists positions with a maximum salary of no more than 6% below the maximum salary of the starting position. The cell's name is 'Starting_position_minus_6'
B13: Example
B14: PM-02
B15: · | C15: Minus 6% includes: AR-01, EC-01, PG-01, TI-03, etc.
B16: · | C16: Plus 6% includes AS-02, CR-06, PG-01, PI-03-CGC, etc.
B17: Start here
B18: · | C18: Navigate to cell B10 to enter the position for which you want to search
B19: Notes
B20: · | C20: Must meet all job requirements.
B21: · | C21: This Tool is for guidance only and is subject to updates.
B22: · | C22: If your annual salary is calculated using a workweek above 40 hours, please contact your human resources advisor to determine equivalent positions.
B23: Contact information
B24: · | C24: Contact your human resources advisor for missing groups or to request an alternate format.

Sheet 2. Equivalent position lookup
A1: Read columns B, and C of rows 1 to 8; then, read columns B, C and D for rows 9 and 10. | B1: Position Alternation Equivalency Look-Up Tool
B2: Note: | C2: If you choose to alternate with an equivalent position, you will then be subject to the terms and conditions of employment of the new position.
B3: What the 6% salary equivalency means
B4: · | C4: When an employee of the core public administration, affected by workforce adjustment (an “opting” or “surplus - Option A” employee), wants to take part in alternation—that is, swapping jobs with someone who is not affected—normally they move into a job at the same group and level.
B5: · | C5: However, alternation can also take place if the other job is not at the same group or level if the positions are considered equivalent. Positions are considered equivalent if the top pay rate (maximum salary) of the higher-paying job is no more than 6% greater than the top pay rate of the lower paid job.
B6: · | C6: The 6% salary equivalency rule ensures that during a workforce adjustment, employees are not restricted only to identical jobs, but can alternate with employees occupying an equivalent position, ensuring practical job transition opportunities.
B7: · | C7: Column C of the tool displays positions that have a maximum annual salary no more than 6% higher than the maximum salary of the lower paid position (starting position) for which the search is conducted. To use this function to validate whether an alternation is possible, you must first know the group and level of the lower paid position proposed for the alternation.
B8: · | C8: Column D provides a guide for employees to determine which positions fall within a 6% range below the maximum salary for the starting position and that may be considered equivalent for an alternation. Since the calculation is based on the salary of the higher paid position, users must always use the information in this column as a guide for possible equivalencies. To confirm whether positions are equivalent, users must enter the lower paid position in cell B10.
B9: Starting position (group and level) | C9: List of equivalent positions for alternation (Max salary PLUS 6%) | D9: Guide of potential equivalent positions for alternation (Max salary MINUS 6%)
B10: EC-06 | C10: =_xlfn.XLOOKUP(B10, '4. Reference table'!A2:A1297, '4. Reference table'!B2:B1297, "") -> AG-04, AI-05, AI-06, AS-08, BI-04, CH-04, CT-FIN-03 , CT-EAV-04 , CT-IAU-04, EG-08, EL-09, EN-ENG-04, EN-SUR-03, FR-6, GT-08, HR-05, LS-05, MA-05, MT-06, ND-ADV-3, ND-DIT-4, ND-HME-4, PC-04, PG-06, PH-02, PM-07, PM-MCO-03, PS-4, SG-PAT-05, SG-SRE-06, SO-MAO-09, SW-SCW-05, TI-07 Aviation, TI-07 Marine, TI-08 Railway safety, TR-05, UT-3, VM-3, WP-06 | D10: =_xlfn.XLOOKUP(B10, '4. Reference table'!A2:A1297, '4. Reference table'!C2:C1297, "") -> AI-04, AO-CAI-01, AR-04, AS-07, CO-02, ED-EDS-05, ED-EST-05 (TE 10), ED-EST-06 (TE 9), ED-EST-06 (TE 10), EL-08, FB-6, FO-03, FR-5, FS-02, HP-09, IS-06 , IT-03, LP-01, MT-05, NU-CHN-6, NU-HOS-6, OP-3, PE-05, PM-06 , PM-MCO-02, PR(S)-05, SE-RES-2, SG-PAT-04, SG-SRE-05, SO-FLP-07, TI-08, TI-07 Railway safety, TR-04

Sheet 3. Occupational groups
A1: Glossary of occupational groups. Column B, rows 3 to 91 | B1: Core Public Administration Occupational Groups
B2: Rates of pay for public service employees - Canada.ca
B3: Occupational groups
B4: AC: Actuarial Science
B5: AG: Agriculture
B6: AI: Air Traffic Control
B7: AO: Aircraft Operations
B8: AR: Architecture and Town Planning
B9: AS: Administrative Services
B10: BI: Biological Sciences
B11: CH: Chemistry
B12: CM: Communications
B13: CO: Commerce
... B91: WP: Welfare Programmes

Sheet 4. Reference table
A1: Substantive Position (group and level) | B1: List of Equivalent Positions for Alternation (Maximum Salary Plus 6%) | C1: Guidance only - Potential list of Equivalent Positions for Alternation (Maximum Salary Minus 6%)
A2: ='5. Raw salary data'!A2 -> AC-01 | B2: {=_xlfn.TEXTJOIN(", ", TRUE, _xlfn._xlws.FILTER('5. Raw salary data'!$A$2:$A$1297, ('5. Raw salary data'!$C$2:$C$1297 < '5. Raw salary data'!D2) * ('5. Raw salary data'!$C$2:$C$1297 >= '5. Raw salary data'!C2) * ('5. Raw salary data'!$A$2:$A$1297 <> '5. Raw salary data'!A2), "No matches"))} -> AO-CAI-04, AO-HPS-03, AR-06, CT-EAV-06 , EC-08, EN-ENG-05, FB-8, FS-04, MA-07, PM-MCO-04, PS-5, SE-RES-4, SO-INS-02, SO-MAO-11, VM-5 | C2: {=_xlfn.TEXTJOIN(", ",TRUE,_xlfn._xlws.FILTER('5. Raw salary data'!$A$2:$A$1297,('5. Raw salary data'!$C$2:$C$1297 >'5. Raw salary data'!E2)*('5. Raw salary data'!$C$2:$C$1297 <'5. Raw salary data'!C2),"No matches"))} -> AG-05, AO-CAI-03, AO-HPS-02, BI-05, CH-05, CO-04, CT-FIN-04 , CT-EAV-05 , DE-02, DS-4, EC-07, EN-SUR-04, MA-06, MT-07, NU-CHN-7, NU-CHN-8, NU-HOS-7, NU-HOS-8, PC-05, PH-03, SE-REM-1, SE-RES-3, SG-PAT-06, SG-PAT-07, SG-SRE-08, TI-08 Aviation, VM-4
A3: ='5. Raw salary data'!A3 -> AC-02 | B3: {=_xlfn.TEXTJOIN(", ", TRUE, _xlfn._xlws.FILTER('5. Raw salary data'!$A$2:$A$1297, ('5. Raw salary data'!$C$2:$C$1297 < '5. Raw salary data'!D3) * ('5. Raw salary data'!$C$2:$C$1297 >= '5. Raw salary data'!C3) * ('5. Raw salary data'!$A$2:$A$1297 <> '5. Raw salary data'!A3), "No matches"))} -> AO-ETP-01, EN-SUR-06 | C3: {=_xlfn.TEXTJOIN(", ",TRUE,_xlfn._xlws.FILTER('5. Raw salary data'!$A$2:$A$1297,('5. Raw salary data'!$C$2:$C$1297 >'5. Raw salary data'!E3)*('5. Raw salary data'!$C$2:$C$1297 <'5. Raw salary data'!C3),"No matches"))} -> AO-CAI-05, AR-07, DS-6, EN-ENG-06, IT-05, SE-RES-5, SO-MAO-12
A4: ='5. Raw salary data'!A4 -> AC-03 | B4: {=_xlfn.TEXTJOIN(", ", TRUE, _xlfn._xlws.FILTER('5. Raw salary data'!$A$2:$A$1297, ('5. Raw salary data'!$C$2:$C$1297 < '5. Raw salary data'!D4) * ('5. Raw salary data'!$C$2:$C$1297 >= '5. Raw salary data'!C4) * ('5. Raw salary data'!$A$2:$A$1297 <> '5. Raw salary data'!A4), "No matches"))} -> LP-02 | C4: {=_xlfn.TEXTJOIN(", ",TRUE,_xlfn._xlws.FILTER('5. Raw salary data'!$A$2:$A$1297,('5. Raw salary data'!$C$2:$C$1297 >'5. Raw salary data'!E4)*('5. Raw salary data'!$C$2:$C$1297 <'5. Raw salary data'!C4),"No matches"))} -> MD-MOF-1
A5: ='5. Raw salary data'!A5 -> AG-01 | B5: {=_xlfn.TEXTJOIN(", ", TRUE, _xlfn._xlws.FILTER('5. Raw salary data'!$A$2:$A$1297, ('5. Raw salary data'!$C$2:$C$1297 < '5. Raw salary data'!D5) * ('5. Raw salary data'!$C$2:$C$1297 >= '5. Raw salary data'!C5) * ('5. Raw salary data'!$A$2:$A$1297 <> '5. Raw salary data'!A5), "No matches"))} -> AI-01, AS-04, BI-01, CH-01, CR-07, DA-CON-7, DA-PRO-7, DS-2, EC-03, ED-EST-02 (TE 8), ED-EST-02 (TE 9), ED-EST-03 (TE 6), ED-EST-04 (TE 3), ED-EST-04 (TE 4), ED-EST-05 (TE 2), ED-EST-06 (TE 1), ED-EST-04 Maritimes (TE 10), ED-EST-05 Maritimes (TE 7), ED-EST-06 Maritimes (TE 6), ED-EST-04 Quebec (TE 12), ED-EST-05 Quebec (TE 9), ED-EST-05 Quebec (TE 10), ED-EST-06 Quebec (TE 7), ED-EST-06 Quebec (TE 8), ED-EST-04 Ontario (TE 8), ED-EST-05 Ontario (TE 7), ED-EST-06 Ontario (TE 4), ED-EST-06 Ontario (TE 5), ED-EST-04 Manitoba (TE 6), ED-EST-05 Manitoba (TE 4), ED-EST-05 Manitoba (TE 5), ED-EST-06 Manitoba (TE 3), ED-EST-06 Manitoba (TE 4), ED-EST-04 Saskatchewan (TE 7), ED-EST-04 Saskatchewan (TE 8), ED-EST-05 Saskatchewan (TE 5), ED-EST-05 Saskatchewan (TE 6), ED-EST-06 Saskatchewan (TE 4), ED-EST-06 Saskatchewan (TE 5), ED-EST-04 Alberta (TE 7), ED-EST-05 Alberta (TE 6), ED-EST-06 Alberta (TE 5), ED-EST-03 BC (TE 9), ED-EST-04 BC (TE 7), ED-EST-04 BC (TE 8), ED-EST-05 BC (TE 6), ED-EST-06 BC (TE 4), ED-EST-06 BC (TE 5), ED-LAT-02 (TE 11), ED-LAT-02 (TE 12), ED-LAT-03 (TE 10), ED-LAT-03 (TE 11), ED-LAT-04 (TE 8), ED-LAT-04 (TE 9), EG-04, EL-04, FB-2, GL-AIM-13, GL-AIM-14, GL-AMW-14, GL-COI-11, GL-COI-12, GL-EIM-10, GL-EIM-11, GL-GHW-12, GL-MAM-12, GL-MAM-13, GL-MAN-12, GL-MAN-13, GL-MDO-14, GL-MOC-13, GL-MOC-14, GL-PCF-10, GL-PCF-11, GL-PIP-11, GL-PIP-12, GL-PRW-12, GL-PRW-13, GL-SMW-9, GL-SMW-10, GL-VHE-10, GL-VHE-11, GL-WOW-12, GL-WOW-13, GS-09, HP-04, HS-PHS-08, IS-03 , IT-01, LS-01, OM-03, PC-01, PE-02, PG-03, PI-04-CGC, PM-04 , PO-IMA-02, PO-LES-TO-02, PO-LES-IM-02, PO-TCO-02, PR(S)-02, RO-03, SC-7 (equip. op. and spec. trade), SG-SRE-02, SO-FLP-01, SR-E (pay group 3 MDO-4), SR-E (APA), SR-E (APB), SR-W (pay group 7), TI-05, WP-03 | C5: {=_xlfn.TEXTJOIN(", ",TRUE,_xlfn._xlws.FILTER('5. Raw salary data'!$A$2:$A$1297,('5. Raw salary data'!$C$2:$C$1297 >'5. Raw salary data'!E5)*('5. Raw salary data'!$C$2:$C$1297 <'5. Raw salary data'!C5),"No matches"))} -> DD-06, EC-02, ED-EST-01 (TE 8), ED-EST-02 (TE 7) , ED-EST-03 (TE 4), ED-EST-03 (TE 5), ED-EST-04 (TE 2), ED-EST-05 (TE 1), ED-EST-04 Maritimes (TE 8), ED-EST-04 Maritimes (TE 9), ED-EST-05 Maritimes (TE 6), ED-EST-06 Maritimes (TE 5), ED-EST-03 Quebec (TE 11), ED-EST-04 Quebec (TE 10), ED-EST-04 Quebec (TE 11), ED-EST-05 Quebec (TE 8), ED-EST-06 Quebec (TE 5), ED-EST-06 Quebec (TE 6), ED-EST-03 Ontario (TE 9), ED-EST-03 Ontario (TE 10), ED-EST-04 Ontario (TE 6), ED-EST-04 Ontario (TE 7), ED-EST-05 Ontario (TE 5), ED-EST-05 Ontario (TE 6), ED-EST-06 Ontario (TE 3), ED-EST-04 Manitoba (TE 4), ED-EST-04 Manitoba (TE 5), ED-EST-05 Manitoba (TE 3), ED-EST-06 Manitoba (TE 2), ED-EST-04 Saskatchewan (TE 6), ED-EST-05 Saskatchewan (TE 4), ED-EST-06 Saskatchewan (TE 3), ED-EST-03 Alberta (TE 9), ED-EST-04 Alberta (TE 5), ED-EST-04 Alberta (TE 6), ED-EST-05 Alberta (TE 4), ED-EST-05 Alberta (TE 5), ED-EST-06 Alberta (TE 3), ED-EST-06 Alberta (TE 4), ED-EST-03 BC (TE 7), ED-EST-03 BC (TE 8), ED-EST-04 BC (TE 6), ED-EST-05 BC (TE 4), ED-EST-05 BC (TE 5), ED-EST-06 BC (TE 3), ED-LAT-02 (TE 9), ED-LAT-02 (TE 10), ED-LAT-03 (TE 8), ED-LAT-03 (TE 9), ED-LAT-04 (TE 6), ED-LAT-04 (TE 7), EG-03, EL-03, EU-LAI-1, FB-1, GL-AIM-11, GL-AIM-12, GL-AMW-12, GL-AMW-13, GL-COI-9, GL-COI-10, GL-EIM-9, GL-ELE -14, GL-GHW-10, GL-GHW-11, GL-INM-13, GL-INM-14, GL-MAM-10, GL-MAM-11, GL-MAN-11, GL-MDO-12, GL-MDO-13, GL-MOC-11, GL-MOC-12, GL-MST-14, GL-PCF-9, GL-PIP-9, GL-PIP-10, GL-PRW-11, GL-SMW-8, GL-VHE-9, GL-WOW-11, GT-04, HP-03, HR-01, HS-HDO-08, LI-9, MA-02, PS-1, SC-5 (equip. op. and spec. trade), SC-6 (equip. op. and spec. trade), SG-PAT-01, SO-MAO-01, SR-E (pay group 2 ELE-2), SR-W (pay group 4), SR-W (pay group 5), SR-W (pay group 6), SR-W (pay group 9) APC-8, SR-W (pay group 9) APD-10, SW-SCW-01, SW-CHA-01, TI-04
A6: ='5. Raw salary data'!A6 -> AG-02 | B6: {=_xlfn.TEXTJOIN(", ", TRUE, _xlfn._xlws.FILTER('5. Raw salary data'!$A$2:$A$1297, ('5. Raw salary data'!$C$2:$C$1297 < '5. Raw salary data'!D6) * ('5. Raw salary data'!$C$2:$C$1297 >= '5. Raw salary data'!C6) * ('5. Raw salary data'!$A$2:$A$1297 <> '5. Raw salary data'!A6), "No matches"))} -> AS-05, BI-02, CH-02, CT-EAV-02 , CT-IAU-02, CX-2, ED-EDS-02, ED-EST-04 (TE 7), ED-EST-04 (TE 8), ED-EST-05 (TE 5), ED-EST-05 (TE 6), ED-EST-06 (TE 4), ED-EST-06 Maritimes (TE 10), ED-EST-06 Quebec (TE 12), ED-EST-06 Ontario (TE 8), ED-EST-06 Ontario (TE 9), ED-EST-04 Manitoba (TE 10), ED-EST-05 Manitoba (TE 9), ED-EST-05 Manitoba (TE 10), ED-EST-06 Manitoba (TE 7), ED-EST-06 Manitoba (TE 8), ED-EST-05 Saskatchewan (TE 10), ED-EST-06 Saskatchewan (TE 9), ED-EST-06 Saskatchewan (TE 10), ED-EST-05 Alberta (TE 10), ED-EST-06 Alberta (TE 9), ED-EST-06 Alberta (TE 10), ED-EST-05 BC (TE 10), ED-EST-06 BC (TE 9), EU-PEI-2, FB-3, FR-2, FS-01, GL-SMW-14, GS-13, GT-06, HP-06, HR-03, IS-04 , IT-02, LS-03, LP-00, ND-ADV-1, ND-DIT-1, ND-HME-1, NU-CHN-2, NU-HOS-2, OM-04, PC-02, PG-04, PI-06-CGC, PM-05 , PM-MCO-01, PO-LES-TO-04, PO-TCO-04, PS-2, RO-05, SG-SRE-03, SO-FLP-04, SO-MAO-04, SO-RAD-03, SR-E (pay group 7), SR-E (pay group 8), SR-E (pay group 9), SR-E (pay group 10), SR-W (pay group 12), SW-SCW-03, SW-SCW-01 Clinical Social Workers, SW-SCW-02 Clinical Social Workers, TI-06, TI-05 Marine, VM-1, WP-04 | C6: {=_xlfn.TEXTJOIN(", ",TRUE,_xlfn._xlws.FILTER('5. Raw salary data'!$A$2:$A$1297,('5. Raw salary data'!$C$2:$C$1297 >'5. Raw salary data'!E6)*('5. Raw salary data'!$C$2:$C$1297 <'5. Raw salary data'!C6),"No matches"))} -> AI-02, CX-1, DD-08, DD-09, EC-04, ED-EST-03 (TE 8), ED-EST-03 (TE 9), ED-EST-04 (TE 6), ED-EST-05 (TE 4), ED-EST-06 (TE 3), ED-EST-05 Maritimes (TE 10), ED-EST-06 Maritimes (TE 9), ED-EST-06 Quebec (TE 10), ED-EST-06 Quebec (TE 11), ED-EST-04 Ontario (TE 10), ED-EST-05 Ontario (TE 9), ED-EST-05 Ontario (TE 10), ED-EST-06 Ontario (TE 7), ED-EST-04 Manitoba (TE 9), ED-EST-05 Manitoba (TE 7), ED-EST-05 Manitoba (TE 8), ED-EST-06 Manitoba (TE 6), ED-EST-04 Saskatchewan (TE 10), ED-EST-05 Saskatchewan (TE 8), ED-EST-05 Saskatchewan (TE 9), ED-EST-06 Saskatchewan (TE 7), ED-EST-06 Saskatchewan (TE 8), ED-EST-04 Alberta (TE 9), ED-EST-04 Alberta (TE 10), ED-EST-05 Alberta (TE 8), ED-EST-05 Alberta (TE 9), ED-EST-06 Alberta (TE 7), ED-EST-06 Alberta (TE 8), ED-EST-04 BC (TE 10), ED-EST-04 BC (TE 11), ED-EST-05 BC (TE 8), ED-EST-05 BC (TE 9), ED-EST-06 BC (TE 7), ED-EST-06 BC (TE 8), ED-LAT-04 (TE 11), ED-LAT-04 (TE 12), ED-LAT-04 (TE 13), EG-05, EL-05, FO-01, FR-1, GL-COI-14, GL-EIM-14, GL-PCF-14, GL-PIP-14, GL-SMW-12, GL-SMW-13, GL-VHE-13, GL-VHE-14, GS-12, GT-05, HP-05, HS-HDO-10, HS-PHS-10, MA-03, PE-03, PO-IMA-03, PO-LES-TO-03, PO-LES-IM-03, PO-TCO-03, PR(S)-03, RO-04, SO-FLP-03, SO-MAO-03, SO-RAD-02, SR-E (pay group 5 basic), SR-E (pay group 6), TI-05 Aviation, TR-02
A7: ='5. Raw salary data'!A7 -> AG-03 | B7: {=_xlfn.TEXTJOIN(", ", TRUE, _xlfn._xlws.FILTER('5. Raw salary data'!$A$2:$A$1297, ('5. Raw salary data'!$C$2:$C$1297 < '5. Raw salary data'!D7) * ('5. Raw salary data'!$C$2:$C$1297 >= '5. Raw salary data'!C7) * ('5. Raw salary data'!$A$2:$A$1297 <> '5. Raw salary data'!A7), "No matches"))} -> AO-CAI-01, AR-04, BI-03, CH-03, ED-EDS-05, ED-EST-05 (TE 10), ED-EST-06 (TE 9), EL-07, EN-ENG-03, EN-SUR-02, FR-5, GT-07, HR-04, IT-03, MT-05, ND-HME-3, NU-CHN-5, NU-HOS-5, OP-2, PC-03, PE-05, PG-05, PH-01, PS-3, PR(S)-05, SG-PAT-04, SO-FLP-06, SO-MAO-08, SR-CPS1, SW-SCW-04, TI-08, TI-06 Marine, TI-07 Railway safety, TR-04, VM-2 | C7: {=_xlfn.TEXTJOIN(", ",TRUE,_xlfn._xlws.FILTER('5. Raw salary data'!$A$2:$A$1297,('5. Raw salary data'!$C$2:$C$1297 >'5. Raw salary data'!E7)*('5. Raw salary data'!$C$2:$C$1297 <'5. Raw salary data'!C7),"No matches"))} -> AI-03, AS-06, CT-EAV-03 , CT-IAU-03, EC-05, ED-EDS-04, ED-EST-04 (TE 10), ED-EST-05 (TE 8), ED-EST-05 (TE 9), ED-EST-06 (TE 7), ED-EST-06 (TE 8), EG-07, FB-5, FO-02, FR-4, HP-08, IS-05 , LS-04, MA-04, MT-03, MT-04, ND-ADV-2, ND-DIT-3, NU-CHN-4, NU-HOS-4, OM-05, PR(S)-04, RO-06, SG-SRE-04, SO-FLP-05, SO-MAO-07, TI-06 Aviation, TI-06 Railway safety, TR-03, UT-2, WP-05
A8: ='5. Raw salary data'!A8 -> AG-04 | B8: {=_xlfn.TEXTJOIN(", ", TRUE, _xlfn._xlws.FILTER('5. Raw salary data'!$A$2:$A$1297, ('5. Raw salary data'!$C$2:$C$1297 < '5. Raw salary data'!D8) * ('5. Raw salary data'!$C$2:$C$1297 >= '5. Raw salary data'!C8) * ('5. Raw salary data'!$A$2:$A$1297 <> '5. Raw salary data'!A8), "No matches"))} -> AI-07, AO-CAI-02, AO-HPS-01, AR-05, BI-04, CH-04, CO-03, DE-01, DS-4, EL-09, FB-7, FO-04, FS-03, GT-08, IT-04, LS-05, MT-06, NU-CHN-7, NU-HOS-7, PC-04, PE-06, PS-4, SE-RES-3, SG-PAT-07, SG-SRE-07, SO-INS-01, SO-MAO-10, TI-08 Marine, TI-08 Railway safety, TR-05, UT-3, VM-4 | C8: {=_xlfn.TEXTJOIN(", ",TRUE,_xlfn._xlws.FILTER('5. Raw salary data'!$A$2:$A$1297,('5. Raw salary data'!$C$2:$C$1297 >'5. Raw salary data'!E8)*('5. Raw salary data'!$C$2:$C$1297 <'5. Raw salary data'!C8),"No matches"))} -> AI-05, AI-06, AS-08, CT-FIN-03 , CT-EAV-04 , CT-IAU-04, EC-06, EG-08, EN-ENG-04, EN-SUR-03, FB-6, FO-03, FR-6, HR-05, MA-05, ND-ADV-3, ND-DIT-4, ND-HME-4, NU-CHN-6, NU-HOS-6, PG-06, PH-02, PM-07, PM-MCO-03, SE-RES-2, SG-PAT-05, SG-SRE-06, SO-MAO-09, SW-SCW-05, TI-07 Aviation, TI-07 Marine, VM-3, WP-06
A9: ='5. Raw salary data'!A9 -> AG-05 | B9: {=_xlfn.TEXTJOIN(", ", TRUE, _xlfn._xlws.FILTER('5. Raw salary data'!$A$2:$A$1297, ('5. Raw salary data'!$C$2:$C$1297 < '5. Raw salary data'!D9) * ('5. Raw salary data'!$C$2:$C$1297 >= '5. Raw salary data'!C9) * ('5. Raw salary data'!$A$2:$A$1297 <> '5. Raw salary data'!A9), "No matches"))} -> AC-01, AO-CAI-03, AO-HPS-02, AR-06, BI-05, CH-05, CO-04, CT-FIN-04 , DE-02, EC-08, EN-ENG-05, FB-8, NU-CHN-8, NU-HOS-8, PC-05, PS-5, SG-PAT-06, SG-SRE-08, SO-INS-02, SO-MAO-11, VM-5 | C9: {=_xlfn.TEXTJOIN(", ",TRUE,_xlfn._xlws.FILTER('5. Raw salary data'!$A$2:$A$1297,('5. Raw salary data'!$C$2:$C$1297 >'5. Raw salary data'!E9)*('5. Raw salary data'!$C$2:$C$1297 <'5. Raw salary data'!C9),"No matches"))} -> AI-07, AO-CAI-02, AO-HPS-01, AR-05, CO-03, CT-EAV-05 , DS-4, EC-07, EN-SUR-04, FB-7, FO-04, FS-03, IT-04, MA-06, MT-07, NU-CHN-7, NU-HOS-7, PH-03, SE-REM-1, SE-RES-3, SG-PAT-07, SG-SRE-07, SO-INS-01, SO-MAO-10, TI-08 Aviation, TI-08 Marine, VM-4
A10: ='5. Raw salary data'!A10 -> AI-01 | B10: {=_xlfn.TEXTJOIN(", ", TRUE, _xlfn._xlws.FILTER('5. Raw salary data'!$A$2:$A$1297, ('5. Raw salary data'!$C$2:$C$1297 < '5. Raw salary data'!D10) * ('5. Raw salary data'!$C$2:$C$1297 >= '5. Raw salary data'!C10) * ('5. Raw salary data'!$A$2:$A$1297 <> '5. Raw salary data'!A10), "No matches"))} -> AR-02, CO-01, CT-EAV-01 , CT-IAU-01 , DA-CON-8, DA-PRO-7, DD-07, ED-EDS-01, ED-EST-02 (TE 9), ED-EST-03 (TE 7), ED-EST-04 (TE 4), ED-EST-05 (TE 2), ED-EST-05 (TE 3), ED-EST-06 (TE 1), ED-EST-05 Maritimes (TE 8), ED-EST-06 Maritimes (TE 7), ED-EST-05 Quebec (TE 11), ED-EST-06 Quebec (TE 8), ED-EST-06 Quebec (TE 9), ED-EST-04 Ontario (TE 8), ED-EST-04 Ontario (TE 9), ED-EST-05 Ontario (TE 8), ED-EST-06 Ontario (TE 5), ED-EST-04 Manitoba (TE 7), ED-EST-05 Manitoba (TE 5), ED-EST-05 Manitoba (TE 6), ED-EST-06 Manitoba (TE 4), ED-EST-04 Saskatchewan (TE 8), ED-EST-04 Saskatchewan (TE 9), ED-EST-05 Saskatchewan (TE 6), ED-EST-05 Saskatchewan (TE 7), ED-EST-06 Saskatchewan (TE 5), ED-EST-06 Saskatchewan (TE 6), ED-EST-04 Alberta (TE 8), ED-EST-05 Alberta (TE 7), ED-EST-06 Alberta (TE 5), ED-EST-06 Alberta (TE 6), ED-EST-04 BC (TE 8), ED-EST-04 BC (TE 9), ED-EST-05 BC (TE 6), ED-EST-05 BC (TE 7), ED-EST-06 BC (TE 5), ED-EST-06 BC (TE 6), ED-LAT-02 (TE 12), ED-LAT-02 (TE 13), ED-LAT-03 (TE 11), ED-LAT-03 (TE 12), ED-LAT-04 (TE 9), ED-LAT-04 (TE 10), EG-04, EL-04, EN-ENG-02, EN-SUR-01, FB-2, GL-AIM-14, GL-COI-12, GL-COI-13, GL-EIM-11, GL-EIM-12, GL-MAM-13, GL-MAM-14, GL-MAN-13, GL-MAN-14, GL-MOC-14, GL-PCF-12, GL-PIP-12, GL-PIP-13, GL-PRW-13, GL-PRW-14, GL-SMW-10, GL-SMW-11, GL-VHE-11, GL-VHE-12, GL-WOW-13, GL-WOW-14, GS-10, HP-04, HR-02, HS-HDO-09, IT-01, LS-01, LS-02, MT-02, OM-03, PE-02, PG-03, PR(S)-02, SC-7 (equip. op. and spec. trade), SE-RES-1, SG-PAT-02, SG-SRE-02, SO-FLP-02, SO-MAO-02, SO-RAD-01, SR-W (pay group 8), SW-SCW-02, TI-05, UT-1, WP-03 | C10: {=_xlfn.TEXTJOIN(", ",TRUE,_xlfn._xlws.FILTER('5. Raw salary data'!$A$2:$A$1297,('5. Raw salary data'!$C$2:$C$1297 >'5. Raw salary data'!E10)*('5. Raw salary data'!$C$2:$C$1297 <'5. Raw salary data'!C10),"No matches"))} -> AG-01, AS-04, BI-01, CH-01, CR-07, DA-CON-7, DD-06, DS-2, EC-03, ED-EST-01 (TE 8), ED-EST-02 (TE 8), ED-EST-03 (TE 5), ED-EST-03 (TE 6), ED-EST-04 (TE 3), ED-EST-05 (TE 1), ED-EST-04 Maritimes (TE 9), ED-EST-04 Maritimes (TE 10), ED-EST-05 Maritimes (TE 6), ED-EST-05 Maritimes (TE 7), ED-EST-06 Maritimes (TE 5), ED-EST-06 Maritimes (TE 6), ED-EST-04 Quebec (TE 11), ED-EST-04 Quebec (TE 12), ED-EST-05 Quebec (TE 9), ED-EST-05 Quebec (TE 10), ED-EST-06 Quebec (TE 6), ED-EST-06 Quebec (TE 7), ED-EST-03 Ontario (TE 10), ED-EST-04 Ontario (TE 7), ED-EST-05 Ontario (TE 6), ED-EST-05 Ontario (TE 7), ED-EST-06 Ontario (TE 4), ED-EST-04 Manitoba (TE 5), ED-EST-04 Manitoba (TE 6), ED-EST-05 Manitoba (TE 4), ED-EST-06 Manitoba (TE 3), ED-EST-04 Saskatchewan (TE 6), ED-EST-04 Saskatchewan (TE 7), ED-EST-05 Saskatchewan (TE 5), ED-EST-06 Saskatchewan (TE 3), ED-EST-06 Saskatchewan (TE 4), ED-EST-04 Alberta (TE 6), ED-EST-04 Alberta (TE 7), ED-EST-05 Alberta (TE 5), ED-EST-05 Alberta (TE 6), ED-EST-06 Alberta (TE 4), ED-EST-03 BC (TE 8), ED-EST-03 BC (TE 9), ED-EST-04 BC (TE 7), ED-EST-05 BC (TE 5), ED-EST-06 BC (TE 4), ED-LAT-02 (TE 10), ED-LAT-02 (TE 11), ED-LAT-03 (TE 9), ED-LAT-03 (TE 10), ED-LAT-04 (TE 7), ED-LAT-04 (TE 8), EL-03, FB-1, GL-AIM-13, GL-AMW-13, GL-AMW-14, GL-COI-10, GL-COI-11, GL-EIM-10, GL-GHW-12, GL-INM-14, GL-MAM-11, GL-MAM-12, GL-MAN-12, GL-MDO-13, GL-MDO-14, GL-MOC-12, GL-MOC-13, GL-PCF-10, GL-PCF-11, GL-PIP-10, GL-PIP-11, GL-PRW-12, GL-SMW-9, GL-VHE-10, GL-WOW-12, GS-09, GT-04, HS-PHS-08, IS-03 , LI-9, PC-01, PI-04-CGC, PM-04 , PO-IMA-02, PO-LES-TO-02, PO-LES-IM-02, PO-TCO-02, PS-1, RO-03, SC-6 (equip. op. and spec. trade), SO-FLP-01, SR-E (pay group 3 MDO-4), SR-E (APA), SR-E (APB), SR-W (pay group 6), SR-W (pay group 7), SW-SCW-01
A11: ='5. Raw salary data'!A11 -> AI-02 | B11: {=_xlfn.TEXTJOIN(", ", TRUE, _xlfn._xlws.FILTER('5. Raw salary data'!$A$2:$A$1297, ('5. Raw salary data'!$C$2:$C$1297 < '5. Raw salary data'!D11) * ('5. Raw salary data'!$C$2:$C$1297 >= '5. Raw salary data'!C11) * ('5. Raw salary data'!$A$2:$A$1297 <> '5. Raw salary data'!A11), "No matches"))} -> AG-02, AS-05, BI-02, CH-02, CX-2, ED-EDS-02, ED-EST-04 (TE 7), ED-EST-04 (TE 8), ED-EST-05 (TE 5), ED-EST-05 (TE 6), ED-EST-06 (TE 4), ED-EST-06 Maritimes (TE 10), ED-EST-06 Quebec (TE 12), ED-EST-06 Ontario (TE 8), ED-EST-04 Manitoba (TE 10), ED-EST-05 Manitoba (TE 9), ED-EST-05 Manitoba (TE 10), ED-EST-06 Manitoba (TE 7), ED-EST-06 Manitoba (TE 8), ED-EST-05 Saskatchewan (TE 10), ED-EST-06 Saskatchewan (TE 9), ED-EST-06 Saskatchewan (TE 10), ED-EST-05 Alberta (TE 10), ED-EST-06 Alberta (TE 9), ED-EST-05 BC (TE 9), ED-EST-05 BC (TE 10), ED-EST-06 BC (TE 8), ED-EST-06 BC (TE 9), ED-LAT-04 (TE 13), EU-PEI-2, FB-3, FR-2, FS-01, GL-SMW-14, GS-13, GT-06, HP-06, HR-03, IS-04 , IT-02, LP-00, ND-ADV-1, ND-DIT-1, ND-HME-1, NU-CHN-2, NU-HOS-2, OM-04, PC-02, PE-03, PG-04, PI-06-CGC, PM-05 , PM-MCO-01, PO-LES-TO-04, PO-TCO-04, PS-2, PR(S)-03, RO-05, SG-SRE-03, SO-FLP-03, SO-MAO-04, SO-RAD-03, SR-E (pay group 6), SR-E (pay group 7), SR-E (pay group 8), SR-E (pay group 9), SR-E (pay group 10), SR-W (pay group 12), SW-SCW-03, SW-SCW-01 Clinical Social Workers, TI-06, TI-05 Marine, VM-1, WP-04 | C11: {=_xlfn.TEXTJOIN(", ",TRUE,_xlfn._xlws.FILTER('5. Raw salary data'!$A$2:$A$1297,('5. Raw salary data'!$C$2:$C$1297 >'5. Raw salary data'!E11)*('5. Raw salary data'!$C$2:$C$1297 <'5. Raw salary data'!C11),"No matches"))} -> CX-1, DD-08, DD-09, EC-04, ED-EST-03 (TE 8), ED-EST-03 (TE 9), ED-EST-04 (TE 6), ED-EST-05 (TE 4), ED-EST-06 (TE 2), ED-EST-06 (TE 3), ED-EST-05 Maritimes (TE 10), ED-EST-06 Maritimes (TE 9), ED-EST-06 Quebec (TE 10), ED-EST-06 Quebec (TE 11), ED-EST-04 Ontario (TE 10), ED-EST-05 Ontario (TE 9), ED-EST-05 Ontario (TE 10), ED-EST-06 Ontario (TE 6), ED-EST-06 Ontario (TE 7), ED-EST-04 Manitoba (TE 8), ED-EST-04 Manitoba (TE 9), ED-EST-05 Manitoba (TE 7), ED-EST-05 Manitoba (TE 8), ED-EST-06 Manitoba (TE 6), ED-EST-04 Saskatchewan (TE 10), ED-EST-05 Saskatchewan (TE 8), ED-EST-05 Saskatchewan (TE 9), ED-EST-06 Saskatchewan (TE 7), ED-EST-06 Saskatchewan (TE 8), ED-EST-04 Alberta (TE 9), ED-EST-04 Alberta (TE 10), ED-EST-05 Alberta (TE 8), ED-EST-05 Alberta (TE 9), ED-EST-06 Alberta (TE 7), ED-EST-06 Alberta (TE 8), ED-EST-04 BC (TE 10), ED-EST-04 BC (TE 11), ED-EST-05 BC (TE 8), ED-EST-06 BC (TE 7), ED-LAT-03 (TE 13), ED-LAT-04 (TE 11), ED-LAT-04 (TE 12), EG-05, EL-05, FO-01, FR-1, GL-COI-14, GL-EIM-13, GL-EIM-14, GL-PCF-13, GL-PCF-14, GL-PIP-14, GL-SMW-12, GL-SMW-13, GL-VHE-13, GL-VHE-14, GS-12, GT-05, HP-05, HS-HDO-10, HS-PHS-09, HS-PHS-10, MA-03, PO-IMA-03, PO-LES-TO-03, PO-LES-IM-03, PO-TCO-03, RO-04, SO-MAO-03, SO-RAD-02, SR-E (pay group 4 MDO-5), SR-E (pay group 5 basic), SR-W (pay group 11), SW-CHA-02, TI-05 Aviation, TR-02
A12: ='5. Raw salary data'!A12 -> AI-03 | B12: {=_xlfn.TEXTJOIN(", ", TRUE, _xlfn._xlws.FILTER('5. Raw salary data'!$A$2:$A$1297, ('5. Raw salary data'!$C$2:$C$1297 < '5. Raw salary data'!D12) * ('5. Raw salary data'!$C$2:$C$1297 >= '5. Raw salary data'!C12) * ('5. Raw salary data'!$A$2:$A$1297 <> '5. Raw salary data'!A12), "No matches"))} -> AG-03, AS-06, BI-03, CH-03, CT-EAV-03 , CT-IAU-03, EC-05, ED-EDS-04, ED-EST-04 (TE 10), ED-EST-05 (TE 8), ED-EST-05 (TE 9), ED-EST-06 (TE 7), ED-EST-06 (TE 8), EG-07, EL-07, FB-5, FO-02, FR-4, HP-08, IS-05 , LS-04, MA-04, MT-04, ND-ADV-2, ND-DIT-3, NU-CHN-4, NU-HOS-4, OM-05, OP-2, PC-03, RO-06, SG-SRE-04, SO-FLP-05, SO-MAO-07, TI-06 Aviation, TI-06 Marine, TI-06 Railway safety, TR-03, UT-2, WP-05 | C12: {=_xlfn.TEXTJOIN(", ",TRUE,_xlfn._xlws.FILTER('5. Raw salary data'!$A$2:$A$1297,('5. Raw salary data'!$C$2:$C$1297 >'5. Raw salary data'!E12)*('5. Raw salary data'!$C$2:$C$1297 <'5. Raw salary data'!C12),"No matches"))} -> AR-03, CT-FIN-02 , CX-3, DS-3, ED-EDS-03, ED-EST-04 (TE 9), ED-EST-05 (TE 7), ED-EST-06 (TE 5), ED-EST-06 (TE 6), ED-EST-06 Ontario (TE 10), ED-EST-06 Manitoba (TE 9), ED-EST-06 Manitoba (TE 10), ED-EST-05 BC (TE 11), ED-EST-06 BC (TE 10), ED-EST-06 BC (TE 11), EG-06, EL-06, FB-4, FR-3, HP-07, MT-03, ND-DIT-2, ND-HME-2, NU-CHN-3, NU-HOS-3, OP-1, PE-04, PI-07-CGC, PR(S)-04, SG-PAT-03, SO-MAO-05, SO-MAO-06, SR-E (pay group 11), SR-E (pay group 12), SW-SCW-03 Clinical Social Workers, SW-CHA-03, TI-07
A13: ='5. Raw salary data'!A13 -> AI-04 | B13: {=_xlfn.TEXTJOIN(", ", TRUE, _xlfn._xlws.FILTER('5. Raw salary data'!$A$2:$A$1297, ('5. Raw salary data'!$C$2:$C$1297 < '5. Raw salary data'!D13) * ('5. Raw salary data'!$C$2:$C$1297 >= '5. Raw salary data'!C13) * ('5. Raw salary data'!$A$2:$A$1297 <> '5. Raw salary data'!A13), "No matches"))} -> AI-05, AS-07, CT-FIN-03 , CT-EAV-04 , CT-IAU-04, EC-06, ED-EST-06 (TE 10), EG-08, EL-08, EN-SUR-03, FB-6, FO-03, FR-6, FS-02, HP-09, HR-05, IS-06 , MA-05, ND-ADV-3, ND-DIT-4, ND-HME-4, NU-CHN-6, NU-HOS-6, PG-06, PH-02, PM-06 , PM-MCO-02, SE-RES-2, SG-SRE-06, SO-FLP-07, SO-MAO-09, SW-SCW-05, TI-07 Aviation, TI-07 Marine, VM-3, WP-06 | C13: {=_xlfn.TEXTJOIN(", ",TRUE,_xlfn._xlws.FILTER('5. Raw salary data'!$A$2:$A$1297,('5. Raw salary data'!$C$2:$C$1297 >'5. Raw salary data'!E13)*('5. Raw salary data'!$C$2:$C$1297 <'5. Raw salary data'!C13),"No matches"))} -> AO-CAI-01, AR-04, CO-02, ED-EDS-05, ED-EST-05 (TE 10), ED-EST-06 (TE 9), EN-ENG-03, EN-SUR-02, FR-5, GT-07, HR-04, IT-03, LP-01, MT-05, ND-HME-3, NU-CHN-5, NU-HOS-5, OP-3, PC-03, PE-05, PG-05, PH-01, PS-3, PR(S)-05, SG-PAT-04, SG-SRE-05, SO-FLP-06, SO-MAO-08, SR-CPS1, SW-SCW-04, TI-08, TI-07 Railway safety, TR-04, VM-2
... A1297: ='5. Raw salary data'!A1297 -> WP-06 | B1297: {=_xlfn.TEXTJOIN(", ", TRUE, _xlfn._xlws.FILTER('5. Raw salary data'!$A$2:$A$1297, ('5. Raw salary data'!$C$2:$C$1297 < '5. Raw salary data'!D1297) * ('5. Raw salary data'!$C$2:$C$1297 >= '5. Raw salary data'!C1297) * ('5. Raw salary data'!$A$2:$A$1297 <> '5. Raw salary data'!A1297), "No matches"))} -> AG-04, AI-06, AI-07, AO-CAI-02, AR-05, AS-08, BI-04, CH-04, CO-03, DE-01, EL-09, EN-ENG-04, FB-7, FO-04, FS-03, GT-08, IT-04, LS-05, MT-06, PC-04, PE-06, PM-07, PM-MCO-03, PS-4, SG-PAT-05, SG-SRE-07, SO-MAO-10, TI-08 Railway safety, TR-05, UT-3 | C1297: {=_xlfn.TEXTJOIN(", ",TRUE,_xlfn._xlws.FILTER('5. Raw salary data'!$A$2:$A$1297,('5. Raw salary data'!$C$2:$C$1297 >'5. Raw salary data'!E1297)*('5. Raw salary data'!$C$2:$C$1297 <'5. Raw salary data'!C1297),"No matches"))} -> AI-04, AI-05, AS-07, CT-FIN-03 , CT-EAV-04 , CT-IAU-04, EC-06, ED-EST-06 (TE 10), EG-08, EL-08, EN-SUR-03, FB-6, FO-03, FR-6, FS-02, HP-09, HR-05, IS-06 , LP-01, MA-05, ND-ADV-3, ND-DIT-4, ND-HME-4, NU-CHN-6, NU-HOS-6, PG-06, PH-02, PM-06 , PM-MCO-02, SE-RES-2, SG-SRE-06, SO-FLP-07, SO-MAO-09, SW-SCW-05, TI-07 Aviation, TI-07 Marine, VM-3

Sheet 5. Raw salary data
A1: Substantive Position (group and level) | B1: Effective Date | C1: Max Salary (annual) | D1: Max Salary Plus 6% | E1: Max Salary Minus 6% | F1: helper column | I1: test
A2: AC-01 | B2: D) October 1, 2025 | C2: 154237 | D2: =SUM(C2*1.06) -> 163491.22 | E2: =SUM(C2*0.94) -> 144982.78 | F2: =IF(COUNTIF(C$2:C$1297, C2)>1, "Duplicate", "") | G2: AC rates of pay | I2: {=_xlfn.TEXTJOIN(", ",TRUE,_xlfn._xlws.FILTER('5. Raw salary data'!$A$2:$A$1297,('5. Raw salary data'!$C$2:$C$1297 >'5. Raw salary data'!E2)*('5. Raw salary data'!$C$2:$C$1297 <'5. Raw salary data'!C2),"No matches"))} -> AG-05, AO-CAI-03, AO-HPS-02, BI-05, CH-05, CO-04, CT-FIN-04 , CT-EAV-05 , DE-02, DS-4, EC-07, EN-SUR-04, MA-06, MT-07, NU-CHN-7, NU-CHN-8, NU-HOS-7, NU-HOS-8, PC-05, PH-03, SE-REM-1, SE-RES-3, SG-PAT-06, SG-PAT-07, SG-SRE-08, TI-08 Aviation, VM-4 | V2: ED
A3: AC-02 | B3: D) October 1, 2025 | C3: 179553 | D3: =SUM(C3*1.06) -> 190326.18 | E3: =SUM(C3*0.94) -> 168779.82 | F3: =IF(COUNTIF(C$2:C$1297, C3)>1, "Duplicate", "") | I3: {=_xlfn.TEXTJOIN(", ", TRUE, _xlfn._xlws.FILTER('5. Raw salary data'!$A$2:$A$1297, ('5. Raw salary data'!$C$2:$C$1297 < '5. Raw salary data'!D2) * ('5. Raw salary data'!$C$2:$C$1297 >= '5. Raw salary data'!C2) * ('5. Raw salary data'!$A$2:$A$1297 <> '5. Raw salary data'!A2), "No matches"))} -> AO-CAI-04, AO-HPS-03, AR-06, CT-EAV-06 , EC-08, EN-ENG-05, FB-8, FS-04, MA-07, PM-MCO-04, PS-5, SE-RES-4, SO-INS-02, SO-MAO-11, VM-5 | V3: EU
A4: AC-03 | B4: D) October 1, 2025 | C4: 199274 | D4: =SUM(C4*1.06) -> 211230.44 | E4: =SUM(C4*0.94) -> 187317.56 | F4: =IF(COUNTIF(C$2:C$1297, C4)>1, "Duplicate", "")
A5: AG-01 | B5: D) October 1, 2025 | C5: 85423 | D5: =SUM(C5*1.06) -> 90548.38 | E5: =SUM(C5*0.94) -> 80297.62 | F5: =IF(COUNTIF(C$2:C$1297, C5)>1, "Duplicate", "") -> Duplicate | G5: AG rates of pay
A6: AG-02 | B6: D) October 1, 2025 | C6: 101162 | D6: =SUM(C6*1.06) -> 107231.72 | E6: =SUM(C6*0.94) -> 95092.28 | F6: =IF(COUNTIF(C$2:C$1297, C6)>1, "Duplicate", "") -> Duplicate
A7: AG-03 | B7: D) October 1, 2025 | C7: 120292 | D7: =SUM(C7*1.06) -> 127509.52 | E7: =SUM(C7*0.94) -> 113074.48 | F7: =IF(COUNTIF(C$2:C$1297, C7)>1, "Duplicate", "") -> Duplicate
A8: AG-04 | B8: D) October 1, 2025 | C8: 137710 | D8: =SUM(C8*1.06) -> 145972.6 | E8: =SUM(C8*0.94) -> 129447.4 | F8: =IF(COUNTIF(C$2:C$1297, C8)>1, "Duplicate", "") -> Duplicate
A9: AG-05 | B9: D) October 1, 2025 | C9: 150293 | D9: =SUM(C9*1.06) -> 159310.58 | E9: =SUM(C9*0.94) -> 141275.42 | F9: =IF(COUNTIF(C$2:C$1297, C9)>1, "Duplicate", "") -> Duplicate
A10: AI-01 | B10: D) July 1, 2021 | C10: 88615 | D10: =SUM(C10*1.06) -> 93931.9 | E10: =SUM(C10*0.94) -> 83298.1 | F10: =IF(COUNTIF(C$2:C$1297, C10)>1, "Duplicate", "") | G10: AI rates of pay
A11: AI-02 | B11: D) July 1, 2021 | C11: 100530 | D11: =SUM(C11*1.06) -> 106561.8 | E11: =SUM(C11*0.94) -> 94498.2 | F11: =IF(COUNTIF(C$2:C$1297, C11)>1, "Duplicate", "")
A12: AI-03 | B12: D) July 1, 2021 | C12: 114167 | D12: =SUM(C12*1.06) -> 121017.02 | E12: =SUM(C12*0.94) -> 107316.98 | F12: =IF(COUNTIF(C$2:C$1297, C12)>1, "Duplicate", "")
A13: AI-04 | B13: D) July 1, 2021 | C13: 128692 | D13: =SUM(C13*1.06) -> 136413.52 | E13: =SUM(C13*0.94) -> 120970.48 | F13: =IF(COUNTIF(C$2:C$1297, C13)>1, "Duplicate", "")
A14: AI-05 | B14: D) July 1, 2021 | C14: 132161 | D14: =SUM(C14*1.06) -> 140090.66 | E14: =SUM(C14*0.94) -> 124231.34 | F14: =IF(COUNTIF(C$2:C$1297, C14)>1, "Duplicate", "")
A15: AI-06 | B15: D) July 1, 2021 | C15: 136536 | D15: =SUM(C15*1.06) -> 144728.16 | E15: =SUM(C15*0.94) -> 128343.84 | F15: =IF(COUNTIF(C$2:C$1297, C15)>1, "Duplicate", "")
A16: AI-07 | B16: D) July 1, 2021 | C16: 141356 | D16: =SUM(C16*1.06) -> 149837.36 | E16: =SUM(C16*0.94) -> 132874.64 | F16: =IF(COUNTIF(C$2:C$1297, C16)>1, "Duplicate", "")
A17: AO-CAI-01 | B17: D) January 26, 2026 | C17: 125684 | D17: =SUM(C17*1.06) -> 133225.04 | E17: =SUM(C17*0.94) -> 118142.96 | F17: =IF(COUNTIF(C$2:C$1297, C17)>1, "Duplicate", "") | G17: AO rates of pay
A18: AO-CAI-02 | B18: D) January 26, 2026 | C18: 141787 | D18: =SUM(C18*1.06) -> 150294.22 | E18: =SUM(C18*0.94) -> 133279.78 | F18: =IF(COUNTIF(C$2:C$1297, C18)>1, "Duplicate", "")
A19: AO-CAI-03 | B19: D) January 26, 2026 | C19: 151123 | D19: =SUM(C19*1.06) -> 160190.38 | E19: =SUM(C19*0.94) -> 142055.62 | F19: =IF(COUNTIF(C$2:C$1297, C19)>1, "Duplicate", "")
A20: AO-CAI-04 | B20: D) January 26, 2026 | C20: 160308 | D20: =SUM(C20*1.06) -> 169926.48 | E20: =SUM(C20*0.94) -> 150689.52 | F20: =IF(COUNTIF(C$2:C$1297, C20)>1, "Duplicate", "")
A21: AO-CAI-05 | B21: D) January 26, 2026 | C21: 172529 | D21: =SUM(C21*1.06) -> 182880.74 | E21: =SUM(C21*0.94) -> 162177.26 | F21: =IF(COUNTIF(C$2:C$1297, C21)>1, "Duplicate", "")
A22: AO-ETP-01 | B22: D) January 26, 2026 | C22: 186445 | D22: =SUM(C22*1.06) -> 197631.7 | E22: =SUM(C22*0.94) -> 175258.3 | F22: =IF(COUNTIF(C$2:C$1297, C22)>1, "Duplicate", "") | G22: AO-ETP rates of pay
A23: AO-HPS-01 | B23: D) January 26, 2026 | C23: 144920 | D23: =SUM(C23*1.06) -> 153615.2 | E23: =SUM(C23*0.94) -> 136224.8 | F23: =IF(COUNTIF(C$2:C$1297, C23)>1, "Duplicate", "") | G23: AO-HPS rates of pay
A24: AO-HPS-02 | B24: D) January 26, 2026 | C24: 151790 | D24: =SUM(C24*1.06) -> 160897.4 | E24: =SUM(C24*0.94) -> 142682.6 | F24: =IF(COUNTIF(C$2:C$1297, C24)>1, "Duplicate", "")
A25: AO-HPS-03 | B25: D) January 26, 2026 | C25: 161771 | D25: =SUM(C25*1.06) -> 171477.26 | E25: =SUM(C25*0.94) -> 152064.74 | F25: =IF(COUNTIF(C$2:C$1297, C25)>1, "Duplicate", "")
A26: AR-01 | B26: D) October 1, 2025 | C26: 73133 | D26: =SUM(C26*1.06) -> 77520.98 | E26: =SUM(C26*0.94) -> 68745.02 | F26: =IF(COUNTIF(C$2:C$1297, C26)>1, "Duplicate", "") | G26: AR rates of pay
A27: AR-02 | B27: D) October 1, 2025 | C27: 93501 | D27: =SUM(C27*1.06) -> 99111.06 | E27: =SUM(C27*0.94) -> 87890.94 | F27: =IF(COUNTIF(C$2:C$1297, C27)>1, "Duplicate", "")
A28: AR-03 | B28: D) October 1, 2025 | C28: 111668 | D28: =SUM(C28*1.06) -> 118368.08 | E28: =SUM(C28*0.94) -> 104967.92 | F28: =IF(COUNTIF(C$2:C$1297, C28)>1, "Duplicate", "")
A29: AR-04 | B29: D) October 1, 2025 | C29: 126214 | D29: =SUM(C29*1.06) -> 133786.84 | E29: =SUM(C29*0.94) -> 118641.16 | F29: =IF(COUNTIF(C$2:C$1297, C29)>1, "Duplicate", "")
A30: AR-05 | B30: D) October 1, 2025 | C30: 141808 | D30: =SUM(C30*1.06) -> 150316.48 | E30: =SUM(C30*0.94) -> 133299.52 | F30: =IF(COUNTIF(C$2:C$1297, C30)>1, "Duplicate", "")
A31: AR-06 | B31: D) October 1, 2025 | C31: 156341 | D31: =SUM(C31*1.06) -> 165721.46 | E31: =SUM(C31*0.94) -> 146960.54 | F31: =IF(COUNTIF(C$2:C$1297, C31)>1, "Duplicate", "")
A32: AR-07 | B32: D) October 1, 2025 | C32: 176475 | D32: =SUM(C32*1.06) -> 187063.5 | E32: =SUM(C32*0.94) -> 165886.5 | F32: =IF(COUNTIF(C$2:C$1297, C32)>1, "Duplicate", "")
A33: AS-01 | B33: Z) June 21, 2024 - Wage Adjustment | C33: 69106 | D33: =SUM(C33*1.06) -> 73252.36 | E33: =SUM(C33*0.94) -> 64959.64 | F33: =IF( COUNTIF(C$2:C$1297,#REF!)>1, "Duplicate", "") | G33: AS rates of pay
A34: AS-02 | B34: Z) June 21, 2024 - Wage Adjustment | C34: 74180 | D34: =SUM(C34*1.06) -> 78630.8 | E34: =SUM(C34*0.94) -> 69729.2 | F34: =IF( COUNTIF(C$2:C$1297,#REF!)>1, "Duplicate", "")
A35: AS-03 | B35: Z) June 21, 2024 - Wage Adjustment | C35: 79511 | D35: =SUM(C35*1.06) -> 84281.66 | E35: =SUM(C35*0.94) -> 74740.34 | F35: =IF( COUNTIF(C$2:C$1297,#REF!)>1, "Duplicate", "")
A36: AS-04 | B36: Z) June 21, 2024 - Wage Adjustment | C36: 87108 | D36: =SUM(C36*1.06) -> 92334.48 | E36: =SUM(C36*0.94) -> 81881.52 | F36: =IF( COUNTIF(C$2:C$1297,#REF!)>1, "Duplicate", "")
A37: AS-05 | B37: Z) June 21, 2024 - Wage Adjustment | C37: 104044 | D37: =SUM(C37*1.06) -> 110286.64 | E37: =SUM(C37*0.94) -> 97801.36 | F37: =IF( COUNTIF(C$2:C$1297,#REF!)>1, "Duplicate", "")
A38: AS-06 | B38: Z) June 21, 2024 - Wage Adjustment | C38: 115642 | D38: =SUM(C38*1.06) -> 122580.52 | E38: =SUM(C38*0.94) -> 108703.48 | F38: =IF( COUNTIF(C$2:C$1297,#REF!)>1, "Duplicate", "")
A39: AS-07 | B39: Z) June 21, 2024 - Wage Adjustment | C39: 129017 | D39: =SUM(C39*1.06) -> 136758.02 | E39: =SUM(C39*0.94) -> 121275.98 | F39: =IF( COUNTIF(C$2:C$1297,#REF!)>1, "Duplicate", "")
A40: AS-08 | B40: Z) June 21, 2024 - Wage Adjustment | C40: 137135 | D40: =SUM(C40*1.06) -> 145363.1 | E40: =SUM(C40*0.94) -> 128906.9 | F40: =IF( COUNTIF(C$2:C$1297,#REF!)>1, "Duplicate", "")
...

Sheet 6. Identical salaries
A1: All the salaries shared by more than one position | B1: All positions that have identical max salaries
A2: {=_xlfn.UNIQUE(_xlfn._xlws.FILTER('5. Raw salary data'!C2:C1297,('5. Raw salary data'!F2:F1297 = "Duplicate")))} -> 85423 | B2: {=_xlfn.TEXTJOIN(", ", TRUE, _xlfn._xlws.FILTER('5. Raw salary data'!A2:A1297, '5. Raw salary data'!C2:C1297=A2))} -> AG-01, BI-01, CH-01
A3: 101162 | B3: {=_xlfn.TEXTJOIN(", ", TRUE, _xlfn._xlws.FILTER('5. Raw salary data'!A3:A1298, '5. Raw salary data'!C3:C1298=A3))} -> AG-02, BI-02, CH-02, PC-02
A4: 120292 | B4: {=_xlfn.TEXTJOIN(", ", TRUE, _xlfn._xlws.FILTER('5. Raw salary data'!A4:A1299, '5. Raw salary data'!C4:C1299=A4))} -> AG-03, BI-03, CH-03, OP-2
A5: 137710 | B5: {=_xlfn.TEXTJOIN(", ", TRUE, _xlfn._xlws.FILTER('5. Raw salary data'!A5:A1300, '5. Raw salary data'!C5:C1300=A5))} -> AG-04, BI-04, CH-04
A6: 150293 | B6: {=_xlfn.TEXTJOIN(", ", TRUE, _xlfn._xlws.FILTER('5. Raw salary data'!A6:A1301, '5. Raw salary data'!C6:C1301=A6))} -> AG-05, BI-05, CH-05
A7: 103079 | B7: {=_xlfn.TEXTJOIN(", ", TRUE, _xlfn._xlws.FILTER('5. Raw salary data'!A7:A1302, '5. Raw salary data'!C7:C1302=A7))} -> CX-2, FB-3
A8: 97758 | B8: {=_xlfn.TEXTJOIN(", ", TRUE, _xlfn._xlws.FILTER('5. Raw salary data'!A8:A1303, '5. Raw salary data'!C8:C1303=A8))} -> ED-EST-05 Maritimes (TE 10), ED-EST-06 Manitoba (TE 6)
A9: 51250 | B9: {=_xlfn.TEXTJOIN(", ", TRUE, _xlfn._xlws.FILTER('5. Raw salary data'!A9:A1304, '5. Raw salary data'!C9:C1304=A9))} -> ED-EST-01 Quebec (TE 3), ED-EST-02 Quebec (TE 2)
A10: 70436 | B10: {=_xlfn.TEXTJOIN(", ", TRUE, _xlfn._xlws.FILTER('5. Raw salary data'!A10:A1305, '5. Raw salary data'!C10:C1305=A10))} -> ED-EST-01 Quebec (TE 9), ED-EST-02 Alberta (TE 8)
A11: 75472 | B11: {=_xlfn.TEXTJOIN(", ", TRUE, _xlfn._xlws.FILTER('5. Raw salary data'!A11:A1306, '5. Raw salary data'!C11:C1306=A11))} -> ED-EST-04 BC (TE 4), GT-03
A12: 56606 | B12: {=_xlfn.TEXTJOIN(", ", TRUE, _xlfn._xlws.FILTER('5. Raw salary data'!A12:A1307, '5. Raw salary data'!C12:C1307=A12))} -> EU-TEA (Maritimes), EU-TEA (Quebec), EU-TEA (Ontario), EU-TEA (Manitoba), EU-TEA (Saskatchewan), EU-TEA (Alberta), EU-TEA (British Columbia)
A13: 74653.421 | B13: {=_xlfn.TEXTJOIN(", ", TRUE, _xlfn._xlws.FILTER('5. Raw salary data'!A13:A1308, '5. Raw salary data'!C13:C1308=A13))} -> GL-AIM-9, GL-GHW-7
A14: 81832.838 | B14: {=_xlfn.TEXTJOIN(", ", TRUE, _xlfn._xlws.FILTER('5. Raw salary data'!A14:A1309, '5. Raw salary data'!C14:C1309=A14))} -> GL-AMW-12, GL-GHW-10
... A33: 80392.781 | B33: {=_xlfn.TEXTJOIN(", ", TRUE, _xlfn._xlws.FILTER('5. Raw salary data'!A33:A1328, '5. Raw salary data'!C33:C1328=A33))} -> HP-03, SR-W (pay group 9) APD-10
A34: 94104 | B34: {=_xlfn.TEXTJOIN(", ", TRUE, _xlfn._xlws.FILTER('5. Raw salary data'!A34:A1329, '5. Raw salary data'!C41:C1329=A34))} -> #VALUE!
A35: 106456 | B35: {=_xlfn.TEXTJOIN(", ", TRUE, _xlfn._xlws.FILTER('5. Raw salary data'!A35:A1330, '5. Raw salary data'!C41:C1330=A35))} -> #VALUE!
A36: 109001 | B36: {=_xlfn.TEXTJOIN(", ", TRUE, _xlfn._xlws.FILTER('5. Raw salary data'!A36:A1331, '5. Raw salary data'!C41:C1331=A36))} -> #VALUE!
A37: 115426 | B37: {=_xlfn.TEXTJOIN(", ", TRUE, _xlfn._xlws.FILTER('5. Raw salary data'!A37:A1332, '5. Raw salary data'!C41:C1332=A37))} -> #VALUE!
A38: 122344 | B38: {=_xlfn.TEXTJOIN(", ", TRUE, _xlfn._xlws.FILTER('5. Raw salary data'!A38:A1333, '5. Raw salary data'!C41:C1333=A38))} -> #VALUE!
A39: 131257 | B39: {=_xlfn.TEXTJOIN(", ", TRUE, _xlfn._xlws.FILTER('5. Raw salary data'!A39:A1334, '5. Raw salary data'!C41:C1334=A39))} -> #VALUE!
A40: 145702 | B40: {=_xlfn.TEXTJOIN(", ", TRUE, _xlfn._xlws.FILTER('5. Raw salary data'!A40:A1335, '5. Raw salary data'!C41:C1335=A40))} -> #VALUE!
A41: 154064 | B41: {=_xlfn.TEXTJOIN(", ", TRUE, _xlfn._xlws.FILTER('5. Raw salary data'!A41:A1336, '5. Raw salary data'!C41:C1336=A41))} -> NU-CHN-8, NU-HOS-8
A42: 37172 | B42: {=_xlfn.TEXTJOIN(", ", TRUE, _xlfn._xlws.FILTER('5. Raw salary data'!A42:A1337, '5. Raw salary data'!C42:C1337=A42))} -> OE-BEO-1, OE-CEO-1, OE-DEO-1, OE-MSE-1, OE-MEO-1
A43: 43721 | B43: {=_xlfn.TEXTJOIN(", ", TRUE, _xlfn._xlws.FILTER('5. Raw salary data'!A43:A1338, '5. Raw salary data'!C43:C1338=A43))} -> OE-BEO-2, OE-CEO-2, OE-DEO-2, OE-MSE-2, OE-MEO-2
A44: 47398 | B44: {=_xlfn.TEXTJOIN(", ", TRUE, _xlfn._xlws.FILTER('5. Raw salary data'!A44:A1339, '5. Raw salary data'!C44:C1339=A44))} -> OE-CEO-3, OE-DEO-3, OE-MEO-3
A45: 79952 | B45: {=_xlfn.TEXTJOIN(", ", TRUE, _xlfn._xlws.FILTER('5. Raw salary data'!A45:A1340, '5. Raw salary data'!C45:C1340=A45))} -> PO-IMA-01, PO-LES-IM-01
A46: 87946 | B46: {=_xlfn.TEXTJOIN(", ", TRUE, _xlfn._xlws.FILTER('5. Raw salary data'!A46:A1341, '5. Raw salary data'!C46:C1341=A46))} -> PO-IMA-02, PO-LES-TO-02, PO-LES-IM-02, PO-TCO-02
A47: 95864 | B47: {=_xlfn.TEXTJOIN(", ", TRUE, _xlfn._xlws.FILTER('5. Raw salary data'!A47:A1342, '5. Raw salary data'!C47:C1342=A47))} -> PO-IMA-03, PO-LES-IM-03
A48: 79953 | B48: {=_xlfn.TEXTJOIN(", ", TRUE, _xlfn._xlws.FILTER('5. Raw salary data'!A48:A1343, '5. Raw salary data'!C48:C1343=A48))} -> PO-LES-TO-01, PO-TCO-01
A49: 95861 | B49: {=_xlfn.TEXTJOIN(", ", TRUE, _xlfn._xlws.FILTER('5. Raw salary data'!A49:A1344, '5. Raw salary data'!C49:C1344=A49))} -> PO-LES-TO-03, PO-TCO-03
A50: 104489 | B50: {=_xlfn.TEXTJOIN(", ", TRUE, _xlfn._xlws.FILTER('5. Raw salary data'!A50:A1345, '5. Raw salary data'!C50:C1345=A50))} -> PO-LES-TO-04, PO-TCO-04
A51: 65640 | B51: {=_xlfn.TEXTJOIN(", ", TRUE, _xlfn._xlws.FILTER('5. Raw salary data'!A51:A1346, '5. Raw salary data'!C51:C1346=A51))} -> SC-1 (deck and engine room), SC-STD-1
A52: 67068 | B52: {=_xlfn.TEXTJOIN(", ", TRUE, _xlfn._xlws.FILTER('5. Raw salary data'!A52:A1347, '5. Raw salary data'!C52:C1347=A52))} -> SC-2 (deck and engine room), SC-STD-2
... A59: 42366.912 | B59: {=_xlfn.TEXTJOIN(", ", TRUE, _xlfn._xlws.FILTER('5. Raw salary data'!A59:A1354, '5. Raw salary data'!C59:C1354=A59))} -> SR-W (pay group 9) APC-1, SR-W (pay group 9) APD-1
B60: {=_xlfn.TEXTJOIN(", ", TRUE, _xlfn._xlws.FILTER('5. Raw salary data'!A60:A1355, '5. Raw salary data'!C60:C1355=A60))}
B61: {=_xlfn.TEXTJOIN(", ", TRUE, _xlfn._xlws.FILTER('5. Raw salary data'!A61:A1356, '5. Raw salary data'!C61:C1356=A61))}
B62: {=_xlfn.TEXTJOIN(", ", TRUE, _xlfn._xlws.FILTER('5. Raw salary data'!A62:A1357, '5. Raw salary data'!C62:C1357=A62))}
B63: {=_xlfn.TEXTJOIN(", ", TRUE, _xlfn._xlws.FILTER('5. Raw salary data'!A63:A1358, '5. Raw salary data'!C63:C1358=A63))}
B64: {=_xlfn.TEXTJOIN(", ", TRUE, _xlfn._xlws.FILTER('5. Raw salary data'!A64:A1359, '5. Raw salary data'!C84:C1359=A64))} -> #VALUE!
...

Sheet 1.1 shorter
A16: Substantive Position (group and level) | B16: List of Equivalent Positions for Alternation (Maximum Salary Minus 6%) | C16: List of Equivalent Positions for Alternation (Maximum Salary Plus 6%)
A17: ='2.1 shorter'!A2 -> AC-01 | B17: {=_xlfn.TEXTJOIN(", ",TRUE,_xlfn._xlws.FILTER('2.1 shorter'!$A$2:$A$192,('2.1 shorter'!$L$2:$L$192 >'2.1 shorter'!Q2)*('2.1 shorter'!$L$2:$L$192 <'2.1 shorter'!L2),"No matches"))} -> AG-05, BI-05, CH-05, CO-04, CT-FIN-04 , CT-EAV-05 , EC-07, EN-SUR-4, PC-05, SE-REM-1, SE-RES-3 | C17: {=_xlfn.TEXTJOIN(", ", TRUE, _xlfn._xlws.FILTER('2.1 shorter'!$A$2:$A$192, ('2.1 shorter'!$L$2:$L$192 < '2.1 shorter'!R2) * ('2.1 shorter'!$L$2:$L$192 >= '2.1 shorter'!L2) * ('2.1 shorter'!$A$2:$A$192 <> '2.1 shorter'!A2), "No matches"))} -> CT-EAV-06 , EC-08, EX-01 , SE-RES-4
A18: ='2.1 shorter'!A3 -> AC-02 | B18: {=_xlfn.TEXTJOIN(", ",TRUE,_xlfn._xlws.FILTER('2.1 shorter'!$A$2:$A$192,('2.1 shorter'!$L$2:$L$192 >'2.1 shorter'!Q3)*('2.1 shorter'!$L$2:$L$192 <'2.1 shorter'!L3),"No matches"))} -> SE-RES-5 | C18: {=_xlfn.TEXTJOIN(", ", TRUE, _xlfn._xlws.FILTER('2.1 shorter'!$A$2:$A$192, ('2.1 shorter'!$L$2:$L$192 < '2.1 shorter'!R3) * ('2.1 shorter'!$L$2:$L$192 >= '2.1 shorter'!L3) * ('2.1 shorter'!$A$2:$A$192 <> '2.1 shorter'!A3), "No matches"))} -> EX-02
A19: ='2.1 shorter'!A4 -> AG-01 | B19: {=_xlfn.TEXTJOIN(", ",TRUE,_xlfn._xlws.FILTER('2.1 shorter'!$A$2:$A$192,('2.1 shorter'!$L$2:$L$192 >'2.1 shorter'!Q4)*('2.1 shorter'!$L$2:$L$192 <'2.1 shorter'!L4),"No matches"))} -> DD-06, EC-02, EG-03, EL-03, EN-ENG-2, GT-04, TI-04 | C19: {=_xlfn.TEXTJOIN(", ", TRUE, _xlfn._xlws.FILTER('2.1 shorter'!$A$2:$A$192, ('2.1 shorter'!$L$2:$L$192 < '2.1 shorter'!R4) * ('2.1 shorter'!$L$2:$L$192 >= '2.1 shorter'!L4) * ('2.1 shorter'!$A$2:$A$192 <> '2.1 shorter'!A4), "No matches"))} -> AS-04, BI-01, CH-01, CR-07, DA-CON-7, DA-PRO-7, EC-03, EG-04, EL-04, IS-03 , IT-01 , LS-01, PC-01, PE-02, PG-03, PI-04, PM-04 , SG-SRE-02, TI-05
A20: ='2.1 shorter'!A5 -> AG-02 | B20: {=_xlfn.TEXTJOIN(", ",TRUE,_xlfn._xlws.FILTER('2.1 shorter'!$A$2:$A$192,('2.1 shorter'!$L$2:$L$192 >'2.1 shorter'!Q5)*('2.1 shorter'!$L$2:$L$192 <'2.1 shorter'!L5),"No matches"))} -> DD-08, DD-09, EC-04, EG-05, EL-05, GT-05, PE-03 | C20: {=_xlfn.TEXTJOIN(", ", TRUE, _xlfn._xlws.FILTER('2.1 shorter'!$A$2:$A$192, ('2.1 shorter'!$L$2:$L$192 < '2.1 shorter'!R5) * ('2.1 shorter'!$L$2:$L$192 >= '2.1 shorter'!L5) * ('2.1 shorter'!$A$2:$A$192 <> '2.1 shorter'!A5), "No matches"))} -> AS-05, BI-02, CH-02, CT-EAV-02 , GT-06, IS-04 , IT-02 , LS-03, PC-02, PG-04, PI-06, PM-05 , SG-SRE-03, TI-06
A21: ='2.1 shorter'!A6 -> AG-03 | B21: {=_xlfn.TEXTJOIN(", ",TRUE,_xlfn._xlws.FILTER('2.1 shorter'!$A$2:$A$192,('2.1 shorter'!$L$2:$L$192 >'2.1 shorter'!Q6)*('2.1 shorter'!$L$2:$L$192 <'2.1 shorter'!L6),"No matches"))} -> AS-06, CT-EAV-03 , EC-05, EG-07, IS-05 , LS-04, SG-SRE-04 | C21: {=_xlfn.TEXTJOIN(", ", TRUE, _xlfn._xlws.FILTER('2.1 shorter'!$A$2:$A$192, ('2.1 shorter'!$L$2:$L$192 < '2.1 shorter'!R6) * ('2.1 shorter'!$L$2:$L$192 >= '2.1 shorter'!L6) * ('2.1 shorter'!$A$2:$A$192 <> '2.1 shorter'!A6), "No matches"))} -> BI-03, CH-03, EL-07, EN-ENG-4, EN-SUR-2, GT-07, IT-03 , PC-03, PE-05, PG-05
A22: ='2.1 shorter'!A7 -> AG-04 | B22: {=_xlfn.TEXTJOIN(", ",TRUE,_xlfn._xlws.FILTER('2.1 shorter'!$A$2:$A$192,('2.1 shorter'!$L$2:$L$192 >'2.1 shorter'!Q7)*('2.1 shorter'!$L$2:$L$192 <'2.1 shorter'!L7),"No matches"))} -> CT-FIN-03, CT-EAV-04 , EC-06, EG-08, EN-SUR-3, PG-06, SE-RES-2, SG-SRE-06 | C22: {=_xlfn.TEXTJOIN(", ", TRUE, _xlfn._xlws.FILTER('2.1 shorter'!$A$2:$A$192, ('2.1 shorter'!$L$2:$L$192 < '2.1 shorter'!R7) * ('2.1 shorter'!$L$2:$L$192 >= '2.1 shorter'!L7) * ('2.1 shorter'!$A$2:$A$192 <> '2.1 shorter'!A7), "No matches"))} -> BI-04, CH-04, CO-03, EL-09, EN-ENG-5, GT-08, IT-04 , LS-05, PC-04, SE-RES-3
A23: ='2.1 shorter'!A8 -> AG-05 | B23: {=_xlfn.TEXTJOIN(", ",TRUE,_xlfn._xlws.FILTER('2.1 shorter'!$A$2:$A$192,('2.1 shorter'!$L$2:$L$192 >'2.1 shorter'!Q8)*('2.1 shorter'!$L$2:$L$192 <'2.1 shorter'!L8),"No matches"))} -> CO-03, CT-EAV-05 , EC-07, EN-ENG-5, EN-SUR-4, IT-04 , SE-REM-1, SE-RES-3 | C23: {=_xlfn.TEXTJOIN(", ", TRUE, _xlfn._xlws.FILTER('2.1 shorter'!$A$2:$A$192, ('2.1 shorter'!$L$2:$L$192 < '2.1 shorter'!R8) * ('2.1 shorter'!$L$2:$L$192 >= '2.1 shorter'!L8) * ('2.1 shorter'!$A$2:$A$192 <> '2.1 shorter'!A8), "No matches"))} -> AC-01, BI-05, CH-05, CO-04, CT-FIN-04 , EC-08, PC-05
A24: ='2.1 shorter'!A9 -> AS-01 | B24: {=_xlfn.TEXTJOIN(", ",TRUE,_xlfn._xlws.FILTER('2.1 shorter'!$A$2:$A$192,('2.1 shorter'!$L$2:$L$192 >'2.1 shorter'!Q9)*('2.1 shorter'!$L$2:$L$192 <'2.1 shorter'!L9),"No matches"))} -> CR-05, DA-CON-4, EG-01, GL-MAN-7, GT-02, PI-01, PY-05, ST-SCY-4 | C24: {=_xlfn.TEXTJOIN(", ", TRUE, _xlfn._xlws.FILTER('2.1 shorter'!$A$2:$A$192, ('2.1 shorter'!$L$2:$L$192 < '2.1 shorter'!R9) * ('2.1 shorter'!$L$2:$L$192 >= '2.1 shorter'!L9) * ('2.1 shorter'!$A$2:$A$192 <> '2.1 shorter'!A9), "No matches"))} -> DA-CON-5, DA-PRO-5, DD-04, EC-01, EN-ENG-1, GL-MAN-8, GL-MAN-9, IS-01 , PG-01, PI-02, PM-01 , PY-06, TI-03
A25: ='2.1 shorter'!A10 -> AS-02 | B25: {=_xlfn.TEXTJOIN(", ",TRUE,_xlfn._xlws.FILTER('2.1 shorter'!$A$2:$A$192,('2.1 shorter'!$L$2:$L$192 >'2.1 shorter'!Q10)*('2.1 shorter'!$L$2:$L$192 <'2.1 shorter'!L10),"No matches"))} -> DA-CON-5, DA-PRO-5, DD-04, EC-01, EN-ENG-1, GL-MAN-9, PG-01, PI-02, PY-06, TI-03 | C25: {=_xlfn.TEXTJOIN(", ", TRUE, _xlfn._xlws.FILTER('2.1 shorter'!$A$2:$A$192, ('2.1 shorter'!$L$2:$L$192 < '2.1 shorter'!R10) * ('2.1 shorter'!$L$2:$L$192 >= '2.1 shorter'!L10) * ('2.1 shorter'!$A$2:$A$192 <> '2.1 shorter'!A10), "No matches"))} -> CO-DEV, CR-06, DA-CON-6, DD-05, EG-02, EL-02, GL-MAN-10, GL-MAN-11, GT-03, IS-02 , PI-03, PM-02 , PY-07
A26: ='2.1 shorter'!A11 -> AS-03 | B26: {=_xlfn.TEXTJOIN(", ",TRUE,_xlfn._xlws.FILTER('2.1 shorter'!$A$2:$A$192,('2.1 shorter'!$L$2:$L$192 >'2.1 shorter'!Q11)*('2.1 shorter'!$L$2:$L$192 <'2.1 shorter'!L11),"No matches"))} -> CO-DEV, CR-06, DA-CON-6, DA-PRO-6, DD-05, EL-02, GL-MAN-11, GT-03, PI-03, PY-07 | C26: {=_xlfn.TEXTJOIN(", ", TRUE, _xlfn._xlws.FILTER('2.1 shorter'!$A$2:$A$192, ('2.1 shorter'!$L$2:$L$192 < '2.1 shorter'!R11) * ('2.1 shorter'!$L$2:$L$192 >= '2.1 shorter'!L11) * ('2.1 shorter'!$A$2:$A$192 <> '2.1 shorter'!A11), "No matches"))} -> DD-06, EC-02, EG-03, EL-03, GL-MAN-12, PE-01, PG-02, PM-03 , TI-04
A27: ='2.1 shorter'!A12 -> AS-04 | B27: {=_xlfn.TEXTJOIN(", ",TRUE,_xlfn._xlws.FILTER('2.1 shorter'!$A$2:$A$192,('2.1 shorter'!$L$2:$L$192 >'2.1 shorter'!Q12)*('2.1 shorter'!$L$2:$L$192 <'2.1 shorter'!L12),"No matches"))} -> AG-01, BI-01, CH-01, CR-07, DA-CON-7, DD-06, EG-03, EL-03, EN-ENG-2, GT-04, PC-01, PI-04 | C27: {=_xlfn.TEXTJOIN(", ", TRUE, _xlfn._xlws.FILTER('2.1 shorter'!$A$2:$A$192, ('2.1 shorter'!$L$2:$L$192 < '2.1 shorter'!R12) * ('2.1 shorter'!$L$2:$L$192 >= '2.1 shorter'!L12) * ('2.1 shorter'!$A$2:$A$192 <> '2.1 shorter'!A12), "No matches"))} -> CO-01, DA-CON-8, DA-PRO-7, DD-07, EC-03, EG-04, EL-04, EN-SUR-1, IS-03 , IT-01 , LS-01, LS-02, PE-02, PG-03, PM-04 , SG-SRE-02, TI-05
A28: ='2.1 shorter'!A13 -> AS-05 | B28: {=_xlfn.TEXTJOIN(", ",TRUE,_xlfn._xlws.FILTER('2.1 shorter'!$A$2:$A$192,('2.1 shorter'!$L$2:$L$192 >'2.1 shorter'!Q13)*('2.1 shorter'!$L$2:$L$192 <'2.1 shorter'!L13),"No matches"))} -> AG-02, BI-02, CH-02, DD-09, EG-05, EL-05, PC-02, PE-03, PI-06, TI-06 | C28: {=_xlfn.TEXTJOIN(", ", TRUE, _xlfn._xlws.FILTER('2.1 shorter'!$A$2:$A$192, ('2.1 shorter'!$L$2:$L$192 < '2.1 shorter'!R13) * ('2.1 shorter'!$L$2:$L$192 >= '2.1 shorter'!L13) * ('2.1 shorter'!$A$2:$A$192 <> '2.1 shorter'!A13), "No matches"))} -> CT-EAV-02 , EG-06, GT-06, IS-04 , IT-02 , LS-03, PG-04, PM-05 , SG-SRE-03
... A207: ='2.1 shorter'!A192 -> TI-06 | B207: {=_xlfn.TEXTJOIN(", ",TRUE,_xlfn._xlws.FILTER('2.1 shorter'!$A$2:$A$192,('2.1 shorter'!$L$2:$L$192 >'2.1 shorter'!Q192)*('2.1 shorter'!$L$2:$L$192 <'2.1 shorter'!L192),"No matches"))} -> AG-02, BI-02, CH-02, DD-08, DD-09, EC-04, EG-05, EL-05, GT-05, PC-02, PE-03 | C207: {=_xlfn.TEXTJOIN(", ", TRUE, _xlfn._xlws.FILTER('2.1 shorter'!$A$2:$A$192, ('2.1 shorter'!$L$2:$L$192 < '2.1 shorter'!R192) * ('2.1 shorter'!$L$2:$L$192 >= '2.1 shorter'!L192) * ('2.1 shorter'!$A$2:$A$192 <> '2.1 shorter'!A192), "No matches"))} -> AS-05, CT-EAV-02 , GT-06, IS-04 , IT-02 , LS-03, PG-04, PI-06, PM-05 , SG-SRE-03

Sheet 2.1 shorter
A1: Substantive Position (group and level) | B1: Effective Date | C1: Annual Rates of Pay (in Dollars) | L1: Max Salary (annual) | M1: 2019-20 Maximum Performance Pay Rate | N1: Bilingual Bonus | P1: Total Salary | Q1: Max Salary Minus 6% | R1: Max Salary Plus 6% | S1: helper column | T1: Test
A2: AC-01 | B2: D) October 1, 2025 | L2: 154237 | P2: 0 | Q2: =SUM(L2*0.94) -> 144982.78 | R2: =SUM(L2*1.06) -> 163491.22 | S2: =IF(COUNTIF(L$2:L$192, L2)>1, "Duplicate", "") | T2: {=_xlfn.TEXTJOIN(",",TRUE,_xlfn._xlws.FILTER('2.1 shorter'!$A$2:$A$192,('2.1 shorter'!$L$2:$L$192 >'2.1 shorter'!Q2)*('2.1 shorter'!$L$2:$L$192 <'2.1 shorter'!L2),"No matches"))} -> AG-05,BI-05,CH-05,CO-04,CT-FIN-04 ,CT-EAV-05 ,EC-07,EN-SUR-4,PC-05,SE-REM-1,SE-RES-3 | U2: AC rates of pay | AJ2: ED
A3: AC-02 | B3: D) October 1, 2025 | L3: 179553 | Q3: =SUM(L3*0.94) -> 168779.82 | R3: =SUM(L3*1.06) -> 190326.18 | S3: =IF(COUNTIF(L$2:L$192, L3)>1, "Duplicate", "") | T3: {=_xlfn.TEXTJOIN(",",TRUE,_xlfn._xlws.FILTER('2.1 shorter'!$A$2:$A$192,('2.1 shorter'!$L$2:$L$192 <'2.1 shorter'!R3)*('2.1 shorter'!$L$2:$L$192 >='2.1 shorter'!L3),"No matches"))} -> AC-02,EX-02 | W3: =IF(COUNTIF(L:L, L2)>1, "Duplicate", "") | AJ3: EU
A4: AG-01 | B4: D) October 1, 2025 | L4: 85423 | Q4: =SUM(L4*0.94) -> 80297.62 | R4: =SUM(L4*1.06) -> 90548.38 | S4: =IF(COUNTIF(L$2:L$192, L4)>1, "Duplicate", "") -> Duplicate | U4: AG rates of pay
A5: AG-02 | B5: D) October 1, 2025 | L5: 101162 | Q5: =SUM(L5*0.94) -> 95092.28 | R5: =SUM(L5*1.06) -> 107231.72 | S5: =IF(COUNTIF(L$2:L$192, L5)>1, "Duplicate", "") -> Duplicate
A6: AG-03 | B6: D) October 1, 2025 | L6: 120292 | Q6: =SUM(L6*0.94) -> 113074.48 | R6: =SUM(L6*1.06) -> 127509.52 | S6: =IF(COUNTIF(L$2:L$192, L6)>1, "Duplicate", "") -> Duplicate
A7: AG-04 | B7: D) October 1, 2025 | L7: 137710 | Q7: =SUM(L7*0.94) -> 129447.4 | R7: =SUM(L7*1.06) -> 145972.6 | S7: =IF(COUNTIF(L$2:L$192, L7)>1, "Duplicate", "") -> Duplicate
A8: AG-05 | B8: D) October 1, 2025 | L8: 150293 | Q8: =SUM(L8*0.94) -> 141275.42 | R8: =SUM(L8*1.06) -> 159310.58 | S8: =IF(COUNTIF(L$2:L$192, L8)>1, "Duplicate", "") -> Duplicate
A9: AS-01 | B9: Z) June 21, 2024 - Wage Adjustment | C9: 61786 | D9: 64135 | E9: 66572 | F9: 69106 | L9: =MAX(C9:K9) -> 69106 | N9: 800 | P9: =SUM(L9:N9) -> 69906 | Q9: =SUM(L9*0.94) -> 64959.64 | R9: =SUM(L9*1.06) -> 73252.36 | S9: =IF(COUNTIF(L$2:L$192, L9)>1, "Duplicate", "") -> Duplicate | U9: AS rates of pay
A10: AS-02 | B10: Z) June 21, 2024 - Wage Adjustment | C10: 68849 | D10: 71464 | E10: 74180 | L10: =MAX(C10:K10) -> 74180 | N10: 800 | P10: =SUM(L10:N10) -> 74980 | Q10: =SUM(L10*0.94) -> 69729.2 | R10: =SUM(L10*1.06) -> 78630.8 | S10: =IF(COUNTIF(L$2:L$192, L10)>1, "Duplicate", "") -> Duplicate
A11: AS-03 | B11: Z) June 21, 2024 - Wage Adjustment | C11: 73798 | D11: 76599 | E11: 79511 | L11: =MAX(C11:K11) -> 79511 | N11: 800 | P11: =SUM(L11:N11) -> 80311 | Q11: =SUM(L11*0.94) -> 74740.34 | R11: =SUM(L11*1.06) -> 84281.66 | S11: =IF(COUNTIF(L$2:L$192, L11)>1, "Duplicate", "") -> Duplicate
A12: AS-04 | B12: Z) June 21, 2024 - Wage Adjustment | C12: 80612 | D12: 83675 | E12: 87108 | L12: =MAX(C12:K12) -> 87108 | N12: 800 | P12: =SUM(L12:N12) -> 87908 | Q12: =SUM(L12*0.94) -> 81881.52 | R12: =SUM(L12*1.06) -> 92334.48 | S12: =IF(COUNTIF(L$2:L$192, L12)>1, "Duplicate", "") -> Duplicate
