Workbook
Name AG_03: Tableau_outil_de_recherche_1_1[Poste de départ (groupe et niveau)]
Name Coordonnees_texte: '1. Instructions'!$C$25
Name Exemple_PM_2_Moin_6_pourcent: '1. Instructions'!$C$15
Name Exemple_PM_2_Plus_6_pourcent: '1. Instructions'!$C$16
Name Exemple_puce_1_sur_2: '1. Instructions'!$B$15
Name Exemple_puce_2_sur_2: '1. Instructions'!$B$16
Name Guide_des_postes_potentiellement_équivalents_pour_échange_de_postes___salaire_maximal_MOINS_6: Tableau_outil_de_recherche_1_1[[#Headers],[ Guide des postes potentiellement équivalents pour échange de postes (salaire maximal MOINS 6%)]]
Name H1_A_propos: '1. Instructions'!$B$1
Name H1_Groupes_professionnels: '3. Groupe professionnel'!$B$1
Name H1_Outil_de_recherche: '2. Recherche d’équivalence'!$B$1
Name H2_Commencez_ici: '1. Instructions'!$B$17
Name H2_Coordonnes: '1. Instructions'!$B$23
Name H2_Exemple: '1. Instructions'!$B$13
Name H2_Instructions: '1. Instructions'!$B$7
Name H2_Objectif: '1. Instructions'!$B$2
Name H2_Remarques: '1. Instructions'!$B$19
Name Instructions_element_1_de_la_liste: '1. Instructions'!$C$8
Name Instructions_element_2_de_la_liste: '1. Instructions'!$C$9
Name Instructions_element_3_de_la_liste: '1. Instructions'!$C$10
Name Instructions_element_3a_de_la_liste: '1. Instructions'!$C$11
Name Instructions_element_3b_de_la_list: '1. Instructions'!$C$12
Name Lien_a_la_liste_deroulante: '1. Instructions'!$B$18
Name Liste_des_postes_équivalents_pour_échange_de_postes___salaire_maximal_PLUS__6: Tableau_outil_de_recherche_1_1[[#Headers],[Liste des postes équivalents pour échange de postes (salaire maximal PLUS 6%)]]
Name Menu_deroulant_poste_de_depart: Tableau_outil_de_recherche_1_1[Poste de départ (groupe et niveau)]
Name Menu_recherche_substantif: #REF!
Name Objectif_puce_1_sur_4: '1. Instructions'!$B$3
Name Objectif_puce_1_texte: '1. Instructions'!$C$3
Name Objectif_puce_2_sur_4: '1. Instructions'!$B$4
Name Objectif_puce_2_texte: '1. Instructions'!$C$4
Name Objectif_puce_3_sur_4: '1. Instructions'!$B$5
Name Objectif_puce_3_texte: '1. Instructions'!$C$5
Name Objectif_puce_4_sur_4: '1. Instructions'!$B$6
Name Objectif_puce_4_texte: '1. Instructions'!$C$6
Name Poste_de_départ__groupe_et_niveau: Tableau_outil_de_recherche_1_1[[#Headers],[Poste de départ (groupe et niveau)]]
Name Remarque_puce_2_sur_3: '1. Instructions'!$B$21
Name Remarque_puce_3_sur_3: '1. Instructions'!$B$22
Name Remarques_puce_1_sur_3: '1. Instructions'!$B$20
Name Remarques_puce_1_texte: '1. Instructions'!$C$20
Name Remarques_puce_2_texte: '1. Instructions'!$C$21
Name Remarques_puce_3_texte: '1. Instructions'!$C$22
Name Signifie_puce_1_sur_5: '2. Recherche d’équivalence'!$B$4
Name Signifie_puce_1_texte: '2. Recherche d’équivalence'!$C$4
Name Signifie_puce_2_sur_5: '2. Recherche d’équivalence'!$B$5
Name Signifie_puce_2_texte: '2. Recherche d’équivalence'!$C$5
Name Signifie_puce_3_sur_5: '2. Recherche d’équivalence'!$B$6
Name Signifie_puce_3_texte: '2. Recherche d’équivalence'!$C$6
Name Signifie_puce_4_sur_5: '2. Recherche d’équivalence'!$B$7
Name Signifie_puce_4_texte: '2. Recherche d’équivalence'!$C$7
Name Signifie_puce_5_sur_5: '2. Recherche d’équivalence'!$B$8
Name Signifie_puce_5_texte: '2. Recherche d’équivalence'!$C$8
Name Substantif_plus_6_pourcent: #REF!

Sheet 1. Instructions
A1: Lire les cellules B1 à C24. | B1: À propos de l'outil de recherche d'équivalence pour échange de postes
B2: Objectif de cet outil
B3: · | C3: Cet outil vous aide à comparer des postes (également appelés groupes et niveaux professionnels) dans l’administration publique centrale (APC) ayant une rémunération similaire et avec lesquels vous pouvez échanger de postes.
B4: · | C4: Il est conçu pour les employés de l’APC qui envisagent un échange de postes en vertu de la Directive sur le réaménagement des effectifs ou de l'annexe de la convention collective applicable.
B5: · | C5: Selon la directive et les annexes, les postes sont considérés comme équivalents aux fins de l’échange de postes lorsque le salaire maximal du poste comportant une rémunération supérieure n’est pas plus de 6% du salaire maximal du poste comportant une rémunération moindre.
B6: · | C6: Les utilisateurs (- trices) devraient noter que, sous l'onglet 2 – Recherche d'équivalence, la colonne C sert à valider l'équivalence des postes, lorsque le poste de départ est celui dont la rémunération est la plus faible. La colonne D sert comme guide pour aider à déterminer les postes équivalents possibles, lorsque le poste de départ est celui dont la rémunération est plus élevée.
B7: Instructions
B8: 1. | C8: Accédez à l'onglet « Recherche d'équivalence ».
B9: 2. | C9: Allez à la cellule B10. La cellule nommée : « Menu_recherche_poste_de_départ »
B10: 3. | C10: Sélectionnez (ou saisissez) le groupe et niveau du poste de départ. Navigation au clavier : Alt + Flèche vers le bas
B11: a. | C11: La cellule C10 répertorie les postes dont le salaire maximal ne dépasse pas 6 % de plus du poste poste de départ. La cellule nommée : Poste_de_départ_plus_6_pourcent
B12: b. | C12: La cellule D10 répertorie les postes dont le salaire maximal n'est pas plus de 6 % moins du poste de départ. Nom de la cellule : Poste_de_départ_moins_6_pourcent
B13: Exemple
B14: PM-02
B15: · | C15: Moins 6 % inclut : AR-01, EC-01, PG-01, TI-03, etc.
B16: · | C16: Plus 6 % inclut : AS-02, CR-06, PG-01, PI-03-CGC, etc.
B17: Commencez ici
B18: · | C18: Accédez à la cellule B10 pour saisir le poste que vous voulez rechercher.
B19: Remarques
B20: · | C20: Vous devez satisfaire à toutes les exigences du poste.
B21: · | C21: Cet outil est fourni à titre indicatif seulement et peut être mis à jour.
B22: · | C22: Si votre salaire annuel est calculé en fonction d’une semaine de travail de plus de 40 heures, veuillez communiquer avec votre conseillère ou conseiller en ressources humaines afin de déterminer les postes équivalents.
B23: Coordonnées
B24: · | C24: Communiquez avec votre conseiller ou conseillère en ressources humaines pour les groupes manquants ou pour demander un autre format.

Sheet 2. Recherche d’équivalence
A1: Lisez les colonnes B et C, ranger 1 à 8; ensuite, lisez les colonnes B, C et D pour les lignes 9 et 10. | B1: Outil de recherche d'équivalence pour échange de postes
B2: Note: | C2: Si vous choisissez de faire un échange de postes avec un poste équivalent, vous serez alors assujetti aux termes et conditions d’emploi du nouveau poste.
B3: Ce que signifie l'équivalence salariale de 6 %
B4: · | C4: Lorsqu’un employé de l’administration publique centrale, touché par un réaménagement des effectifs (un employé « optant » ou « excédentaire - Option A»), souhaite participer à un échange de postes — c’est-à-dire échanger son poste avec celui d’une personne non touchée — il doit normalement passer à un poste du même groupe et niveau.
B5: · | C5: Cependant, si l’autre poste n’est pas du même groupe ou niveau, il peut tout de même être considéré comme un jumelage valide lorsque les postes sont considérés comme équivalents. Les postes sont considérés comme équivalents si le taux de rémunération maximal (salaire maximum) du poste comportant une rémunération supérieure ne dépasse pas 6 % de plus du taux de rémunération maximal du poste comportant une rémunération moindre.
B6: · | C6: La règle d’équivalence salariale de 6 % garantit que, lors d’un réaménagement des effectifs, les employés ne sont pas limités uniquement à des postes identiques — mais peuvent également passer à des postes équivalents, ce qui assure des possibilités pratiques de transition professionnelle.
B7: · | C7: La colonne C de l'outil présente les postes dont le salaire annuel maximal n’est pas plus que 6 % plus haut que le salaire maximal du poste comportant une rémunération moindre (le poste de départ) et pour lequel la recherche est effectuée. Pour utiliser cette fonction afin de confirmer si un échange de postes est possible, vous devez d'abord connaître le groupe et le niveau du poste comportant une rémunération moindre proposé pour l'échange de postes.
B8: · | C8: La colonne D fournit aux employés un guide pour déterminer quels postes se situent environ 6 % en dessous du salaire maximal du poste de départ et qui pourraient être considérés comme équivalents pour un échange de postes. Étant donné que le calcul est basé sur le salaire du poste comportant une rémunération supérieure, les utilisateurs (-trices) doivent toujours utiliser les informations de cette colonne comme guide pour identifier les équivalences possibles. Pour confirmer si les postes sont équivalents, les utilisateurs doivent indiquer le poste comportant une rémunération moindre dans la colonne B10.
B9: Poste de départ (groupe et niveau) | C9: Liste des postes équivalents pour échange de postes (salaire maximal PLUS 6%) | D9: Guide des postes potentiellement équivalents pour échange de postes (salaire maximal MOINS 6%)
B10: BI-05 | C10: =_xlfn.XLOOKUP(B10, '4. Table de référence'!A2:A1297, '4. Table de référence'!B2:B1297, "") -> AC-01, AG-05, AO-CAI-03, AO-HPS-02, AR-06, CH-05, CO-04, CT-FIN-04 , DE-02, EC-08, EN-ENG-05, FB-8, NU-CHN-8, NU-HOS-8, PC-05, PS-5, SG-PAT-06, SG-SRE-08, SO-INS-02, SO-MAO-11, VM-5 | D10: =_xlfn.XLOOKUP(B10, '4. Table de référence'!A2:A1297, '4. Table de référence'!C2:C1297, "") -> AI-07, AO-CAI-02, AO-HPS-01, AR-05, CO-03, CT-EAV-05 , DS-4, EC-07, EN-SUR-04, FB-7, FO-04, FS-03, IT-04, MA-06, MT-07, NU-CHN-7, NU-HOS-7, PH-03, SE-REM-1, SE-RES-3, SG-PAT-07, SG-SRE-07, SO-INS-01, SO-MAO-10, TI-08 Aviation, TI-08 Marine, VM-4

Sheet 1.1 shorter
A16: Substantive Position (group and level) | B16: List of Equivalent Positions for Alternation (Maximum Salary Minus 6%) | C16: List of Equivalent Positions for Alternation (Maximum Salary Plus 6%)
A17: ='2.1 shorter'!A2 -> AC-01 | B17: {=_xlfn.TEXTJOIN(", ",TRUE,_xlfn._xlws.FILTER('2.1 shorter'!$A$2:$A$192,('2.1 shorter'!$L$2:$L$192 >'2.1 shorter'!Q2)*('2.1 shorter'!$L$2:$L$192 <'2.1 shorter'!L2),"No matches"))} -> AG-05, BI-05, CH-05, CO-04, CT-FIN-04 , CT-EAV-05 , EC-07, EN-SUR-4, PC-05, SE-REM-1, SE-RES-3 | C17: {=_xlfn.TEXTJOIN(", ", TRUE, _xlfn._xlws.FILTER('2.1 shorter'!$A$2:$A$192, ('2.1 shorter'!$L$2:$L$192 < '2.1 shorter'!R2) * ('2.1 shorter'!$L$2:$L$192 >= '2.1 shorter'!L2) * ('2.1 shorter'!$A$2:$A$192 <> '2.1 shorter'!A2), "No matches"))} -> CT-EAV-06 , EC-08, EX-01 , SE-RES-4
A18: ='2.1 shorter'!A3 -> AC-02 | B18: {=_xlfn.TEXTJOIN(", ",TRUE,_xlfn._xlws.FILTER('2.1 shorter'!$A$2:$A$192,('2.1 shorter'!$L$2:$L$192 >'2.1 shorter'!Q3)*('2.1 shorter'!$L$2:$L$192 <'2.1 shorter'!L3),"No matches"))} -> SE-RES-5 | C18: {=_xlfn.TEXTJOIN(", ", TRUE, _xlfn._xlws.FILTER('2.1 shorter'!$A$2:$A$192, ('2.1 shorter'!$L$2:$L$192 < '2.1 shorter'!R3) * ('2.1 shorter'!$L$2:$L$192 >= '2.1 shorter'!L3) * ('2.1 shorter'!$A$2:$A$192 <> '2.1 shorter'!A3), "No matches"))} -> EX-02
A19: ='2.1 shorter'!A4 -> AG-01 | B19: {=_xlfn.TEXTJOIN(", ",TRUE,_xlfn._xlws.FILTER('2.1 shorter'!$A$2:$A$192,('2.1 shorter'!$L$2:$L$192 >'2.1 shorter'!Q4)*('2.1 shorter'!$L$2:$L$192 <'2.1 shorter'!L4),"No matches"))} -> DD-06, EC-02, EG-03, EL-03, EN-ENG-2, GT-04, TI-04 | C19: {=_xlfn.TEXTJOIN(", ", TRUE, _xlfn._xlws.FILTER('2.1 shorter'!$A$2:$A$192, ('2.1 shorter'!$L$2:$L$192 < '2.1 shorter'!R4) * ('2.1 shorter'!$L$2:$L$192 >= '2.1 shorter'!L4) * ('2.1 shorter'!$A$2:$A$192 <> '2.1 shorter'!A4), "No matches"))} -> AS-04, BI-01, CH-01, CR-07, DA-CON-7, DA-PRO-7, EC-03, EG-04, EL-04, IS-03 , IT-01 , LS-01, PC-01, PE-02, PG-03, PI-04, PM-04 , SG-SRE-02, TI-05
A20: ='2.1 shorter'!A5 -> AG-02 | B20: {=_xlfn.TEXTJOIN(", ",TRUE,_xlfn._xlws.FILTER('2.1 shorter'!$A$2:$A$192,('2.1 shorter'!$L$2:$L$192 >'2.1 shorter'!Q5)*('2.1 shorter'!$L$2:$L$192 <'2.1 shorter'!L5),"No matches"))} -> DD-08, DD-09, EC-04, EG-05, EL-05, GT-05, PE-03 | C20: {=_xlfn.TEXTJOIN(", ", TRUE, _xlfn._xlws.FILTER('2.1 shorter'!$A$2:$A$192, ('2.1 shorter'!$L$2:$L$192 < '2.1 shorter'!R5) * ('2.1 shorter'!$L$2:$L$192 >= '2.1 shorter'!L5) * ('2.1 shorter'!$A$2:$A$192 <> '2.1 shorter'!A5), "No matches"))} -> AS-05, BI-02, CH-02, CT-EAV-02 , GT-06, IS-04 , IT-02 , LS-03, PC-02, PG-04, PI-06, PM-05 , SG-SRE-03, TI-06
A21: ='2.1 shorter'!A6 -> AG-03 | B21: {=_xlfn.TEXTJOIN(", ",TRUE,_xlfn._xlws.FILTER('2.1 shorter'!$A$2:$A$192,('2.1 shorter'!$L$2:$L$192 >'2.1 shorter'!Q6)*('2.1 shorter'!$L$2:$L$192 <'2.1 shorter'!L6),"No matches"))} -> AS-06, CT-EAV-03 , EC-05, EG-07, IS-05 , LS-04, SG-SRE-04 | C21: {=_xlfn.TEXTJOIN(", ", TRUE, _xlfn._xlws.FILTER('2.1 shorter'!$A$2:$A$192, ('2.1 shorter'!$L$2:$L$192 < '2.1 shorter'!R6) * ('2.1 shorter'!$L$2:$L$192 >= '2.1 shorter'!L6) * ('2.1 shorter'!$A$2:$A$192 <> '2.1 shorter'!A6), "No matches"))} -> BI-03, CH-03, EL-07, EN-ENG-4, EN-SUR-2, GT-07, IT-03 , PC-03, PE-05, PG-05
A22: ='2.1 shorter'!A7 -> AG-04 | B22: {=_xlfn.TEXTJOIN(", ",TRUE,_xlfn._xlws.FILTER('2.1 shorter'!$A$2:$A$192,('2.1 shorter'!$L$2:$L$192 >'2.1 shorter'!Q7)*('2.1 shorter'!$L$2:$L$192 <'2.1 shorter'!L7),"No matches"))} -> CT-FIN-03, CT-EAV-04 , EC-06, EG-08, EN-SUR-3, PG-06, SE-RES-2, SG-SRE-06 | C22: {=_xlfn.TEXTJOIN(", ", TRUE, _xlfn._xlws.FILTER('2.1 shorter'!$A$2:$A$192, ('2.1 shorter'!$L$2:$L$192 < '2.1 shorter'!R7) * ('2.1 shorter'!$L$2:$L$192 >= '2.1 shorter'!L7) * ('2.1 shorter'!$A$2:$A$192 <> '2.1 shorter'!A7), "No matches"))} -> BI-04, CH-04, CO-03, EL-09, EN-ENG-5, GT-08, IT-04 , LS-05, PC-04, SE-RES-3
A23: ='2.1 shorter'!A8 -> AG-05 | B23: {=_xlfn.TEXTJOIN(", ",TRUE,_xlfn._xlws.FILTER('2.1 shorter'!$A$2:$A$192,('2.1 shorter'!$L$2:$L$192 >'2.1 shorter'!Q8)*('2.1 shorter'!$L$2:$L$192 <'2.1 shorter'!L8),"No matches"))} -> CO-03, CT-EAV-05 , EC-07, EN-ENG-5, EN-SUR-4, IT-04 , SE-REM-1, SE-RES-3 | C23: {=_xlfn.TEXTJOIN(", ", TRUE, _xlfn._xlws.FILTER('2.1 shorter'!$A$2:$A$192, ('2.1 shorter'!$L$2:$L$192 < '2.1 shorter'!R8) * ('2.1 shorter'!$L$2:$L$192 >= '2.1 shorter'!L8) * ('2.1 shorter'!$A$2:$A$192 <> '2.1 shorter'!A8), "No matches"))} -> AC-01, BI-05, CH-05, CO-04, CT-FIN-04 , EC-08, PC-05
A24: ='2.1 shorter'!A9 -> AS-01 | B24: {=_xlfn.TEXTJOIN(", ",TRUE,_xlfn._xlws.FILTER('2.1 shorter'!$A$2:$A$192,('2.1 shorter'!$L$2:$L$192 >'2.1 shorter'!Q9)*('2.1 shorter'!$L$2:$L$192 <'2.1 shorter'!L9),"No matches"))} -> CR-05, DA-CON-4, EG-01, GL-MAN-7, GT-02, PI-01, PY-05, ST-SCY-4 | C24: {=_xlfn.TEXTJOIN(", ", TRUE, _xlfn._xlws.FILTER('2.1 shorter'!$A$2:$A$192, ('2.1 shorter'!$L$2:$L$192 < '2.1 shorter'!R9) * ('2.1 shorter'!$L$2:$L$192 >= '2.1 shorter'!L9) * ('2.1 shorter'!$A$2:$A$192 <> '2.1 shorter'!A9), "No matches"))} -> DA-CON-5, DA-PRO-5, DD-04, EC-01, EN-ENG-1, GL-MAN-8, GL-MAN-9, IS-01 , PG-01, PI-02, PM-01 , PY-06, TI-03
A25: ='2.1 shorter'!A10 -> AS-02 | B25: {=_xlfn.TEXTJOIN(", ",TRUE,_xlfn._xlws.FILTER('2.1 shorter'!$A$2:$A$192,('2.1 shorter'!$L$2:$L$192 >'2.1 shorter'!Q10)*('2.1 shorter'!$L$2:$L$192 <'2.1 shorter'!L10),"No matches"))} -> DA-CON-5, DA-PRO-5, DD-04, EC-01, EN-ENG-1, GL-MAN-9, PG-01, PI-02, PY-06, TI-03 | C25: {=_xlfn.TEXTJOIN(", ", TRUE, _xlfn._xlws.FILTER('2.1 shorter'!$A$2:$A$192, ('2.1 shorter'!$L$2:$L$192 < '2.1 shorter'!R10) * ('2.1 shorter'!$L$2:$L$192 >= '2.1 shorter'!L10) * ('2.1 shorter'!$A$2:$A$192 <> '2.1 shorter'!A10), "No matches"))} -> CO-DEV, CR-06, DA-CON-6, DD-05, EG-02, EL-02, GL-MAN-10, GL-MAN-11, GT-03, IS-02 , PI-03, PM-02 , PY-07
A26: ='2.1 shorter'!A11 -> AS-03 | B26: {=_xlfn.TEXTJOIN(", ",TRUE,_xlfn._xlws.FILTER('2.1 shorter'!$A$2:$A$192,('2.1 shorter'!$L$2:$L$192 >'2.1 shorter'!Q11)*('2.1 shorter'!$L$2:$L$192 <'2.1 shorter'!L11),"No matches"))} -> CO-DEV, CR-06, DA-CON-6, DA-PRO-6, DD-05, EL-02, GL-MAN-11, GT-03, PI-03, PY-07 | C26: {=_xlfn.TEXTJOIN(", ", TRUE, _xlfn._xlws.FILTER('2.1 shorter'!$A$2:$A$192, ('2.1 shorter'!$L$2:$L$192 < '2.1 shorter'!R11) * ('2.1 shorter'!$L$2:$L$192 >= '2.1 shorter'!L11) * ('2.1 shorter'!$A$2:$A$192 <> '2.1 shorter'!A11), "No matches"))} -> DD-06, EC-02, EG-03, EL-03, GL-MAN-12, PE-01, PG-02, PM-03 , TI-04
A27: ='2.1 shorter'!A12 -> AS-04 | B27: {=_xlfn.TEXTJOIN(", ",TRUE,_xlfn._xlws.FILTER('2.1 shorter'!$A$2:$A$192,('2.1 shorter'!$L$2:$L$192 >'2.1 shorter'!Q12)*('2.1 shorter'!$L$2:$L$192 <'2.1 shorter'!L12),"No matches"))} -> AG-01, BI-01, CH-01, CR-07, DA-CON-7, DD-06, EG-03, EL-03, EN-ENG-2, GT-04, PC-01, PI-04 | C27: {=_xlfn.TEXTJOIN(", ", TRUE, _xlfn._xlws.FILTER('2.1 shorter'!$A$2:$A$192, ('2.1 shorter'!$L$2:$L$192 < '2.1 shorter'!R12) * ('2.1 shorter'!$L$2:$L$192 >= '2.1 shorter'!L12) * ('2.1 shorter'!$A$2:$A$192 <> '2.1 shorter'!A12), "No matches"))} -> CO-01, DA-CON-8, DA-PRO-7, DD-07, EC-03, EG-04, EL-04, EN-SUR-1, IS-03 , IT-01 , LS-01, LS-02, PE-02, PG-03, PM-04 , SG-SRE-02, TI-05
A28: ='2.1 shorter'!A13 -> AS-05 | B28: {=_xlfn.TEXTJOIN(", ",TRUE,_xlfn._xlws.FILTER('2.1 shorter'!$A$2:$A$192,('2.1 shorter'!$L$2:$L$192 >'2.1 shorter'!Q13)*('2.1 shorter'!$L$2:$L$192 <'2.1 shorter'!L13),"No matches"))} -> AG-02, BI-02, CH-02, DD-09, EG-05, EL-05, PC-02, PE-03, PI-06, TI-06 | C28: {=_xlfn.TEXTJOIN(", ", TRUE, _xlfn._xlws.FILTER('2.1 shorter'!$A$2:$A$192, ('2.1 shorter'!$L$2:$L$192 < '2.1 shorter'!R13) * ('2.1 shorter'!$L$2:$L$192 >= '2.1 shorter'!L13) * ('2.1 shorter'!$A$2:$A$192 <> '2.1 shorter'!A13), "No matches"))} -> CT-EAV-02 , EG-06, GT-06, IS-04 , IT-02 , LS-03, PG-04, PM-05 , SG-SRE-03
... A207: ='2.1 shorter'!A192 -> TI-06 | B207: {=_xlfn.TEXTJOIN(", ",TRUE,_xlfn._xlws.FILTER('2.1 shorter'!$A$2:$A$192,('2.1 shorter'!$L$2:$L$192 >'2.1 shorter'!Q192)*('2.1 shorter'!$L$2:$L$192 <'2.1 shorter'!L192),"No matches"))} -> AG-02, BI-02, CH-02, DD-08, DD-09, EC-04, EG-05, EL-05, GT-05, PC-02, PE-03 | C207: {=_xlfn.TEXTJOIN(", ", TRUE, _xlfn._xlws.FILTER('2.1 shorter'!$A$2:$A$192, ('2.1 shorter'!$L$2:$L$192 < '2.1 shorter'!R192) * ('2.1 shorter'!$L$2:$L$192 >= '2.1 shorter'!L192) * ('2.1 shorter'!$A$2:$A$192 <> '2.1 shorter'!A192), "No matches"))} -> AS-05, CT-EAV-02 , GT-06, IS-04 , IT-02 , LS-03, PG-04, PI-06, PM-05 , SG-SRE-03

Sheet 3. Groupe professionnel
A1: Glossaire des groupes professionnels | B1: Structure des groupes professionnels de l'administration publique centrale
B2: Taux de rémunération des employés de la fonction publique - Canada.ca
B3: Groupe professionnel
B4: AC: Actuariat
B5: AG: Agriculture
B6: AI: Contrôle de la circulation aérienne
B7: AO: Navigation aérienne
B8: AR: Architecture et urbanisme
B9: AS: Services administratifs
B10: BI: Sciences biologiques
B11: CH: Chimie
B12: CM: Communications
B13: CO: Commerce
... B91: WP: Programmes de bien-être social

Sheet 4. Table de référence
A1: Substantive Position (group and level) | B1: List of Equivalent Positions for Alternation (Maximum Salary Plus 6%) | C1: Guidance only - Potential list of Equivalent Positions for Alternation (Maximum Salary Minus 6%)
A2: ='5. Données salariales brutes'!A2 -> AC-01 | B2: {=_xlfn.TEXTJOIN(", ", TRUE, _xlfn._xlws.FILTER('5. Données salariales brutes'!$A$2:$A$1297, ('5. Données salariales brutes'!$C$2:$C$1297 < '5. Données salariales brutes'!D2) * ('5. Données salariales brutes'!$C$2:$C$1297 >= '5. Données salariales brutes'!C2) * ('5. Données salariales brutes'!$A$2:$A$1297 <> '5. Données salariales brutes'!A2), "No matches"))} -> AO-CAI-04, AO-HPS-03, AR-06, CT-EAV-06 , EC-08, EN-ENG-05, FB-8, FS-04, MA-07, PM-MCO-04, PS-5, SE-RES-4, SO-INS-02, SO-MAO-11, VM-5 | C2: {=_xlfn.TEXTJOIN(", ",TRUE,_xlfn._xlws.FILTER('5. Données salariales brutes'!$A$2:$A$1297,('5. Données salariales brutes'!$C$2:$C$1297 >'5. Données salariales brutes'!E2)*('5. Données salariales brutes'!$C$2:$C$1297 <'5. Données salariales brutes'!C2),"No matches"))} -> AG-05, AO-CAI-03, AO-HPS-02, BI-05, CH-05, CO-04, CT-FIN-04 , CT-EAV-05 , DE-02, DS-4, EC-07, EN-SUR-04, MA-06, MT-07, NU-CHN-7, NU-CHN-8, NU-HOS-7, NU-HOS-8, PC-05, PH-03, SE-REM-1, SE-RES-3, SG-PAT-06, SG-PAT-07, SG-SRE-08, TI-08 Aviation, VM-4
A3: ='5. Données salariales brutes'!A3 -> AC-02 | B3: {=_xlfn.TEXTJOIN(", ", TRUE, _xlfn._xlws.FILTER('5. Données salariales brutes'!$A$2:$A$1297, ('5. Données salariales brutes'!$C$2:$C$1297 < '5. Données salariales brutes'!D3) * ('5. Données salariales brutes'!$C$2:$C$1297 >= '5. Données salariales brutes'!C3) * ('5. Données salariales brutes'!$A$2:$A$1297 <> '5. Données salariales brutes'!A3), "No matches"))} -> AO-ETP-01, EN-SUR-06 | C3: {=_xlfn.TEXTJOIN(", ",TRUE,_xlfn._xlws.FILTER('5. Données salariales brutes'!$A$2:$A$1297,('5. Données salariales brutes'!$C$2:$C$1297 >'5. Données salariales brutes'!E3)*('5. Données salariales brutes'!$C$2:$C$1297 <'5. Données salariales brutes'!C3),"No matches"))} -> AO-CAI-05, AR-07, DS-6, EN-ENG-06, IT-05, SE-RES-5, SO-MAO-12
A4: ='5. Données salariales brutes'!A4 -> AC-03 | B4: {=_xlfn.TEXTJOIN(", ", TRUE, _xlfn._xlws.FILTER('5. Données salariales brutes'!$A$2:$A$1297, ('5. Données salariales brutes'!$C$2:$C$1297 < '5. Données salariales brutes'!D4) * ('5. Données salariales brutes'!$C$2:$C$1297 >= '5. Données salariales brutes'!C4) * ('5. Données salariales brutes'!$A$2:$A$1297 <> '5. Données salariales brutes'!A4), "No matches"))} -> LP-02 | C4: {=_xlfn.TEXTJOIN(", ",TRUE,_xlfn._xlws.FILTER('5. Données salariales brutes'!$A$2:$A$1297,('5. Données salariales brutes'!$C$2:$C$1297 >'5. Données salariales brutes'!E4)*('5. Données salariales brutes'!$C$2:$C$1297 <'5. Données salariales brutes'!C4),"No matches"))} -> MD-MOF-1
A5: ='5. Données salariales brutes'!A5 -> AG-01 | B5: {=_xlfn.TEXTJOIN(", ", TRUE, _xlfn._xlws.FILTER('5. Données salariales brutes'!$A$2:$A$1297, ('5. Données salariales brutes'!$C$2:$C$1297 < '5. Données salariales brutes'!D5) * ('5. Données salariales brutes'!$C$2:$C$1297 >= '5. Données salariales brutes'!C5) * ('5. Données salariales brutes'!$A$2:$A$1297 <> '5. Données salariales brutes'!A5), "No matches"))} -> AI-01, AS-04, BI-01, CH-01, CR-07, DA-CON-7, DA-PRO-7, DS-2, EC-03, ED-EST-02 (EE 8), ED-EST-02 (EE 9), ED-EST-03 (EE 6), ED-EST-04 (EE 3), ED-EST-04 (EE 4), ED-EST-05 (EE 2), ED-EST-06 (EE 1), ED-EST-04 Maritimes (EE 10), ED-EST-05 Maritimes (EE 7), ED-EST-06 Maritimes (EE 6), ED-EST-04 Québec (EE 12), ED-EST-05 Québec (EE 9), ED-EST-05 Québec (EE 10), ED-EST-06 Québec (EE 7), ED-EST-06 Québec (EE 8), ED-EST-04 Ontario (EE 8), ED-EST-05 Ontario (EE 7), ED-EST-06 Ontario (EE 4), ED-EST-06 Ontario (EE 5), ED-EST-04 Manitoba (EE 6), ED-EST-05 Manitoba (EE 4), ED-EST-05 Manitoba (EE 5), ED-EST-06 Manitoba (EE 3), ED-EST-06 Manitoba (EE 4), ED-EST-04 Saskatchewan (EE 7), ED-EST-04 Saskatchewan (EE 8), ED-EST-05 Saskatchewan (EE 5), ED-EST-05 Saskatchewan (EE 6), ED-EST-06 Saskatchewan (EE 4), ED-EST-06 Saskatchewan (EE 5), ED-EST-04 Alberta (EE 7), ED-EST-05 Alberta (EE 6), ED-EST-06 Alberta (EE 5), ED-EST-03 Colombie-Britannique (EE 9), ED-EST-04 Colombie-Britannique (EE 7), ED-EST-04 Colombie-Britannique (EE 8), ED-EST-05 Colombie-Britannique (EE 6), ED-EST-06 Colombie-Britannique (EE 4), ED-EST-06 Colombie-Britannique (EE 5), ED-LAT-02 (EE 11), ED-LAT-02 (EE 12), ED-LAT-03 (EE 10), ED-LAT-03 (EE 11), ED-LAT-04 (EE 8), ED-LAT-04 (EE 9), EG-04, EL-04, FB-2, GL-AIM-13, GL-AIM-14, GL-AMW-14, GL-COI-11, GL-COI-12, GL-EIM-10, GL-EIM-11, GL-GHW-12, GL-MAM-12, GL-MAM-13, GL-MAN-12, GL-MAN-13, GL-MDO-14, GL-MOC-13, GL-MOC-14, GL-PCF-10, GL-PCF-11, GL-PIP-11, GL-PIP-12, GL-PRW-12, GL-PRW-13, GL-SMW-9, GL-SMW-10, GL-VHE-10, GL-VHE-11, GL-WOW-12, GL-WOW-13, GS-09, HP-04, HS-PHS-08, IS-03 , IT-01, LS-01, OM-03, PC-01, PE-02, PG-03, PI-04-CGC, PM-04 , PO-IMA-02, PO-LES-TO-02, PO-LES-IM-02, PO-TCO-02, PR(S)-02, RO-03, SC-7 (utilisation de matériel et métier spécialisés), SG-SRE-02, SO-FLP-01, SR-E (Groupe salarial 3 MDO-4), SR-E (APA), SR-E (APB), SR-W (Groupe salarial 7), TI-05, WP-03 | C5: {=_xlfn.TEXTJOIN(", ",TRUE,_xlfn._xlws.FILTER('5. Données salariales brutes'!$A$2:$A$1297,('5. Données salariales brutes'!$C$2:$C$1297 >'5. Données salariales brutes'!E5)*('5. Données salariales brutes'!$C$2:$C$1297 <'5. Données salariales brutes'!C5),"No matches"))} -> DD-06, EC-02, ED-EST-01 (EE 8), ED-EST-02 (EE 7) , ED-EST-03 (EE 4), ED-EST-03 (EE 5), ED-EST-04 (EE 2), ED-EST-05 (EE 1), ED-EST-04 Maritimes (EE 8), ED-EST-04 Maritimes (EE 9), ED-EST-05 Maritimes (EE 6), ED-EST-06 Maritimes (EE 5), ED-EST-03 Québec (EE 11), ED-EST-04 Québec (EE 10), ED-EST-04 Québec (EE 11), ED-EST-05 Québec (EE 8), ED-EST-06 Québec (EE 5), ED-EST-06 Québec (EE 6), ED-EST-03 Ontario (EE 9), ED-EST-03 Ontario (EE 10), ED-EST-04 Ontario (EE 6), ED-EST-04 Ontario (EE 7), ED-EST-05 Ontario (EE 5), ED-EST-05 Ontario (EE 6), ED-EST-06 Ontario (EE 3), ED-EST-04 Manitoba (EE 4), ED-EST-04 Manitoba (EE 5), ED-EST-05 Manitoba (EE 3), ED-EST-06 Manitoba (EE 2), ED-EST-04 Saskatchewan (EE 6), ED-EST-05 Saskatchewan (EE 4), ED-EST-06 Saskatchewan (EE 3), ED-EST-03 Alberta (EE 9), ED-EST-04 Alberta (EE 5), ED-EST-04 Alberta (EE 6), ED-EST-05 Alberta (EE 4), ED-EST-05 Alberta (EE 5), ED-EST-06 Alberta (EE 3), ED-EST-06 Alberta (EE 4), ED-EST-03 Colombie-Britannique (EE 7), ED-EST-03 Colombie-Britannique (EE 8), ED-EST-04 Colombie-Britannique (EE 6), ED-EST-05 Colombie-Britannique (EE 4), ED-EST-05 Colombie-Britannique (EE 5), ED-EST-06 Colombie-Britannique (EE 3), ED-LAT-02 (EE 9), ED-LAT-02 (EE 10), ED-LAT-03 (EE 8), ED-LAT-03 (EE 9), ED-LAT-04 (EE 6), ED-LAT-04 (EE 7), EG-03, EL-03, EU-LAI-1, FB-1, GL-AIM-11, GL-AIM-12, GL-AMW-12, GL-AMW-13, GL-COI-9, GL-COI-10, GL-EIM-9, GL-ELE -14, GL-GHW-10, GL-GHW-11, GL-INM-13, GL-INM-14, GL-MAM-10, GL-MAM-11, GL-MAN-11, GL-MDO-12, GL-MDO-13, GL-MOC-11, GL-MOC-12, GL-MST-14, GL-PCF-9, GL-PIP-9, GL-PIP-10, GL-PRW-11, GL-SMW-8, GL-VHE-9, GL-WOW-11, GT-04, HP-03, HR-01, HS-HDO-08, LI-9, MA-02, PS-1, SC-5 (utilisation de matériel et métier spécialisés), SC-6 (utilisation de matériel et métier spécialisés), SG-PAT-01, SO-MAO-01, SR-E (Groupe salarial 2 ELE-2), SR-W (Groupe salarial 4), SR-W (Groupe salarial 5), SR-W (Groupe salarial 6), SR-W (Groupe salarial 9) APC-8, SR-W (Groupe salarial 9) APD-10, SW-SCW-01, SW-CHA-01, TI-04
A6: ='5. Données salariales brutes'!A6 -> AG-02 | B6: {=_xlfn.TEXTJOIN(", ", TRUE, _xlfn._xlws.FILTER('5. Données salariales brutes'!$A$2:$A$1297, ('5. Données salariales brutes'!$C$2:$C$1297 < '5. Données salariales brutes'!D6) * ('5. Données salariales brutes'!$C$2:$C$1297 >= '5. Données salariales brutes'!C6) * ('5. Données salariales brutes'!$A$2:$A$1297 <> '5. Données salariales brutes'!A6), "No matches"))} -> AS-05, BI-02, CH-02, CT-EAV-02 , CT-IAU-02, CX-2, ED-EDS-02, ED-EST-04 (EE 7), ED-EST-04 (EE 8), ED-EST-05 (EE 5), ED-EST-05 (EE 6), ED-EST-06 (EE 4), ED-EST-06 Maritimes (EE 10), ED-EST-06 Québec (EE 12), ED-EST-06 Ontario (EE 8), ED-EST-06 Ontario (EE 9), ED-EST-04 Manitoba (EE 10), ED-EST-05 Manitoba (EE 9), ED-EST-05 Manitoba (EE 10), ED-EST-06 Manitoba (EE 7), ED-EST-06 Manitoba (EE 8), ED-EST-05 Saskatchewan (EE 10), ED-EST-06 Saskatchewan (EE 9), ED-EST-06 Saskatchewan (EE 10), ED-EST-05 Alberta (EE 10), ED-EST-06 Alberta (EE 9), ED-EST-06 Alberta (EE 10), ED-EST-05 Colombie-Britannique (EE 10), ED-EST-06 Colombie-Britannique (EE 9), EU-PEI-2, FB-3, FR-2, FS-01, GL-SMW-14, GS-13, GT-06, HP-06, HR-03, IS-04 , IT-02, LS-03, LP-00, ND-ADV-1, ND-DIT-1, ND-HME-1, NU-CHN-2, NU-HOS-2, OM-04, PC-02, PG-04, PI-06-CGC, PM-05 , PM-MCO-01, PO-LES-TO-04, PO-TCO-04, PS-2, RO-05, SG-SRE-03, SO-FLP-04, SO-MAO-04, SO-RAD-03, SR-E (Groupe salarial 7), SR-E (Groupe salarial 8), SR-E (Groupe salarial 9), SR-E (Groupe salarial 10), SR-W (Groupe salarial 12), SW-SCW-03, SW-SCW-01 Travailleurs du service social clinique, SW-SCW-02 Travailleurs du service social clinique, TI-06, TI-05 Marine, VM-1, WP-04 | C6: {=_xlfn.TEXTJOIN(", ",TRUE,_xlfn._xlws.FILTER('5. Données salariales brutes'!$A$2:$A$1297,('5. Données salariales brutes'!$C$2:$C$1297 >'5. Données salariales brutes'!E6)*('5. Données salariales brutes'!$C$2:$C$1297 <'5. Données salariales brutes'!C6),"No matches"))} -> AI-02, CX-1, DD-08, DD-09, EC-04, ED-EST-03 (EE 8), ED-EST-03 (EE 9), ED-EST-04 (EE 6), ED-EST-05 (EE 4), ED-EST-06 (EE 3), ED-EST-05 Maritimes (EE 10), ED-EST-06 Maritimes (EE 9), ED-EST-06 Québec (EE 10), ED-EST-06 Québec (EE 11), ED-EST-04 Ontario (EE 10), ED-EST-05 Ontario (EE 9), ED-EST-05 Ontario (EE 10), ED-EST-06 Ontario (EE 7), ED-EST-04 Manitoba (EE 9), ED-EST-05 Manitoba (EE 7), ED-EST-05 Manitoba (EE 8), ED-EST-06 Manitoba (EE 6), ED-EST-04 Saskatchewan (EE 10), ED-EST-05 Saskatchewan (EE 8), ED-EST-05 Saskatchewan (EE 9), ED-EST-06 Saskatchewan (EE 7), ED-EST-06 Saskatchewan (EE 8), ED-EST-04 Alberta (EE 9), ED-EST-04 Alberta (EE 10), ED-EST-05 Alberta (EE 8), ED-EST-05 Alberta (EE 9), ED-EST-06 Alberta (EE 7), ED-EST-06 Alberta (EE 8), ED-EST-04 Colombie-Britannique (EE 10), ED-EST-04 Colombie-Britannique (EE 11), ED-EST-05 Colombie-Britannique (EE 8), ED-EST-05 Colombie-Britannique (EE 9), ED-EST-06 Colombie-Britannique (EE 7), ED-EST-06 Colombie-Britannique (EE 8), ED-LAT-04 (EE 11), ED-LAT-04 (EE 12), ED-LAT-04 (EE 13), EG-05, EL-05, FO-01, FR-1, GL-COI-14, GL-EIM-14, GL-PCF-14, GL-PIP-14, GL-SMW-12, GL-SMW-13, GL-VHE-13, GL-VHE-14, GS-12, GT-05, HP-05, HS-HDO-10, HS-PHS-10, MA-03, PE-03, PO-IMA-03, PO-LES-TO-03, PO-LES-IM-03, PO-TCO-03, PR(S)-03, RO-04, SO-FLP-03, SO-MAO-03, SO-RAD-02, SR-E (Groupe salarial 5), SR-E (Groupe salarial 6), TI-05 Aviation, TR-02
A7: ='5. Données salariales brutes'!A7 -> AG-03 | B7: {=_xlfn.TEXTJOIN(", ", TRUE, _xlfn._xlws.FILTER('5. Données salariales brutes'!$A$2:$A$1297, ('5. Données salariales brutes'!$C$2:$C$1297 < '5. Données salariales brutes'!D7) * ('5. Données salariales brutes'!$C$2:$C$1297 >= '5. Données salariales brutes'!C7) * ('5. Données salariales brutes'!$A$2:$A$1297 <> '5. Données salariales brutes'!A7), "No matches"))} -> AO-CAI-01, AR-04, BI-03, CH-03, ED-EDS-05, ED-EST-05 (EE 10), ED-EST-06 (EE 9), EL-07, EN-ENG-03, EN-SUR-02, FR-5, GT-07, HR-04, IT-03, MT-05, ND-HME-3, NU-CHN-5, NU-HOS-5, OP-2, PC-03, PE-05, PG-05, PH-01, PS-3, PR(S)-05, SG-PAT-04, SO-FLP-06, SO-MAO-08, SR-CPS1, SW-SCW-04, TI-08, TI-06 Marine, TI-07 Sécurité ferroviaire, TR-04, VM-2 | C7: {=_xlfn.TEXTJOIN(", ",TRUE,_xlfn._xlws.FILTER('5. Données salariales brutes'!$A$2:$A$1297,('5. Données salariales brutes'!$C$2:$C$1297 >'5. Données salariales brutes'!E7)*('5. Données salariales brutes'!$C$2:$C$1297 <'5. Données salariales brutes'!C7),"No matches"))} -> AI-03, AS-06, CT-EAV-03 , CT-IAU-03, EC-05, ED-EDS-04, ED-EST-04 (EE 10), ED-EST-05 (EE 8), ED-EST-05 (EE 9), ED-EST-06 (EE 7), ED-EST-06 (EE 8), EG-07, FB-5, FO-02, FR-4, HP-08, IS-05 , LS-04, MA-04, MT-03, MT-04, ND-ADV-2, ND-DIT-3, NU-CHN-4, NU-HOS-4, OM-05, PR(S)-04, RO-06, SG-SRE-04, SO-FLP-05, SO-MAO-07, TI-06 Aviation, TI-06 Sécurité ferroviaire, TR-03, UT-2, WP-05
A8: ='5. Données salariales brutes'!A8 -> AG-04 | B8: {=_xlfn.TEXTJOIN(", ", TRUE, _xlfn._xlws.FILTER('5. Données salariales brutes'!$A$2:$A$1297, ('5. Données salariales brutes'!$C$2:$C$1297 < '5. Données salariales brutes'!D8) * ('5. Données salariales brutes'!$C$2:$C$1297 >= '5. Données salariales brutes'!C8) * ('5. Données salariales brutes'!$A$2:$A$1297 <> '5. Données salariales brutes'!A8), "No matches"))} -> AI-07, AO-CAI-02, AO-HPS-01, AR-05, BI-04, CH-04, CO-03, DE-01, DS-4, EL-09, FB-7, FO-04, FS-03, GT-08, IT-04, LS-05, MT-06, NU-CHN-7, NU-HOS-7, PC-04, PE-06, PS-4, SE-RES-3, SG-PAT-07, SG-SRE-07, SO-INS-01, SO-MAO-10, TI-08 Marine, TI-08 Sécurité ferroviaire, TR-05, UT-3, VM-4 | C8: {=_xlfn.TEXTJOIN(", ",TRUE,_xlfn._xlws.FILTER('5. Données salariales brutes'!$A$2:$A$1297,('5. Données salariales brutes'!$C$2:$C$1297 >'5. Données salariales brutes'!E8)*('5. Données salariales brutes'!$C$2:$C$1297 <'5. Données salariales brutes'!C8),"No matches"))} -> AI-05, AI-06, AS-08, CT-FIN-03 , CT-EAV-04 , CT-IAU-04, EC-06, EG-08, EN-ENG-04, EN-SUR-03, FB-6, FO-03, FR-6, HR-05, MA-05, ND-ADV-3, ND-DIT-4, ND-HME-4, NU-CHN-6, NU-HOS-6, PG-06, PH-02, PM-07, PM-MCO-03, SE-RES-2, SG-PAT-05, SG-SRE-06, SO-MAO-09, SW-SCW-05, TI-07 Aviation, TI-07 Marine, VM-3, WP-06
A9: ='5. Données salariales brutes'!A9 -> AG-05 | B9: {=_xlfn.TEXTJOIN(", ", TRUE, _xlfn._xlws.FILTER('5. Données salariales brutes'!$A$2:$A$1297, ('5. Données salariales brutes'!$C$2:$C$1297 < '5. Données salariales brutes'!D9) * ('5. Données salariales brutes'!$C$2:$C$1297 >= '5. Données salariales brutes'!C9) * ('5. Données salariales brutes'!$A$2:$A$1297 <> '5. Données salariales brutes'!A9), "No matches"))} -> AC-01, AO-CAI-03, AO-HPS-02, AR-06, BI-05, CH-05, CO-04, CT-FIN-04 , DE-02, EC-08, EN-ENG-05, FB-8, NU-CHN-8, NU-HOS-8, PC-05, PS-5, SG-PAT-06, SG-SRE-08, SO-INS-02, SO-MAO-11, VM-5 | C9: {=_xlfn.TEXTJOIN(", ",TRUE,_xlfn._xlws.FILTER('5. Données salariales brutes'!$A$2:$A$1297,('5. Données salariales brutes'!$C$2:$C$1297 >'5. Données salariales brutes'!E9)*('5. Données salariales brutes'!$C$2:$C$1297 <'5. Données salariales brutes'!C9),"No matches"))} -> AI-07, AO-CAI-02, AO-HPS-01, AR-05, CO-03, CT-EAV-05 , DS-4, EC-07, EN-SUR-04, FB-7, FO-04, FS-03, IT-04, MA-06, MT-07, NU-CHN-7, NU-HOS-7, PH-03, SE-REM-1, SE-RES-3, SG-PAT-07, SG-SRE-07, SO-INS-01, SO-MAO-10, TI-08 Aviation, TI-08 Marine, VM-4
A10: ='5. Données salariales brutes'!A10 -> AI-01 | B10: {=_xlfn.TEXTJOIN(", ", TRUE, _xlfn._xlws.FILTER('5. Données salariales brutes'!$A$2:$A$1297, ('5. Données salariales brutes'!$C$2:$C$1297 < '5. Données salariales brutes'!D10) * ('5. Données salariales brutes'!$C$2:$C$1297 >= '5. Données salariales brutes'!C10) * ('5. Données salariales brutes'!$A$2:$A$1297 <> '5. Données salariales brutes'!A10), "No matches"))} -> AR-02, CO-01, CT-EAV-01 , CT-IAU-01 , DA-CON-8, DA-PRO-7, DD-07, ED-EDS-01, ED-EST-02 (EE 9), ED-EST-03 (EE 7), ED-EST-04 (EE 4), ED-EST-05 (EE 2), ED-EST-05 (EE 3), ED-EST-06 (EE 1), ED-EST-05 Maritimes (EE 8), ED-EST-06 Maritimes (EE 7), ED-EST-05 Québec (EE 11), ED-EST-06 Québec (EE 8), ED-EST-06 Québec (EE 9), ED-EST-04 Ontario (EE 8), ED-EST-04 Ontario (EE 9), ED-EST-05 Ontario (EE 8), ED-EST-06 Ontario (EE 5), ED-EST-04 Manitoba (EE 7), ED-EST-05 Manitoba (EE 5), ED-EST-05 Manitoba (EE 6), ED-EST-06 Manitoba (EE 4), ED-EST-04 Saskatchewan (EE 8), ED-EST-04 Saskatchewan (EE 9), ED-EST-05 Saskatchewan (EE 6), ED-EST-05 Saskatchewan (EE 7), ED-EST-06 Saskatchewan (EE 5), ED-EST-06 Saskatchewan (EE 6), ED-EST-04 Alberta (EE 8), ED-EST-05 Alberta (EE 7), ED-EST-06 Alberta (EE 5), ED-EST-06 Alberta (EE 6), ED-EST-04 Colombie-Britannique (EE 8), ED-EST-04 Colombie-Britannique (EE 9), ED-EST-05 Colombie-Britannique (EE 6), ED-EST-05 Colombie-Britannique (EE 7), ED-EST-06 Colombie-Britannique (EE 5), ED-EST-06 Colombie-Britannique (EE 6), ED-LAT-02 (EE 12), ED-LAT-02 (EE 13), ED-LAT-03 (EE 11), ED-LAT-03 (EE 12), ED-LAT-04 (EE 9), ED-LAT-04 (EE 10), EG-04, EL-04, EN-ENG-02, EN-SUR-01, FB-2, GL-AIM-14, GL-COI-12, GL-COI-13, GL-EIM-11, GL-EIM-12, GL-MAM-13, GL-MAM-14, GL-MAN-13, GL-MAN-14, GL-MOC-14, GL-PCF-12, GL-PIP-12, GL-PIP-13, GL-PRW-13, GL-PRW-14, GL-SMW-10, GL-SMW-11, GL-VHE-11, GL-VHE-12, GL-WOW-13, GL-WOW-14, GS-10, HP-04, HR-02, HS-HDO-09, IT-01, LS-01, LS-02, MT-02, OM-03, PE-02, PG-03, PR(S)-02, SC-7 (utilisation de matériel et métier spécialisés), SE-RES-1, SG-PAT-02, SG-SRE-02, SO-FLP-02, SO-MAO-02, SO-RAD-01, SR-W (Groupe salarial 8), SW-SCW-02, TI-05, UT-1, WP-03 | C10: {=_xlfn.TEXTJOIN(", ",TRUE,_xlfn._xlws.FILTER('5. Données salariales brutes'!$A$2:$A$1297,('5. Données salariales brutes'!$C$2:$C$1297 >'5. Données salariales brutes'!E10)*('5. Données salariales brutes'!$C$2:$C$1297 <'5. Données salariales brutes'!C10),"No matches"))} -> AG-01, AS-04, BI-01, CH-01, CR-07, DA-CON-7, DD-06, DS-2, EC-03, ED-EST-01 (EE 8), ED-EST-02 (EE 8), ED-EST-03 (EE 5), ED-EST-03 (EE 6), ED-EST-04 (EE 3), ED-EST-05 (EE 1), ED-EST-04 Maritimes (EE 9), ED-EST-04 Maritimes (EE 10), ED-EST-05 Maritimes (EE 6), ED-EST-05 Maritimes (EE 7), ED-EST-06 Maritimes (EE 5), ED-EST-06 Maritimes (EE 6), ED-EST-04 Québec (EE 11), ED-EST-04 Québec (EE 12), ED-EST-05 Québec (EE 9), ED-EST-05 Québec (EE 10), ED-EST-06 Québec (EE 6), ED-EST-06 Québec (EE 7), ED-EST-03 Ontario (EE 10), ED-EST-04 Ontario (EE 7), ED-EST-05 Ontario (EE 6), ED-EST-05 Ontario (EE 7), ED-EST-06 Ontario (EE 4), ED-EST-04 Manitoba (EE 5), ED-EST-04 Manitoba (EE 6), ED-EST-05 Manitoba (EE 4), ED-EST-06 Manitoba (EE 3), ED-EST-04 Saskatchewan (EE 6), ED-EST-04 Saskatchewan (EE 7), ED-EST-05 Saskatchewan (EE 5), ED-EST-06 Saskatchewan (EE 3), ED-EST-06 Saskatchewan (EE 4), ED-EST-04 Alberta (EE 6), ED-EST-04 Alberta (EE 7), ED-EST-05 Alberta (EE 5), ED-EST-05 Alberta (EE 6), ED-EST-06 Alberta (EE 4), ED-EST-03 Colombie-Britannique (EE 8), ED-EST-03 Colombie-Britannique (EE 9), ED-EST-04 Colombie-Britannique (EE 7), ED-EST-05 Colombie-Britannique (EE 5), ED-EST-06 Colombie-Britannique (EE 4), ED-LAT-02 (EE 10), ED-LAT-02 (EE 11), ED-LAT-03 (EE 9), ED-LAT-03 (EE 10), ED-LAT-04 (EE 7), ED-LAT-04 (EE 8), EL-03, FB-1, GL-AIM-13, GL-AMW-13, GL-AMW-14, GL-COI-10, GL-COI-11, GL-EIM-10, GL-GHW-12, GL-INM-14, GL-MAM-11, GL-MAM-12, GL-MAN-12, GL-MDO-13, GL-MDO-14, GL-MOC-12, GL-MOC-13, GL-PCF-10, GL-PCF-11, GL-PIP-10, GL-PIP-11, GL-PRW-12, GL-SMW-9, GL-VHE-10, GL-WOW-12, GS-09, GT-04, HS-PHS-08, IS-03 , LI-9, PC-01, PI-04-CGC, PM-04 , PO-IMA-02, PO-LES-TO-02, PO-LES-IM-02, PO-TCO-02, PS-1, RO-03, SC-6 (utilisation de matériel et métier spécialisés), SO-FLP-01, SR-E (Groupe salarial 3 MDO-4), SR-E (APA), SR-E (APB), SR-W (Groupe salarial 6), SR-W (Groupe salarial 7), SW-SCW-01
A11: ='5. Données salariales brutes'!A11 -> AI-02 | B11: {=_xlfn.TEXTJOIN(", ", TRUE, _xlfn._xlws.FILTER('5. Données salariales brutes'!$A$2:$A$1297, ('5. Données salariales brutes'!$C$2:$C$1297 < '5. Données salariales brutes'!D11) * ('5. Données salariales brutes'!$C$2:$C$1297 >= '5. Données salariales brutes'!C11) * ('5. Données salariales brutes'!$A$2:$A$1297 <> '5. Données salariales brutes'!A11), "No matches"))} -> AG-02, AS-05, BI-02, CH-02, CX-2, ED-EDS-02, ED-EST-04 (EE 7), ED-EST-04 (EE 8), ED-EST-05 (EE 5), ED-EST-05 (EE 6), ED-EST-06 (EE 4), ED-EST-06 Maritimes (EE 10), ED-EST-06 Québec (EE 12), ED-EST-06 Ontario (EE 8), ED-EST-04 Manitoba (EE 10), ED-EST-05 Manitoba (EE 9), ED-EST-05 Manitoba (EE 10), ED-EST-06 Manitoba (EE 7), ED-EST-06 Manitoba (EE 8), ED-EST-05 Saskatchewan (EE 10), ED-EST-06 Saskatchewan (EE 9), ED-EST-06 Saskatchewan (EE 10), ED-EST-05 Alberta (EE 10), ED-EST-06 Alberta (EE 9), ED-EST-05 Colombie-Britannique (EE 9), ED-EST-05 Colombie-Britannique (EE 10), ED-EST-06 Colombie-Britannique (EE 8), ED-EST-06 Colombie-Britannique (EE 9), ED-LAT-04 (EE 13), EU-PEI-2, FB-3, FR-2, FS-01, GL-SMW-14, GS-13, GT-06, HP-06, HR-03, IS-04 , IT-02, LP-00, ND-ADV-1, ND-DIT-1, ND-HME-1, NU-CHN-2, NU-HOS-2, OM-04, PC-02, PE-03, PG-04, PI-06-CGC, PM-05 , PM-MCO-01, PO-LES-TO-04, PO-TCO-04, PS-2, PR(S)-03, RO-05, SG-SRE-03, SO-FLP-03, SO-MAO-04, SO-RAD-03, SR-E (Groupe salarial 6), SR-E (Groupe salarial 7), SR-E (Groupe salarial 8), SR-E (Groupe salarial 9), SR-E (Groupe salarial 10), SR-W (Groupe salarial 12), SW-SCW-03, SW-SCW-01 Travailleurs du service social clinique, TI-06, TI-05 Marine, VM-1, WP-04 | C11: {=_xlfn.TEXTJOIN(", ",TRUE,_xlfn._xlws.FILTER('5. Données salariales brutes'!$A$2:$A$1297,('5. Données salariales brutes'!$C$2:$C$1297 >'5. Données salariales brutes'!E11)*('5. Données salariales brutes'!$C$2:$C$1297 <'5. Données salariales brutes'!C11),"No matches"))} -> CX-1, DD-08, DD-09, EC-04, ED-EST-03 (EE 8), ED-EST-03 (EE 9), ED-EST-04 (EE 6), ED-EST-05 (EE 4), ED-EST-06 (EE 2), ED-EST-06 (EE 3), ED-EST-05 Maritimes (EE 10), ED-EST-06 Maritimes (EE 9), ED-EST-06 Québec (EE 10), ED-EST-06 Québec (EE 11), ED-EST-04 Ontario (EE 10), ED-EST-05 Ontario (EE 9), ED-EST-05 Ontario (EE 10), ED-EST-06 Ontario (EE 6), ED-EST-06 Ontario (EE 7), ED-EST-04 Manitoba (EE 8), ED-EST-04 Manitoba (EE 9), ED-EST-05 Manitoba (EE 7), ED-EST-05 Manitoba (EE 8), ED-EST-06 Manitoba (EE 6), ED-EST-04 Saskatchewan (EE 10), ED-EST-05 Saskatchewan (EE 8), ED-EST-05 Saskatchewan (EE 9), ED-EST-06 Saskatchewan (EE 7), ED-EST-06 Saskatchewan (EE 8), ED-EST-04 Alberta (EE 9), ED-EST-04 Alberta (EE 10), ED-EST-05 Alberta (EE 8), ED-EST-05 Alberta (EE 9), ED-EST-06 Alberta (EE 7), ED-EST-06 Alberta (EE 8), ED-EST-04 Colombie-Britannique (EE 10), ED-EST-04 Colombie-Britannique (EE 11), ED-EST-05 Colombie-Britannique (EE 8), ED-EST-06 Colombie-Britannique (EE 7), ED-LAT-03 (EE 13), ED-LAT-04 (EE 11), ED-LAT-04 (EE 12), EG-05, EL-05, FO-01, FR-1, GL-COI-14, GL-EIM-13, GL-EIM-14, GL-PCF-13, GL-PCF-14, GL-PIP-14, GL-SMW-12, GL-SMW-13, GL-VHE-13, GL-VHE-14, GS-12, GT-05, HP-05, HS-HDO-10, HS-PHS-09, HS-PHS-10, MA-03, PO-IMA-03, PO-LES-TO-03, PO-LES-IM-03, PO-TCO-03, RO-04, SO-MAO-03, SO-RAD-02, SR-E (Groupe salarial 4 MDO-5), SR-E (Groupe salarial 5), SR-W (Groupe salarial 11), SW-CHA-02, TI-05 Aviation, TR-02
A12: ='5. Données salariales brutes'!A12 -> AI-03 | B12: {=_xlfn.TEXTJOIN(", ", TRUE, _xlfn._xlws.FILTER('5. Données salariales brutes'!$A$2:$A$1297, ('5. Données salariales brutes'!$C$2:$C$1297 < '5. Données salariales brutes'!D12) * ('5. Données salariales brutes'!$C$2:$C$1297 >= '5. Données salariales brutes'!C12) * ('5. Données salariales brutes'!$A$2:$A$1297 <> '5. Données salariales brutes'!A12), "No matches"))} -> AG-03, AS-06, BI-03, CH-03, CT-EAV-03 , CT-IAU-03, EC-05, ED-EDS-04, ED-EST-04 (EE 10), ED-EST-05 (EE 8), ED-EST-05 (EE 9), ED-EST-06 (EE 7), ED-EST-06 (EE 8), EG-07, EL-07, FB-5, FO-02, FR-4, HP-08, IS-05 , LS-04, MA-04, MT-04, ND-ADV-2, ND-DIT-3, NU-CHN-4, NU-HOS-4, OM-05, OP-2, PC-03, RO-06, SG-SRE-04, SO-FLP-05, SO-MAO-07, TI-06 Aviation, TI-06 Marine, TI-06 Sécurité ferroviaire, TR-03, UT-2, WP-05 | C12: {=_xlfn.TEXTJOIN(", ",TRUE,_xlfn._xlws.FILTER('5. Données salariales brutes'!$A$2:$A$1297,('5. Données salariales brutes'!$C$2:$C$1297 >'5. Données salariales brutes'!E12)*('5. Données salariales brutes'!$C$2:$C$1297 <'5. Données salariales brutes'!C12),"No matches"))} -> AR-03, CT-FIN-02 , CX-3, DS-3, ED-EDS-03, ED-EST-04 (EE 9), ED-EST-05 (EE 7), ED-EST-06 (EE 5), ED-EST-06 (EE 6), ED-EST-06 Ontario (EE 10), ED-EST-06 Manitoba (EE 9), ED-EST-06 Manitoba (EE 10), ED-EST-05 Colombie-Britannique (EE 11), ED-EST-06 Colombie-Britannique (EE 10), ED-EST-06 Colombie-Britannique (EE 11), EG-06, EL-06, FB-4, FR-3, HP-07, MT-03, ND-DIT-2, ND-HME-2, NU-CHN-3, NU-HOS-3, OP-1, PE-04, PI-07-CGC, PR(S)-04, SG-PAT-03, SO-MAO-05, SO-MAO-06, SR-E (Groupe salarial 11), SR-E (Groupe salarial 12), SW-SCW-03 Travailleurs du service social clinique, SW-CHA-03, TI-07
A13: ='5. Données salariales brutes'!A13 -> AI-04 | B13: {=_xlfn.TEXTJOIN(", ", TRUE, _xlfn._xlws.FILTER('5. Données salariales brutes'!$A$2:$A$1297, ('5. Données salariales brutes'!$C$2:$C$1297 < '5. Données salariales brutes'!D13) * ('5. Données salariales brutes'!$C$2:$C$1297 >= '5. Données salariales brutes'!C13) * ('5. Données salariales brutes'!$A$2:$A$1297 <> '5. Données salariales brutes'!A13), "No matches"))} -> AI-05, AS-07, CT-FIN-03 , CT-EAV-04 , CT-IAU-04, EC-06, ED-EST-06 (EE 10), EG-08, EL-08, EN-SUR-03, FB-6, FO-03, FR-6, FS-02, HP-09, HR-05, IS-06 , MA-05, ND-ADV-3, ND-DIT-4, ND-HME-4, NU-CHN-6, NU-HOS-6, PG-06, PH-02, PM-06 , PM-MCO-02, SE-RES-2, SG-SRE-06, SO-FLP-07, SO-MAO-09, SW-SCW-05, TI-07 Aviation, TI-07 Marine, VM-3, WP-06 | C13: {=_xlfn.TEXTJOIN(", ",TRUE,_xlfn._xlws.FILTER('5. Données salariales brutes'!$A$2:$A$1297,('5. Données salariales brutes'!$C$2:$C$1297 >'5. Données salariales brutes'!E13)*('5. Données salariales brutes'!$C$2:$C$1297 <'5. Données salariales brutes'!C13),"No matches"))} -> AO-CAI-01, AR-04, CO-02, ED-EDS-05, ED-EST-05 (EE 10), ED-EST-06 (EE 9), EN-ENG-03, EN-SUR-02, FR-5, GT-07, HR-04, IT-03, LP-01, MT-05, ND-HME-3, NU-CHN-5, NU-HOS-5, OP-3, PC-03, PE-05, PG-05, PH-01, PS-3, PR(S)-05, SG-PAT-04, SG-SRE-05, SO-FLP-06, SO-MAO-08, SR-CPS1, SW-SCW-04, TI-08, TI-07 Sécurité ferroviaire, TR-04, VM-2
... A1297: ='5. Données salariales brutes'!A1297 -> WP-06 | B1297: {=_xlfn.TEXTJOIN(", ", TRUE, _xlfn._xlws.FILTER('5. Données salariales brutes'!$A$2:$A$1297, ('5. Données salariales brutes'!$C$2:$C$1297 < '5. Données salariales brutes'!D1297) * ('5. Données salariales brutes'!$C$2:$C$1297 >= '5. Données salariales brutes'!C1297) * ('5. Données salariales brutes'!$A$2:$A$1297 <> '5. Données salariales brutes'!A1297), "No matches"))} -> AG-04, AI-06, AI-07, AO-CAI-02, AR-05, AS-08, BI-04, CH-04, CO-03, DE-01, EL-09, EN-ENG-04, FB-7, FO-04, FS-03, GT-08, IT-04, LS-05, MT-06, PC-04, PE-06, PM-07, PM-MCO-03, PS-4, SG-PAT-05, SG-SRE-07, SO-MAO-10, TI-08 Sécurité ferroviaire, TR-05, UT-3 | C1297: {=_xlfn.TEXTJOIN(", ",TRUE,_xlfn._xlws.FILTER('5. Données salariales brutes'!$A$2:$A$1297,('5. Données salariales brutes'!$C$2:$C$1297 >'5. Données salariales brutes'!E1297)*('5. Données salariales brutes'!$C$2:$C$1297 <'5. Données salariales brutes'!C1297),"No matches"))} -> AI-04, AI-05, AS-07, CT-FIN-03 , CT-EAV-04 , CT-IAU-04, EC-06, ED-EST-06 (EE 10), EG-08, EL-08, EN-SUR-03, FB-6, FO-03, FR-6, FS-02, HP-09, HR-05, IS-06 , LP-01, MA-05, ND-ADV-3, ND-DIT-4, ND-HME-4, NU-CHN-6, NU-HOS-6, PG-06, PH-02, PM-06 , PM-MCO-02, SE-RES-2, SG-SRE-06, SO-FLP-07, SO-MAO-09, SW-SCW-05, TI-07 Aviation, TI-07 Marine, VM-3

Sheet 5. Données salariales brutes
A1: Poste substantif (groupe et niveau) | B1: Date d'entrée en vigueur | C1: salaire maximal (annual) | D1: salaire maximal plus 6% | E1: salaire maximal moins 6% | F1: helper column | I1: test
A2: AC-01 | B2: D) October 1, 2025 | C2: 154237 | D2: =SUM(C2*1.06) -> 163491.22 | E2: =SUM(C2*0.94) -> 144982.78 | F2: =IF(COUNTIF(C$2:C$1297, C2)>1, "Duplicate", "") | G2: AC rates of pay | I2: {=_xlfn.TEXTJOIN(", ",TRUE,_xlfn._xlws.FILTER('5. Données salariales brutes'!$A$2:$A$1297,('5. Données salariales brutes'!$C$2:$C$1297 >'5. Données salariales brutes'!E2)*('5. Données salariales brutes'!$C$2:$C$1297 <'5. Données salariales brutes'!C2),"No matches"))} -> AG-05, AO-CAI-03, AO-HPS-02, BI-05, CH-05, CO-04, CT-FIN-04 , CT-EAV-05 , DE-02, DS-4, EC-07, EN-SUR-04, MA-06, MT-07, NU-CHN-7, NU-CHN-8, NU-HOS-7, NU-HOS-8, PC-05, PH-03, SE-REM-1, SE-RES-3, SG-PAT-06, SG-PAT-07, SG-SRE-08, TI-08 Aviation, VM-4 | V2: ED
A3: AC-02 | B3: D) October 1, 2025 | C3: 179553 | D3: =SUM(C3*1.06) -> 190326.18 | E3: =SUM(C3*0.94) -> 168779.82 | F3: =IF(COUNTIF(C$2:C$1297, C3)>1, "Duplicate", "") | I3: {=_xlfn.TEXTJOIN(", ", TRUE, _xlfn._xlws.FILTER('5. Données salariales brutes'!$A$2:$A$1297, ('5. Données salariales brutes'!$C$2:$C$1297 < '5. Données salariales brutes'!D2) * ('5. Données salariales brutes'!$C$2:$C$1297 >= '5. Données salariales brutes'!C2) * ('5. Données salariales brutes'!$A$2:$A$1297 <> '5. Données salariales brutes'!A2), "No matches"))} -> AO-CAI-04, AO-HPS-03, AR-06, CT-EAV-06 , EC-08, EN-ENG-05, FB-8, FS-04, MA-07, PM-MCO-04, PS-5, SE-RES-4, SO-INS-02, SO-MAO-11, VM-5 | V3: EU
A4: AC-03 | B4: D) October 1, 2025 | C4: 199274 | D4: =SUM(C4*1.06) -> 211230.44 | E4: =SUM(C4*0.94) -> 187317.56 | F4: =IF(COUNTIF(C$2:C$1297, C4)>1, "Duplicate", "")
A5: AG-01 | B5: D) October 1, 2025 | C5: 85423 | D5: =SUM(C5*1.06) -> 90548.38 | E5: =SUM(C5*0.94) -> 80297.62 | F5: =IF(COUNTIF(C$2:C$1297, C5)>1, "Duplicate", "") -> Duplicate | G5: AG rates of pay
A6: AG-02 | B6: D) October 1, 2025 | C6: 101162 | D6: =SUM(C6*1.06) -> 107231.72 | E6: =SUM(C6*0.94) -> 95092.28 | F6: =IF(COUNTIF(C$2:C$1297, C6)>1, "Duplicate", "") -> Duplicate
A7: AG-03 | B7: D) October 1, 2025 | C7: 120292 | D7: =SUM(C7*1.06) -> 127509.52 | E7: =SUM(C7*0.94) -> 113074.48 | F7: =IF(COUNTIF(C$2:C$1297, C7)>1, "Duplicate", "") -> Duplicate
A8: AG-04 | B8: D) October 1, 2025 | C8: 137710 | D8: =SUM(C8*1.06) -> 145972.6 | E8: =SUM(C8*0.94) -> 129447.4 | F8: =IF(COUNTIF(C$2:C$1297, C8)>1, "Duplicate", "") -> Duplicate
A9: AG-05 | B9: D) October 1, 2025 | C9: 150293 | D9: =SUM(C9*1.06) -> 159310.58 | E9: =SUM(C9*0.94) -> 141275.42 | F9: =IF(COUNTIF(C$2:C$1297, C9)>1, "Duplicate", "") -> Duplicate
A10: AI-01 | B10: D) July 1, 2021 | C10: 88615 | D10: =SUM(C10*1.06) -> 93931.9 | E10: =SUM(C10*0.94) -> 83298.1 | F10: =IF(COUNTIF(C$2:C$1297, C10)>1, "Duplicate", "") | G10: AI rates of pay
A11: AI-02 | B11: D) July 1, 2021 | C11: 100530 | D11: =SUM(C11*1.06) -> 106561.8 | E11: =SUM(C11*0.94) -> 94498.2 | F11: =IF(COUNTIF(C$2:C$1297, C11)>1, "Duplicate", "")
A12: AI-03 | B12: D) July 1, 2021 | C12: 114167 | D12: =SUM(C12*1.06) -> 121017.02 | E12: =SUM(C12*0.94) -> 107316.98 | F12: =IF(COUNTIF(C$2:C$1297, C12)>1, "Duplicate", "")
A13: AI-04 | B13: D) July 1, 2021 | C13: 128692 | D13: =SUM(C13*1.06) -> 136413.52 | E13: =SUM(C13*0.94) -> 120970.48 | F13: =IF(COUNTIF(C$2:C$1297, C13)>1, "Duplicate", "")
A14: AI-05 | B14: D) July 1, 2021 | C14: 132161 | D14: =SUM(C14*1.06) -> 140090.66 | E14: =SUM(C14*0.94) -> 124231.34 | F14: =IF(COUNTIF(C$2:C$1297, C14)>1, "Duplicate", "")
A15: AI-06 | B15: D) July 1, 2021 | C15: 136536 | D15: =SUM(C15*1.06) -> 144728.16 | E15: =SUM(C15*0.94) -> 128343.84 | F15: =IF(COUNTIF(C$2:C$1297, C15)>1, "Duplicate", "")
A16: AI-07 | B16: D) July 1, 2021 | C16: 141356 | D16: =SUM(C16*1.06) -> 149837.36 | E16: =SUM(C16*0.94) -> 132874.64 | F16: =IF(COUNTIF(C$2:C$1297, C16)>1, "Duplicate", "")
A17: AO-CAI-01 | B17: D) January 26, 2026 | C17: 125684 | D17: =SUM(C17*1.06) -> 133225.04 | E17: =SUM(C17*0.94) -> 118142.96 | F17: =IF(COUNTIF(C$2:C$1297, C17)>1, "Duplicate", "") | G17: AO rates of pay
A18: AO-CAI-02 | B18: D) January 26, 2026 | C18: 141787 | D18: =SUM(C18*1.06) -> 150294.22 | E18: =SUM(C18*0.94) -> 133279.78 | F18: =IF(COUNTIF(C$2:C$1297, C18)>1, "Duplicate", "")
A19: AO-CAI-03 | B19: D) January 26, 2026 | C19: 151123 | D19: =SUM(C19*1.06) -> 160190.38 | E19: =SUM(C19*0.94) -> 142055.62 | F19: =IF(COUNTIF(C$2:C$1297, C19)>1, "Duplicate", "")
A20: AO-CAI-04 | B20: D) January 26, 2026 | C20: 160308 | D20: =SUM(C20*1.06) -> 169926.48 | E20: =SUM(C20*0.94) -> 150689.52 | F20: =IF(COUNTIF(C$2:C$1297, C20)>1, "Duplicate", "")
A21: AO-CAI-05 | B21: D) January 26, 2026 | C21: 172529 | D21: =SUM(C21*1.06) -> 182880.74 | E21: =SUM(C21*0.94) -> 162177.26 | F21: =IF(COUNTIF(C$2:C$1297, C21)>1, "Duplicate", "")
A22: AO-ETP-01 | B22: D) January 26, 2026 | C22: 186445 | D22: =SUM(C22*1.06) -> 197631.7 | E22: =SUM(C22*0.94) -> 175258.3 | F22: =IF(COUNTIF(C$2:C$1297, C22)>1, "Duplicate", "") | G22: AO-ETP rates of pay
A23: AO-HPS-01 | B23: D) January 26, 2026 | C23: 144920 | D23: =SUM(C23*1.06) -> 153615.2 | E23: =SUM(C23*0.94) -> 136224.8 | F23: =IF(COUNTIF(C$2:C$1297, C23)>1, "Duplicate", "") | G23: AO-HPS rates of pay
A24: AO-HPS-02 | B24: D) January 26, 2026 | C24: 151790 | D24: =SUM(C24*1.06) -> 160897.4 | E24: =SUM(C24*0.94) -> 142682.6 | F24: =IF(COUNTIF(C$2:C$1297, C24)>1, "Duplicate", "")
A25: AO-HPS-03 | B25: D) January 26, 2026 | C25: 161771 | D25: =SUM(C25*1.06) -> 171477.26 | E25: =SUM(C25*0.94) -> 152064.74 | F25: =IF(COUNTIF(C$2:C$1297, C25)>1, "Duplicate", "")
A26: AR-01 | B26: D) October 1, 2025 | C26: 73133 | D26: =SUM(C26*1.06) -> 77520.98 | E26: =SUM(C26*0.94) -> 68745.02 | F26: =IF(COUNTIF(C$2:C$1297, C26)>1, "Duplicate", "") | G26: AR rates of pay
A27: AR-02 | B27: D) October 1, 2025 | C27: 93501 | D27: =SUM(C27*1.06) -> 99111.06 | E27: =SUM(C27*0.94) -> 87890.94 | F27: =IF(COUNTIF(C$2:C$1297, C27)>1, "Duplicate", "")
A28: AR-03 | B28: D) October 1, 2025 | C28: 111668 | D28: =SUM(C28*1.06) -> 118368.08 | E28: =SUM(C28*0.94) -> 104967.92 | F28: =IF(COUNTIF(C$2:C$1297, C28)>1, "Duplicate", "")
A29: AR-04 | B29: D) October 1, 2025 | C29: 126214 | D29: =SUM(C29*1.06) -> 133786.84 | E29: =SUM(C29*0.94) -> 118641.16 | F29: =IF(COUNTIF(C$2:C$1297, C29)>1, "Duplicate", "")
A30: AR-05 | B30: D) October 1, 2025 | C30: 141808 | D30: =SUM(C30*1.06) -> 150316.48 | E30: =SUM(C30*0.94) -> 133299.52 | F30: =IF(COUNTIF(C$2:C$1297, C30)>1, "Duplicate", "")
A31: AR-06 | B31: D) October 1, 2025 | C31: 156341 | D31: =SUM(C31*1.06) -> 165721.46 | E31: =SUM(C31*0.94) -> 146960.54 | F31: =IF(COUNTIF(C$2:C$1297, C31)>1, "Duplicate", "")
A32: AR-07 | B32: D) October 1, 2025 | C32: 176475 | D32: =SUM(C32*1.06) -> 187063.5 | E32: =SUM(C32*0.94) -> 165886.5 | F32: =IF(COUNTIF(C$2:C$1297, C32)>1, "Duplicate", "")
A33: AS-01 | B33: Z) June 21, 2024 - Wage Adjustment | C33: 69106 | D33: =SUM(C33*1.06) -> 73252.36 | E33: =SUM(C33*0.94) -> 64959.64 | F33: =IF( COUNTIF(C$2:C$1297,#REF!)>1, "Duplicate", "") | G33: AS rates of pay
A34: AS-02 | B34: Z) June 21, 2024 - Wage Adjustment | C34: 74180 | D34: =SUM(C34*1.06) -> 78630.8 | E34: =SUM(C34*0.94) -> 69729.2 | F34: =IF( COUNTIF(C$2:C$1297,#REF!)>1, "Duplicate", "")
A35: AS-03 | B35: Z) June 21, 2024 - Wage Adjustment | C35: 79511 | D35: =SUM(C35*1.06) -> 84281.66 | E35: =SUM(C35*0.94) -> 74740.34 | F35: =IF( COUNTIF(C$2:C$1297,#REF!)>1, "Duplicate", "")
A36: AS-04 | B36: Z) June 21, 2024 - Wage Adjustment | C36: 87108 | D36: =SUM(C36*1.06) -> 92334.48 | E36: =SUM(C36*0.94) -> 81881.52 | F36: =IF( COUNTIF(C$2:C$1297,#REF!)>1, "Duplicate", "")
A37: AS-05 | B37: Z) June 21, 2024 - Wage Adjustment | C37: 104044 | D37: =SUM(C37*1.06) -> 110286.64 | E37: =SUM(C37*0.94) -> 97801.36 | F37: =IF( COUNTIF(C$2:C$1297,#REF!)>1, "Duplicate", "")
A38: AS-06 | B38: Z) June 21, 2024 - Wage Adjustment | C38: 115642 | D38: =SUM(C38*1.06) -> 122580.52 | E38: =SUM(C38*0.94) -> 108703.48 | F38: =IF( COUNTIF(C$2:C$1297,#REF!)>1, "Duplicate", "")
A39: AS-07 | B39: Z) June 21, 2024 - Wage Adjustment | C39: 129017 | D39: =SUM(C39*1.06) -> 136758.02 | E39: =SUM(C39*0.94) -> 121275.98 | F39: =IF( COUNTIF(C$2:C$1297,#REF!)>1, "Duplicate", "")
A40: AS-08 | B40: Z) June 21, 2024 - Wage Adjustment | C40: 137135 | D40: =SUM(C40*1.06) -> 145363.1 | E40: =SUM(C40*0.94) -> 128906.9 | F40: =IF( COUNTIF(C$2:C$1297,#REF!)>1, "Duplicate", "")
...

Sheet 2.1 shorter
A1: Substantive Position (group and level) | B1: Effective Date | C1: Annual Rates of Pay (in Dollars) | L1: Max Salary (annual) | M1: 2019-20 Maximum Performance Pay Rate | N1: Bilingual Bonus | P1: Total Salary | Q1: Max Salary Minus 6% | R1: Max Salary Plus 6% | S1: helper column | T1: Test
A2: AC-01 | B2: D) October 1, 2025 | L2: 154237 | P2: 0 | Q2: =SUM(L2*0.94) -> 144982.78 | R2: =SUM(L2*1.06) -> 163491.22 | S2: =IF(COUNTIF(L$2:L$192, L2)>1, "Duplicate", "") | T2: {=_xlfn.TEXTJOIN(",",TRUE,_xlfn._xlws.FILTER('2.1 shorter'!$A$2:$A$192,('2.1 shorter'!$L$2:$L$192 >'2.1 shorter'!Q2)*('2.1 shorter'!$L$2:$L$192 <'2.1 shorter'!L2),"No matches"))} -> AG-05,BI-05,CH-05,CO-04,CT-FIN-04 ,CT-EAV-05 ,EC-07,EN-SUR-4,PC-05,SE-REM-1,SE-RES-3 | U2: AC rates of pay | AJ2: ED
A3: AC-02 | B3: D) October 1, 2025 | L3: 179553 | Q3: =SUM(L3*0.94) -> 168779.82 | R3: =SUM(L3*1.06) -> 190326.18 | S3: =IF(COUNTIF(L$2:L$192, L3)>1, "Duplicate", "") | T3: {=_xlfn.TEXTJOIN(",",TRUE,_xlfn._xlws.FILTER('2.1 shorter'!$A$2:$A$192,('2.1 shorter'!$L$2:$L$192 <'2.1 shorter'!R3)*('2.1 shorter'!$L$2:$L$192 >='2.1 shorter'!L3),"No matches"))} -> AC-02,EX-02 | W3: =IF(COUNTIF(L:L, L2)>1, "Duplicate", "") | AJ3: EU
A4: AG-01 | B4: D) October 1, 2025 | L4: 85423 | Q4: =SUM(L4*0.94) -> 80297.62 | R4: =SUM(L4*1.06) -> 90548.38 | S4: =IF(COUNTIF(L$2:L$192, L4)>1, "Duplicate", "") -> Duplicate | U4: AG rates of pay
A5: AG-02 | B5: D) October 1, 2025 | L5: 101162 | Q5: =SUM(L5*0.94) -> 95092.28 | R5: =SUM(L5*1.06) -> 107231.72 | S5: =IF(COUNTIF(L$2:L$192, L5)>1, "Duplicate", "") -> Duplicate
A6: AG-03 | B6: D) October 1, 2025 | L6: 120292 | Q6: =SUM(L6*0.94) -> 113074.48 | R6: =SUM(L6*1.06) -> 127509.52 | S6: =IF(COUNTIF(L$2:L$192, L6)>1, "Duplicate", "") -> Duplicate
A7: AG-04 | B7: D) October 1, 2025 | L7: 137710 | Q7: =SUM(L7*0.94) -> 129447.4 | R7: =SUM(L7*1.06) -> 145972.6 | S7: =IF(COUNTIF(L$2:L$192, L7)>1, "Duplicate", "") -> Duplicate
A8: AG-05 | B8: D) October 1, 2025 | L8: 150293 | Q8: =SUM(L8*0.94) -> 141275.42 | R8: =SUM(L8*1.06) -> 159310.58 | S8: =IF(COUNTIF(L$2:L$192, L8)>1, "Duplicate", "") -> Duplicate
A9: AS-01 | B9: Z) June 21, 2024 - Wage Adjustment | C9: 61786 | D9: 64135 | E9: 66572 | F9: 69106 | L9: =MAX(C9:K9) -> 69106 | N9: 800 | P9: =SUM(L9:N9) -> 69906 | Q9: =SUM(L9*0.94) -> 64959.64 | R9: =SUM(L9*1.06) -> 73252.36 | S9: =IF(COUNTIF(L$2:L$192, L9)>1, "Duplicate", "") -> Duplicate | U9: AS rates of pay
A10: AS-02 | B10: Z) June 21, 2024 - Wage Adjustment | C10: 68849 | D10: 71464 | E10: 74180 | L10: =MAX(C10:K10) -> 74180 | N10: 800 | P10: =SUM(L10:N10) -> 74980 | Q10: =SUM(L10*0.94) -> 69729.2 | R10: =SUM(L10*1.06) -> 78630.8 | S10: =IF(COUNTIF(L$2:L$192, L10)>1, "Duplicate", "") -> Duplicate
A11: AS-03 | B11: Z) June 21, 2024 - Wage Adjustment | C11: 73798 | D11: 76599 | E11: 79511 | L11: =MAX(C11:K11) -> 79511 | N11: 800 | P11: =SUM(L11:N11) -> 80311 | Q11: =SUM(L11*0.94) -> 74740.34 | R11: =SUM(L11*1.06) -> 84281.66 | S11: =IF(COUNTIF(L$2:L$192, L11)>1, "Duplicate", "") -> Duplicate
A12: AS-04 | B12: Z) June 21, 2024 - Wage Adjustment | C12: 80612 | D12: 83675 | E12: 87108 | L12: =MAX(C12:K12) -> 87108 | N12: 800 | P12: =SUM(L12:N12) -> 87908 | Q12: =SUM(L12*0.94) -> 81881.52 | R12: =SUM(L12*1.06) -> 92334.48 | S12: =IF(COUNTIF(L$2:L$192, L12)>1, "Duplicate", "") -> Duplicate
A13: AS-05 | B13: Z) June 21, 2024 - Wage Adjustment | C13: 96235 | D13: 99892 | E13: 104044 | L13: =MAX(C13:K13) -> 104044 | N13: 800 | P13: =SUM(L13:N13) -> 104844 | Q13: =SUM(L13*0.94) -> 97801.36 | R13: =SUM(L13*1.06) -> 110286.64 | S13: =IF(COUNTIF(L$2:L$192, L13)>1, "Duplicate", "") -> Duplicate
A14: AS-06 | B14: Z) June 21, 2024 - Wage Adjustment | C14: 107193 | D14: 111267 | E14: 115642 | L14: =MAX(C14:K14) -> 115642 | N14: 800 | P14: =SUM(L14:N14) -> 116442 | Q14: =SUM(L14*0.94) -> 108703.48 | R14: =SUM(L14*1.06) -> 122580.52 | S14: =IF(COUNTIF(L$2:L$192, L14)>1, "Duplicate", "") -> Duplicate
A15: AS-07 | B15: Z) June 21, 2024 - Wage Adjustment | C15: 112834 | D15: 117128 | E15: 121573 | F15: 125225 | G15: 129017 | L15: =MAX(C15:K15) -> 129017 | N15: 800 | P15: =SUM(L15:N15) -> 129817 | Q15: =SUM(L15*0.94) -> 121275.98 | R15: =SUM(L15*1.06) -> 136758.02 | S15: =IF(COUNTIF(L$2:L$192, L15)>1, "Duplicate", "") -> Duplicate
A16: BI-01 | B16: D) October 1, 2025 | L16: 85423 | Q16: =SUM(L16*0.94) -> 80297.62 | R16: =SUM(L16*1.06) -> 90548.38 | S16: =IF(COUNTIF(L$2:L$192, L16)>1, "Duplicate", "") -> Duplicate
A17: BI-02 | B17: D) October 1, 2025 | L17: 101162 | Q17: =SUM(L17*0.94) -> 95092.28 | R17: =SUM(L17*1.06) -> 107231.72 | S17: =IF(COUNTIF(L$2:L$192, L17)>1, "Duplicate", "") -> Duplicate | U17: BI rates of pay
A18: BI-03 | B18: D) October 1, 2025 | L18: 120292 | Q18: =SUM(L18*0.94) -> 113074.48 | R18: =SUM(L18*1.06) -> 127509.52 | S18: =IF(COUNTIF(L$2:L$192, L18)>1, "Duplicate", "") -> Duplicate
A19: BI-04 | B19: D) October 1, 2025 | L19: 137710 | Q19: =SUM(L19*0.94) -> 129447.4 | R19: =SUM(L19*1.06) -> 145972.6 | S19: =IF(COUNTIF(L$2:L$192, L19)>1, "Duplicate", "") -> Duplicate
A20: BI-05 | B20: D) October 1, 2025 | L20: 150293 | Q20: =SUM(L20*0.94) -> 141275.42 | R20: =SUM(L20*1.06) -> 159310.58 | S20: =IF(COUNTIF(L$2:L$192, L20)>1, "Duplicate", "") -> Duplicate
A21: CH-01 | B21: D) October 1, 2025 | L21: 85423 | Q21: =SUM(L21*0.94) -> 80297.62 | R21: =SUM(L21*1.06) -> 90548.38 | S21: =IF(COUNTIF(L$2:L$192, L21)>1, "Duplicate", "") -> Duplicate
A22: CH-02 | B22: D) October 1, 2025 | L22: 101162 | Q22: =SUM(L22*0.94) -> 95092.28 | R22: =SUM(L22*1.06) -> 107231.72 | S22: =IF(COUNTIF(L$2:L$192, L22)>1, "Duplicate", "") -> Duplicate | U22: CH rates of pay
A23: CH-03 | B23: D) October 1, 2025 | L23: 120292 | Q23: =SUM(L23*0.94) -> 113074.48 | R23: =SUM(L23*1.06) -> 127509.52 | S23: =IF(COUNTIF(L$2:L$192, L23)>1, "Duplicate", "") -> Duplicate
A24: CH-04 | B24: D) October 1, 2025 | L24: 137710 | Q24: =SUM(L24*0.94) -> 129447.4 | R24: =SUM(L24*1.06) -> 145972.6 | S24: =IF(COUNTIF(L$2:L$192, L24)>1, "Duplicate", "") -> Duplicate
A25: CH-05 | B25: D) October 1, 2025 | L25: 150293 | Q25: =SUM(L25*0.94) -> 141275.42 | R25: =SUM(L25*1.06) -> 159310.58 | S25: =IF(COUNTIF(L$2:L$192, L25)>1, "Duplicate", "") -> Duplicate
A26: CO-DEV | B26: D) June 22, 2025 | L26: 75613 | Q26: =SUM(L26*0.94) -> 71076.22 | R26: =SUM(L26*1.06) -> 80149.78 | S26: =IF(COUNTIF(L$2:L$192, L26)>1, "Duplicate", "")
