Workbook
Name AG_03: Tableau_outil_de_recherche_1_1[Poste de départ (groupe et niveau)]
Name Coordonnees_texte: '1. Instructions'!$C$25
Name Exemple_PM_2_Moin_6_pourcent: '1. Instructions'!$C$15
Name Exemple_PM_2_Plus_6_pourcent: '1. Instructions'!$C$16
Name Exemple_puce_1_sur_2: '1. Instructions'!$B$15
Name Exemple_puce_2_sur_2: '1. Instructions'!$B$16
Name Guide_des_postes_potentiellement_équivalents_pour_échange_de_postes___salaire_maximal_MOINS_6: Tableau_outil_de_recherche_1_1[[#Headers],[ Guide des postes potentiellement équivalents pour échange de postes (salaire maximal MOINS 6%)]]
Name H1_A_propos: '1. Instructions'!$B$1
Name H1_Groupes_professionnels: '3. Groupe professionnel'!$B$1
Name H1_Outil_de_recherche: '2. Recherche d’équivalence'!$B$1
Name H2_Commencez_ici: '1. Instructions'!$B$17
Name H2_Coordonnes: '1. Instructions'!$B$23
Name H2_Exemple: '1. Instructions'!$B$13
Name H2_Instructions: '1. Instructions'!$B$7
Name H2_Objectif: '1. Instructions'!$B$2
Name H2_Remarques: '1. Instructions'!$B$19
Name Instructions_element_1_de_la_liste: '1. Instructions'!$C$8
Name Instructions_element_2_de_la_liste: '1. Instructions'!$C$9
Name Instructions_element_3_de_la_liste: '1. Instructions'!$C$10
Name Instructions_element_3a_de_la_liste: '1. Instructions'!$C$11
Name Instructions_element_3b_de_la_list: '1. Instructions'!$C$12
Name Lien_a_la_liste_deroulante: '1. Instructions'!$B$18
Name Liste_des_postes_équivalents_pour_échange_de_postes___salaire_maximal_PLUS__6: Tableau_outil_de_recherche_1_1[[#Headers],[Liste des postes équivalents pour échange de postes (salaire maximal PLUS 6%)]]
Name Menu_deroulant_poste_de_depart: Tableau_outil_de_recherche_1_1[Poste de départ (groupe et niveau)]
Name Menu_recherche_substantif: #REF!
Name Objectif_puce_1_sur_4: '1. Instructions'!$B$3
Name Objectif_puce_1_texte: '1. Instructions'!$C$3
Name Objectif_puce_2_sur_4: '1. Instructions'!$B$4
Name Objectif_puce_2_texte: '1. Instructions'!$C$4
Name Objectif_puce_3_sur_4: '1. Instructions'!$B$5
Name Objectif_puce_3_texte: '1. Instructions'!$C$5
Name Objectif_puce_4_sur_4: '1. Instructions'!$B$6
Name Objectif_puce_4_texte: '1. Instructions'!$C$6
Name Poste_de_départ__groupe_et_niveau: Tableau_outil_de_recherche_1_1[[#Headers],[Poste de départ (groupe et niveau)]]
Name Remarque_puce_2_sur_3: '1. Instructions'!$B$21
Name Remarque_puce_3_sur_3: '1. Instructions'!$B$22
Name Remarques_puce_1_sur_3: '1. Instructions'!$B$20
Name Remarques_puce_1_texte: '1. Instructions'!$C$20
Name Remarques_puce_2_texte: '1. Instructions'!$C$21
Name Remarques_puce_3_texte: '1. Instructions'!$C$22
Name Signifie_puce_1_sur_5: '2. Recherche d’équivalence'!$B$4
Name Signifie_puce_1_texte: '2. Recherche d’équivalence'!$C$4
Name Signifie_puce_2_sur_5: '2. Recherche d’équivalence'!$B$5
Name Signifie_puce_2_texte: '2. Recherche d’équivalence'!$C$5
Name Signifie_puce_3_sur_5: '2. Recherche d’équivalence'!$B$6
Name Signifie_puce_3_texte: '2. Recherche d’équivalence'!$C$6
Name Signifie_puce_4_sur_5: '2. Recherche d’équivalence'!$B$7
Name Signifie_puce_4_texte: '2. Recherche d’équivalence'!$C$7
Name Signifie_puce_5_sur_5: '2. Recherche d’équivalence'!$B$8
Name Signifie_puce_5_texte: '2. Recherche d’équivalence'!$C$8
Name Substantif_plus_6_pourcent: #REF!

Sheet 1. Instructions
A1: Lire les cellules B1 à C24. | B1: À propos de l'outil de recherche d'équivalence pour échange de postes
B2: Objectif de cet outil
B3: · | C3: Cet outil vous aide à comparer des postes (également appelés groupes et niveaux professionnels) dans l’administration publique centrale (APC) ayant une rémunération similaire et avec lesquels vous pouvez échanger de postes.
B4: · | C4: Il est conçu pour les employés de l’APC qui envisagent un échange de postes en vertu de la Directive sur le réaménagement des effectifs ou de l'annexe de la convention collective applicable.
B5: · | C5: Selon la directive et les annexes, les postes sont considérés comme équivalents aux fins de l’échange de postes lorsque le salaire maximal du poste comportant une rémunération supérieure n’est pas plus de 6% du salaire maximal du poste comportant une rémunération moindre.
B6: · | C6: Les utilisateurs (- trices) devraient noter que, sous l'onglet 2 – Recherche d'équivalence, la colonne C sert à valider l'équivalence des postes, lorsque le poste de départ est celui dont la rémunération est la plus faible. La colonne D sert comme guide pour aider à déterminer les postes équivalents possibles, lorsque le poste de départ est celui dont la rémunération est plus élevée.
B7: Instructions
B8: 1. | C8: Accédez à l'onglet « Recherche d'équivalence ».
B9: 2. | C9: Allez à la cellule B10. La cellule nommée : « Menu_recherche_poste_de_départ »
B10: 3. | C10: Sélectionnez (ou saisissez) le groupe et niveau du poste de départ. Navigation au clavier : Alt + Flèche vers le bas
B11: a. | C11: La cellule C10 répertorie les postes dont le salaire maximal ne dépasse pas 6 % de plus du poste poste de départ. La cellule nommée : Poste_de_départ_plus_6_pourcent
B12: b. | C12: La cellule D10 répertorie les postes dont le salaire maximal n'est pas plus de 6 % moins du poste de départ. Nom de la cellule : Poste_de_départ_moins_6_pourcent
B13: Exemple
B14: PM-02
B15: · | C15: Moins 6 % inclut : AR-01, EC-01, PG-01, TI-03, etc.
B16: · | C16: Plus 6 % inclut : AS-02, CR-06, PG-01, PI-03-CGC, etc.
B17: Commencez ici
B18: · | C18: Accédez à la cellule B10 pour saisir le poste que vous voulez rechercher.
B19: Remarques
B20: · | C20: Vous devez satisfaire à toutes les exigences du poste.
B21: · | C21: Cet outil est fourni à titre indicatif seulement et peut être mis à jour.
B22: · | C22: Si votre salaire annuel est calculé en fonction d’une semaine de travail de plus de 40 heures, veuillez communiquer avec votre conseillère ou conseiller en ressources humaines afin de déterminer les postes équivalents.
B23: Coordonnées
B24: · | C24: Communiquez avec votre conseiller ou conseillère en ressources humaines pour les groupes manquants ou pour demander un autre format.

Sheet 2. Recherche d’équivalence
A1: Lisez les colonnes B et C, ranger 1 à 8; ensuite, lisez les colonnes B, C et D pour les lignes 9 et 10. | B1: Outil de recherche d'équivalence pour échange de postes
B2: Note: | C2: Si vous choisissez de faire un échange de postes avec un poste équivalent, vous serez alors assujetti aux termes et conditions d’emploi du nouveau poste.
B3: Ce que signifie l'équivalence salariale de 6 %
B4: · | C4: Lorsqu’un employé de l’administration publique centrale, touché par un réaménagement des effectifs (un employé « optant » ou « excédentaire - Option A»), souhaite participer à un échange de postes — c’est-à-dire échanger son poste avec celui d’une personne non touchée — il doit normalement passer à un poste du même groupe et niveau.
B5: · | C5: Cependant, si l’autre poste n’est pas du même groupe ou niveau, il peut tout de même être considéré comme un jumelage valide lorsque les postes sont considérés comme équivalents. Les postes sont considérés comme équivalents si le taux de rémunération maximal (salaire maximum) du poste comportant une rémunération supérieure ne dépasse pas 6 % de plus du taux de rémunération maximal du poste comportant une rémunération moindre.
B6: · | C6: La règle d’équivalence salariale de 6 % garantit que, lors d’un réaménagement des effectifs, les employés ne sont pas limités uniquement à des postes identiques — mais peuvent également passer à des postes équivalents, ce qui assure des possibilités pratiques de transition professionnelle.
B7: · | C7: La colonne C de l'outil présente les postes dont le salaire annuel maximal n’est pas plus que 6 % plus haut que le salaire maximal du poste comportant une rémunération moindre (le poste de départ) et pour lequel la recherche est effectuée. Pour utiliser cette fonction afin de confirmer si un échange de postes est possible, vous devez d'abord connaître le groupe et le niveau du poste comportant une rémunération moindre proposé pour l'échange de postes.
B8: · | C8: La colonne D fournit aux employés un guide pour déterminer quels postes se situent environ 6 % en dessous du salaire maximal du poste de départ et qui pourraient être considérés comme équivalents pour un échange de postes. Étant donné que le calcul est basé sur le salaire du poste comportant une rémunération supérieure, les utilisateurs (-trices) doivent toujours utiliser les informations de cette colonne comme guide pour identifier les équivalences possibles. Pour confirmer si les postes sont équivalents, les utilisateurs doivent indiquer le poste comportant une rémunération moindre dans la colonne B10.
B9: Poste de départ (groupe et niveau) | C9: Liste des postes équivalents pour échange de postes (salaire maximal PLUS 6%) | D9: Guide des postes potentiellement équivalents pour échange de postes (salaire maximal MOINS 6%)
B10: BI-05 | C10: =_xlfn.XLOOKUP(B10, '4. Table de référence'!A2:A1297, '4. Table de référence'!B2:B1297, "") -> AC-01, AG-05, AO-CAI-03, AO-HPS-02, AR-06, CH-05, CO-04, CT-FIN-04 , DE-02, EC-08, EN-ENG-05, FB-8, NU-CHN-8, NU-HOS-8, PC-05, PS-5, SG-PAT-06, SG-SRE-08, SO-INS-02, SO-MAO-11, VM-5 | D10: =_xlfn.XLOOKUP(B10, '4. Table de référence'!A2:A1297, '4. Table de référence'!C2:C1297, "") -> AI-07, AO-CAI-02, AO-HPS-01, AR-05, CO-03, CT-EAV-05 , DS-4, EC-07, EN-SUR-04, FB-7, FO-04, FS-03, IT-04, MA-06, MT-07, NU-CHN-7, NU-HOS-7, PH-03, SE-REM-1, SE-RES-3, SG-PAT-07, SG-SRE-07, SO-INS-01, SO-MAO-10, TI-08 Aviation, TI-08 Marine, VM-4

Sheet 1.1 shorter
A16: Substantive Position (group and level) | B16: List of Equivalent Positions for Alternation (Maximum Salary Minus 6%) | C16: List of Equivalent Positions for Alternation (Maximum Salary Plus 6%)
A17: ='2.1 shorter'!A2 -> AC-01 | B17: {=_xlfn.TEXTJOIN(", ",TRUE,_xlfn._xlws.FILTER('2.1 shorter'!$A$2:$A$192,('2.1 shorter'!$L$2:$L$192 >'2.1 shorter'!Q2)*('2.1 shorter'!$L$2:$L$192 <'2.1 shorter'!L2),"No matches"))} -> AG-05, BI-05, CH-05, CO-04, CT-FIN-04 , CT-EAV-05 , EC-07, EN-SUR-4, PC-05, SE-REM-1, SE-RES-3 | C17: {=_xlfn.TEXTJOIN(", ", TRUE, _xlfn._xlws.FILTER('2.1 shorter'!$A$2:$A$192, ('2.1 shorter'!$L$2:$L$192 < '2.1 shorter'!R2) * ('2.1 shorter'!$L$2:$L$192 >= '2.1 shorter'!L2) * ('2.1 shorter'!$A$2:$A$192 <> '2.1 shorter'!A2), "No matches"))} -> CT-EAV-06 , EC-08, EX-01 , SE-RES-4
A18: ='2.1 shorter'!A3 -> AC-02 | B18: {=_xlfn.TEXTJOIN(", ",TRUE,_xlfn._xlws.FILTER('2.1 shorter'!$A$2:$A$192,('2.1 shorter'!$L$2:$L$192 >'2.1 shorter'!Q3)*('2.1 shorter'!$L$2:$L$192 <'2.1 shorter'!L3),"No matches"))} -> SE-RES-5 | C18: {=_xlfn.TEXTJOIN(", ", TRUE, _xlfn._xlws.FILTER('2.1 shorter'!$A$2:$A$192, ('2.1 shorter'!$L$2:$L$192 < '2.1 shorter'!R3) * ('2.1 shorter'!$L$2:$L$192 >= '2.1 shorter'!L3) * ('2.1 shorter'!$A$2:$A$192 <> '2.1 shorter'!A3), "No matches"))} -> EX-02
A19: ='2.1 shorter'!A4 -> AG-01 | B19: {=_xlfn.TEXTJOIN(", ",TRUE,_xlfn._xlws.FILTER('2.1 shorter'!$A$2:$A$192,('2.1 shorter'!$L$2:$L$192 >'2.1 shorter'!Q4)*('2.1 shorter'!$L$2:$L$192 <'2.1 shorter'!L4),"No matches"))} -> DD-06, EC-02, EG-03, EL-03, EN-ENG-2, GT-04, TI-04 | C19: {=_xlfn.TEXTJOIN(", ", TRUE, _xlfn._xlws.FILTER('2.1 shorter'!$A$2:$A$192, ('2.1 shorter'!$L$2:$L$192 < '2.1 shorter'!R4) * ('2.1 shorter'!$L$2:$L$192 >= '2.1 shorter'!L4) * ('2.1 shorter'!$A$2:$A$192 <> '2.1 shorter'!A4), "No matches"))} -> AS-04, BI-01, CH-01, CR-07, DA-CON-7, DA-PRO-7, EC-03, EG-04, EL-04, IS-03 , IT-01 , LS-01, PC-01, PE-02, PG-03, PI-04, PM-04 , SG-SRE-02, TI-05
A20: ='2.1 shorter'!A5 -> AG-02 | B20: {=_xlfn.TEXTJOIN(", ",TRUE,_xlfn._xlws.FILTER('2.1 shorter'!$A$2:$A$192,('2.1 shorter'!$L$2:$L$192 >'2.1 shorter'!Q5)*('2.1 shorter'!$L$2:$L$192 <'2.1 shorter'!L5),"No matches"))} -> DD-08, DD-09, EC-04, EG-05, EL-05, GT-05, PE-03 | C20: {=_xlfn.TEXTJOIN(", ", TRUE, _xlfn._xlws.FILTER('2.1 shorter'!$A$2:$A$192, ('2.1 shorter'!$L$2:$L$192 < '2.1 shorter'!R5) * ('2.1 shorter'!$L$2:$L$192 >= '2.1 shorter'!L5) * ('2.1 shorter'!$A$2:$A$192 <> '2.1 shorter'!A5), "No matches"))} -> AS-05, BI-02, CH-02, CT-EAV-02 , GT-06, IS-04 , IT-02 , LS-03, PC-02, PG-04, PI-06, PM-05 , SG-SRE-03, TI-06
A21: ='2.1 shorter'!A6 -> AG-03 | B21: {=_xlfn.TEXTJOIN(", ",TRUE,_xlfn._xlws.FILTER('2.1 shorter'!$A$2:$A$192,('2.1 shorter'!$L$2:$L$192 >'2.1 shorter'!Q6)*('2.1 shorter'!$L$2:$L$192 <'2.1 shorter'!L6),"No matches"))} -> AS-06, CT-EAV-03 , EC-05, EG-07, IS-05 , LS-04, SG-SRE-04 | C21: {=_xlfn.TEXTJOIN(", ", TRUE, _xlfn._xlws.FILTER('2.1 shorter'!$A$2:$A$192, ('2.1 shorter'!$L$2:$L$192 < '2.1 shorter'!R6) * ('2.1 shorter'!$L$2:$L$192 >= '2.1 shorter'!L6) * ('2.1 shorter'!$A$2:$A$192 <> '2.1 shorter'!A6), "No matches"))} -> BI-03, CH-03, EL-07, EN-ENG-4, EN-SUR-2, GT-07, IT-03 , PC-03, PE-05, PG-05
A22: ='2.1 shorter'!A7 -> AG-04 | B22: {=_xlfn.TEXTJOIN(", ",TRUE,_xlfn._xlws.FILTER('2.1 shorter'!$A$2:$A$192,('2.1 shorter'!$L$2:$L$192 >'2.1 shorter'!Q7)*('2.1 shorter'!$L$2:$L$192 <'2.1 shorter'!L7),"No matches"))} -> CT-FIN-03, CT-EAV-04 , EC-06, EG-08, EN-SUR-3, PG-06, SE-RES-2, SG-SRE-06 | C22: {=_xlfn.TEXTJOIN(", ", TRUE, _xlfn._xlws.FILTER('2.1 shorter'!$A$2:$A$192, ('2.1 shorter'!$L$2:$L$192 < '2.1 shorter'!R7) * ('2.1 shorter'!$L$2:$L$192 >= '2.1 shorter'!L7) * ('2.1 shorter'!$A$2:$A$192 <> '2.1 shorter'!A7), "No matches"))} -> BI-04, CH-04, CO-03, EL-09, EN-ENG-5, GT-08, IT-04 , LS-05, PC-04, SE-RES-3
A23: ='2.1 shorter'!A8 -> AG-05 | B23: {=_xlfn.TEXTJOIN(", ",TRUE,_xlfn._xlws.FILTER('2.1 shorter'!$A$2:$A$192,('2.1 shorter'!$L$2:$L$192 >'2.1 shorter'!Q8)*('2.1 shorter'!$L$2:$L$192 <'2.1 shorter'!L8),"No matches"))} -> CO-03, CT-EAV-05 , EC-07, EN-ENG-5, EN-SUR-4, IT-04 , SE-REM-1, SE-RES-3 | C23: {=_xlfn.TEXTJOIN(", ", TRUE, _xlfn._xlws.FILTER('2.1 shorter'!$A$2:$A$192, ('2.1 shorter'!$L$2:$L$192 < '2.1 shorter'!R8) * ('2.1 shorter'!$L$2:$L$192 >= '2.1 shorter'!L8) * ('2.1 shorter'!$A$2:$A$192 <> '2.1 shorter'!A8), "No matches"))} -> AC-01, BI-05, CH-05, CO-04, CT-FIN-04 , EC-08, PC-05
A24: ='2.1 shorter'!A9 -> AS-01 | B24: {=_xlfn.TEXTJOIN(", ",TRUE,_xlfn._xlws.FILTER('2.1 shorter'!$A$2:$A$192,('2.1 shorter'!$L$2:$L$192 >'2.1 shorter'!Q9)*('2.1 shorter'!$L$2:$L$192 <'2.1 shorter'!L9),"No matches"))} -> CR-05, DA-CON-4, EG-01, GL-MAN-7, GT-02, PI-01, PY-05, ST-SCY-4 | C24: {=_xlfn.TEXTJOIN(", ", TRUE, _xlfn._xlws.FILTER('2.1 shorter'!$A$2:$A$192, ('2.1 shorter'!$L$2:$L$192 < '2.1 shorter'!R9) * ('2.1 shorter'!$L$2:$L$192 >= '2.1 shorter'!L9) * ('2.1 shorter'!$A$2:$A$192 <> '2.1 shorter'!A9), "No matches"))} -> DA-CON-5, DA-PRO-5, DD-04, EC-01, EN-ENG-1, GL-MAN-8, GL-MAN-9, IS-01 , PG-01, PI-02, PM-01 , PY-06, TI-03
A25: ='2.1 shorter'!A10 -> AS-02 | B25: {=_xlfn.TEXTJOIN(", ",TRUE,_xlfn._xlws.FILTER('2.1 shorter'!$A$2:$A$192,('2.1 shorter'!$L$2:$L$192 >'2.1 shorter'!Q10)*('2.1 shorter'!$L$2:$L$192 <'2.1 shorter'!L10),"No matches"))} -> DA-CON-5, DA-PRO-5, DD-04, EC-01, EN-ENG-1, GL-MAN-9, PG-01, PI-02, PY-06, TI-03 | C25: {=_xlfn.TEXTJOIN(", ", TRUE, _xlfn._xlws.FILTER('2.1 shorter'!$A$2:$A$192, ('2.1 shorter'!$L$2:$L$192 < '2.1 shorter'!R10) * ('2.1 shorter'!$L$2:$L$192 >= '2.1 shorter'!L10) * ('2.1 shorter'!$A$2:$A$192 <> '2.1 shorter'!A10), "No matches"))} -> CO-DEV, CR-06, DA-CON-6, DD-05, EG-02, EL-02, GL-MAN-10, GL-MAN-11, GT-03, IS-02 , PI-03, PM-02 , PY-07
A26: ='2.1 shorter'!A11 -> AS-03 | B26: {=_xlfn.TEXTJOIN(", ",TRUE,_xlfn._xlws.FILTER('2.1 shorter'!$A$2:$A$192,('2.1 shorter'!$L$2:$L$192 >'2.1 shorter'!Q11)*('2.1 shorter'!$L$2:$L$192 <'2.1 shorter'!L11),"No matches"))} -> CO-DEV, CR-06, DA-CON-6, DA-PRO-6, DD-05, EL-02, GL-MAN-11, GT-03, PI-03, PY-07 | C26: {=_xlfn.TEXTJOIN(", ", TRUE, _xlfn._xlws.FILTER('2.1 shorter'!$A$2:$A$192, ('2.1 shorter'!$L$2:$L$192 < '2.1 shorter'!R11) * ('2.1 shorter'!$L$2:$L$192 >= '2.1 shorter'!L11) * ('2.1 shorter'!$A$2:$A$192 <> '2.1 shorter'!A11), "No matches"))} -> DD-06, EC-02, EG-03, EL-03, GL-MAN-12, PE-01, PG-02, PM-03 , TI-04
A27: ='2.1 shorter'!A12 -> AS-04 | B27: {=_xlfn.TEXTJOIN(", ",TRUE,_xlfn._xlws.FILTER('2.1 shorter'!$A$2:$A$192,('2.1 shorter'!$L$2:$L$192 >'2.1 shorter'!Q12)*('2.1 shorter'!$L$2:$L$192 <'2.1 shorter'!L12),"No matches"))} -> AG-01, BI-01, CH-01, CR-07, DA-CON-7, DD-06, EG-03, EL-03, EN-ENG-2, GT-04, PC-01, PI-04 | C27: {=_xlfn.TEXTJOIN(", ", TRUE, _xlfn._xlws.FILTER('2.1 shorter'!$A$2:$A$192, ('2.1 shorter'!$L$2:$L$192 < '2.1 shorter'!R12) * ('2.1 shorter'!$L$2:$L$192 >= '2.1 shorter'!L12) * ('2.1 shorter'!$A$2:$A$192 <> '2.1 shorter'!A12), "No matches"))} -> CO-01, DA-CON-8, DA-PRO-7, DD-07, EC-03, EG-04, EL-04, EN-SUR-1, IS-03 , IT-01 , LS-01, LS-02, PE-02, PG-03, PM-04 , SG-SRE-02, TI-05
A28: ='2.1 shorter'!A13 -> AS-05 | B28: {=_xlfn.TEXTJOIN(", ",TRUE,_xlfn._xlws.FILTER('2.1 shorter'!$A$2:$A$192,('2.1 shorter'!$L$2:$L$192 >'2.1 shorter'!Q13)*('2.1 shorter'!$L$2:$L$192 <'2.1 shorter'!L13),"No matches"))} -> AG-02, BI-02, CH-02, DD-09, EG-05, EL-05, PC-02, PE-03, PI-06, TI-06 | C28: {=_xlfn.TEXTJOIN(", ", TRUE, _xlfn._xlws.FILTER('2.1 shorter'!$A$2:$A$192, ('2.1 shorter'!$L$2:$L$192 < '2.1 shorter'!R13) * ('2.1 shorter'!$L$2:$L$192 >= '2.1 shorter'!L13) * ('2.1 shorter'!$A$2:$A$192 <> '2.1 shorter'!A13), "No matches"))} -> CT-EAV-02 , EG-06, GT-06, IS-04 , IT-02 , LS-03, PG-04, PM-05 , SG-SRE-03
... A207: ='2.1 shorter'!A192 -> TI-06 | B207: {=_xlfn.TEXTJOIN(", ",TRUE,_xlfn._xlws.FILTER('2.1 shorter'!$A$2:$A$192,('2.1 shorter'!$L$2:$L$192 >'2.1 shorter'!Q192)*('2.1 shorter'!$L$2:$L$192 <'2.1 shorter'!L192),"No matches"))} -> AG-02, BI-02, CH-02, DD-08, DD-09, EC-04, EG-05, EL-05, GT-05, PC-02, PE-03 | C207: {=_xlfn.TEXTJOIN(", ", TRUE, _xlfn._xlws.FILTER('2.1 shorter'!$A$2:$A$192, ('2.1 shorter'!$L$2:$L$192 < '2.1 shorter'!R192) * ('2.1 shorter'!$L$2:$L$192 >= '2.1 shorter'!L192) * ('2.1 shorter'!$A$2:$A$192 <> '2.1 shorter'!A192), "No matches"))} -> AS-05, CT-EAV-02 , GT-06, IS-04 , IT-02 , LS-03, PG-04, PI-06, PM-05 , SG-SRE-03

Sheet 3. Groupe professionnel
A1: Glossaire des groupes professionnels | B1: Structure des groupes professionnels de l'administration publique centrale
B2: Taux de rémunération des employés de la fonction publique - Canada.ca
B3: Groupe professionnel
B4: AC: Actuariat
B5: AG: Agriculture
B6: AI: Contrôle de la circulation aérienne
B7: AO: Navigation aérienne
B8: AR: Architecture et urbanisme
B9: AS: Services administratifs
B10: BI: Sciences biologiques
B11: CH: Chimie
B12: CM: Communications
B13: CO: Commerce
... B91: WP: Programmes de bien-être social

Sheet 4. Table de référence
A1: Substantive Position (group and level) | B1: List of Equivalent Positions for Alternation (Maximum Salary Plus 6%) | C1: Guidance only - Potential list of Equivalent Positions for Alternation (Maximum Salary Minus 6%)
A2: ='5. Données salariales brutes'!A2 -> AC-01 | B2: {=_xlfn.TEXTJOIN(", ", TRUE, _xlfn._xlws.FILTER('5. Données salariales brutes'!$A$2:$A$1297, ('5. Données salariales brutes'!$C$2:$C$1297 < '5. Données salariales brutes'!D2) * ('5. Données salariales brutes'!$C$2:$C$1297 >= '5. Données salariales brutes'!C2) * ('5. Données salariales brutes'!$A$2:$A$1297 <> '5. Données salariales brutes'!A2), "No matches"))} -> AO-CAI-04, AO-HPS-03, AR-06, CT-EAV-06 , EC-08, EN-ENG-05, FB-8, FS-04, MA-07, PM-MCO-04, PS-5, SE-RES-4, SO-INS-02, SO-MAO-11, VM-5 | C2: {=_xlfn.TEXTJOIN(", ",TRUE,_xlfn._xlws.FILTER('5. Données salariales brutes'!$A$2:$A$1297,('5. Données salariales brutes'!$C$2:$C$1297 >'5. Données salariales brutes'!E2)*('5. Données salariales brutes'!$C$2:$C$1297 <'5. Données salariales brutes'!C2),"No matches"))} -> AG-05, AO-CAI-03, AO-HPS-02, BI-05, CH-05, CO-04, CT-FIN-04 , CT-EAV-05 , DE-02, DS-4, EC-07, EN-SUR-04, MA-06, MT-07, NU-CHN-7, NU-CHN-8, NU-HOS-7, NU-HOS-8, PC-05, PH-03, SE-REM-1, SE-RES-3, SG-PAT-06, SG-PAT-07, SG-SRE-08, TI-08 Aviation, VM-4
A3: ='5. Données salariales brutes'!A3 -> AC-02 | B3: {=_xlfn.TEXTJOIN(", ", TRUE, _xlfn._xlws.FILTER('5. Données salariales brutes'!$A$2:$A$1297, ('5. Données salariales brutes'!$C$2:$C$1297 < '5. Données salariales brutes'!D3) * ('5. Données salariales brutes'!$C$2:$C$1297 >= '5. Données salariales brutes'!C3) * ('5. Données salariales brutes'!$A$2:$A$1297 <> '5. Données salariales brutes'!A3), "No matches"))} -> AO-ETP-01, EN-SUR-06 | C3: {=_xlfn.TEXTJOIN(", ",TRUE,_xlfn._xlws.FILTER('5. Données salariales brutes'!$A$2:$A$1297,('5. Données salariales brutes'!$C$2:$C$1297 >'5. Données salariales brutes'!E3)*('5. Données salariales brutes'!$C$2:$C$1297 <'5. Données salariales brutes'!C3),"No matches"))} -> AO-CAI-05, AR-07, DS-6, EN-ENG-06, IT-05, SE-RES-5, SO-MAO-12
A4: ='5. Données salariales brutes'!A4 -> AC-03 | B4: {=_xlfn.TEXTJOIN(", ", TRUE, _xlfn._xlws.FILTER('5. Données salariales brutes'!$A$2:$A$1297, ('5. Données salariales brutes'!$C$2:$C$1297 < '5. Données salariales brutes'!D4) * ('5. Données salariales brutes'!$C$2:$C$1297 >= '5. Données salariales brutes'!C4) * ('5. Données salariales brutes'!$A$2:$A$1297 <> '5. Données salariales brutes'!A4), "No matches"))} -> LP-02 | C4: {=_xlfn.TEXTJOIN(", ",TRUE,_xlfn._xlws.FILTER('5. Données salariales brutes'!$A$2:$A$1297,('5. Données salariales brutes'!$C$2:$C$1297 >'5. Données salariales brutes'!E4)*('5. Données salariales brutes'!$C$2:$C$1297 <'5. Données salariales brutes'!C4),"No matches"))} -> MD-MOF-1
A5: ='5. Données salariales brutes'!A5 -> AG-01 | B5: {=_xlfn.TEXTJOIN(", ", TRUE, _xlfn._xlws.FILTER('5. Données salariales brutes'!$A$2:$A$1297, ('5. Données salariales brutes'!$C$2:$C$1297 < '5. Données salariales brutes'!D5) * ('5. Données salariales brutes'!$C$2:$C$1297 >= '5. Données salariales brutes'!C5) * ('5. Données salariales brutes'!$A$2:$A$1297 <> '5. Données salariales brutes'!A5), "No matches"))} -> AI-01, AS-04, BI-01, CH-01, CR-07, DA-CON-7, DA-PRO-7, DS-2, EC-03, ED-EST-02 (EE 8), ED-EST-02 (EE 9), ED-EST-03 (EE 6), ED-EST-04 (EE 3), ED-EST-04 (EE 4), ED-EST-05 (EE 2), ED-EST-06 (EE 1), ED-EST-04 Maritimes (EE 10), ED-EST-05 Maritimes (EE 7), ED-EST-06 Maritimes (EE 6), ED-EST-04 Québec (EE 12), ED-EST-05 Québec (EE 9), ED-EST-05 Québec (EE 10), ED-EST-06 Québec (EE 7), ED-EST-06 Québec (EE 8), ED-EST-04 Ontario (EE 8), ED-EST-05 Ontario (EE 7), ED-EST-06 Ontario (EE 4), ED-EST-06 Ontario (EE 5), ED-EST-04 Manitoba (EE 6), ED-EST-05 Manitoba (EE 4), ED-EST-05 Manitoba (EE 5), ED-EST-06 Manitoba (EE 3), ED-EST-06 Manitoba (EE 4), ED-EST-04 Saskatchewan (EE 7), ED-EST-04 Saskatchewan (EE 8), ED-EST-05 Saskatchewan (EE 5), ED-EST-05 Saskatchewan (EE 6), ED-EST-06 Saskatchewan (EE 4), ED-EST-06 Saskatchewan (EE 5), ED-EST-04 Alberta (EE 7), ED-EST-05 Alberta (EE 6), ED-EST-06 Alberta (EE 5), ED-EST-03 Colombie-Britannique (EE 9), ED-EST-04 Colombie-Britannique (EE 7), ED-EST-04 Colombie-Britannique (EE 8), ED-EST-05 Colombie-Britannique (EE 6), ED-EST-06 Colombie-Britannique (EE 4), ED-EST-06 Colombie-Britannique (EE 5), ED-LAT-02 (EE 11), ED-LAT-02 (EE 12), ED-LAT-03 (EE 10), ED-LAT-03 (EE 11), ED-LAT-04 (EE 8), ED-LAT-04 (EE 9), EG-04, EL-04, FB-2, GL-AIM-13, GL-AIM-14, GL-AMW-14, GL-COI-11, GL-COI-12, GL-EIM-10, GL-EIM-11, GL-GHW-12, GL-MAM-12, GL-MAM-13, GL-MAN-12, GL-MAN-13, GL-MDO-14, GL-MOC-13, GL-MOC-14, GL-PCF-10, GL-PCF-11, GL-PIP-11, GL-PIP-12, GL-PRW-12, GL-PRW-13, GL-SMW-9, GL-SMW-10, GL-VHE-10, GL-VHE-11, GL-WOW-12, GL-WOW-13, GS-09, HP-04, HS-PHS-08, IS-03 , IT-01, LS-01, OM-03, PC-01, PE-02, PG-03, PI-04-CGC, PM-04 , PO-IMA-02, PO-LES-TO-02, PO-LES-IM-02, PO-TCO-02, PR(S)-02, RO-03, SC-7 (utilisation de matériel et métier spécialisés), SG-SRE-02, SO-FLP-01, SR-E (Groupe salarial 3 MDO-4), SR-E (APA), SR-E (APB), SR-W (Groupe salarial 7), TI-05, WP-03 | C5: {=_xlfn.TEXTJOIN(", ",TRUE,_xlfn._xlws.FILTER('5. Données salariales brutes'!$A$2:$A$1297,('5. Données salariales brutes'!$C$2:$C$1297 >'5. Données salariales brutes'!E5)*('5. Données salariales brutes'!$C$2:$C$1297 <'5. Données salariales brutes'!C5),"No matches"))} -> DD-06, EC-02, ED-EST-01 (EE 8), ED-EST-02 (EE 7) , ED-EST-03 (EE 4), ED-EST-03 (EE 5), ED-EST-04 (EE 2), ED-EST-05 (EE 1), ED-EST-04 Maritimes (EE 8), ED-EST-04 Maritimes (EE 9), ED-EST-05 Maritimes (EE 6), ED-EST-06 Maritimes (EE 5), ED-EST-03 Québec (EE 11), ED-EST-04 Québec (EE 10), ED-EST-04 Québec (EE 11), ED-EST-05 Québec (EE 8), ED-EST-06 Québec (EE 5), ED-EST-06 Québec (EE 6), ED-EST-03 Ontario (EE 9), ED-EST-03 Ontario (EE 10), ED-EST-04 Ontario (EE 6), ED-EST-04 Ontario (EE 7), ED-EST-05 Ontario (EE 5), ED-EST-05 Ontario (EE 6), ED-EST-06 Ontario (EE 3), ED-EST-04 Manitoba (EE 4), ED-EST-04 Manitoba (EE 5), ED-EST-05 Manitoba (EE 3), ED-EST-06 Manitoba (EE 2), ED-EST-04 Saskatchewan (EE 6), ED-EST-05 Saskatchewan (EE 4), ED-EST-06 Saskatchewan (EE 3), ED-EST-03 Alberta (EE 9), ED-EST-04 Alberta (EE 5), ED-EST-04 Alberta (EE 6), ED-EST-05 Alberta (EE 4), ED-EST-05 Alberta (EE 5), ED-EST-06 Alberta (EE 3), ED-EST-06 Alberta (EE 4), ED-EST-03 Colombie-Britannique (EE 7), ED-EST-03 Colombie-Britannique (EE 8), ED-EST-04 Colombie-Britannique (EE 6), ED-EST-05 Colombie-Britannique (EE 4), ED-EST-05 Colombie-Britannique (EE 5), ED-EST-06 Colombie-Britannique (EE 3), ED-LAT-02 (EE 9), ED-LAT-02 (EE 10), ED-LAT-03 (EE 8), ED-LAT-03 (EE 9), ED-LAT-04 (EE 6), ED-LAT-04 (EE 7), EG-03, EL-03, EU-LAI-1, FB-1, GL-AIM-11, GL-AIM-12, GL-AMW-12, GL-AMW-13, GL-COI-9, GL-COI-10, GL-EIM-9, GL-ELE -14, GL-GHW-10, GL-GHW-11, GL-INM-13, GL-INM-14, GL-MAM-10, GL-MAM-11, GL-MAN-11, GL-MDO-12, GL-MDO-13, GL-MOC-11, GL-MOC-12, GL-MST-14, GL-PCF-9, GL-PIP-9, GL-PIP-10, GL-PRW-11, GL-SMW-8, GL-VHE-9, GL-WOW-11, GT-04, HP-03, HR-01, HS-HDO-08, LI-9, MA-02, PS-1, SC-5 (utilisation de matériel et métier spécialisés), SC-6 (utilisation de matériel et métier spécialisés), SG-PAT-01, SO-MAO-01, SR-E (Groupe salarial 2 ELE-2), SR-W (Groupe salarial 4), SR-W (Groupe salarial 5), SR-W (Groupe salarial 6), SR-W (Groupe salarial 9) APC-8, SR-W (Groupe salarial 9) APD-10, SW-SCW-01, SW-CHA-01, TI-04
A6: ='5. Données salariales brutes'!A6 -> AG-02 | B6: {=_xlfn.TEXTJOIN(", ", TRUE, _xlfn._xlws.FILTER('5. Données salariales brutes'!$A$2:$A$1297, ('5. Données salariales brutes'!$C$2:$C$1297 < '5. Données salariales brutes'!D6) * ('5. Données salariales brutes'!$C$2:$C$1297 >= '5. Données salariales brutes'!C6) * ('5. Données salariales brutes'!$A$2:$A$1297 <> '5. Données salariales brutes'!A6), "No matches"))} -> AS-05, BI-02, CH-02, CT-EAV-02 , CT-IAU-02, CX-2, ED-EDS-02, ED-EST-04 (EE 7), ED-EST-04 (EE 8), ED-EST-05 (EE 5), ED-EST-05 (EE 6), ED-EST-06 (EE 4), ED-EST-06 Maritimes (EE 10), ED-EST-06 Québec (EE 12), ED-EST-06 Ontario (EE 8), ED-EST-06 Ontario (EE 9), ED-EST-04 Manitoba (EE 10), ED-EST-05 Manitoba (EE 9), ED-EST-05 Manitoba (EE 10), ED-EST-06 Manitoba (EE 7), ED-EST-06 Manitoba (EE 8), ED-EST-05 Saskatchewan (EE 10), ED-EST-06 Saskatchewan (EE 9), ED-EST-06 Saskatchewan (EE 10), ED-EST-05 Alberta (EE 10), ED-EST-06 Alberta (EE 9), ED-EST-06 Alberta (EE 10), ED-EST-05 Colombie-Britannique (EE 10), ED-EST-06 Colombie-Britannique (EE 9), EU-PEI-2, FB-3, FR-2, FS-01, GL-SMW-14, GS-13, GT-06, HP-06, HR-03, IS-04 , IT-02, LS-03, LP-00, ND-ADV-1, ND-DIT-1, ND-HME-1, NU-CHN-2, NU-HOS-2, OM-04, PC-02, PG-04, PI-06-CGC, PM-05 , PM-MCO-01, PO-LES-TO-04, PO-TCO-04, PS-2, RO-05, SG-SRE-03, SO-FLP-04, SO-MAO-04, SO-RAD-03, SR-E (Groupe salarial 7), SR-E (Groupe salarial 8), SR-E (Groupe salarial 9), SR-E (Groupe salarial 10), SR-W (Groupe salarial 12), SW-SCW-03, SW-SCW-01 Travailleurs du service social clinique, SW-SCW-02 Travailleurs du service social clinique, TI-06, TI-05 Marine, VM-1, WP-04 | C6: {=_xlfn.TEXTJOIN(", ",TRUE,_xlfn._xlws.FILTER('5. Données salariales brutes'!$A$2:$A$1297,('5. Données salariales brutes'!$C$2:$C$1297 >'5. Données salariales brutes'!E6)*('5. Données salariales brutes'!$C$2:$C$1297 <'5. Données salariales brutes'!C6),"No matches"))} -> AI-02, CX-1, DD-08, DD-09, EC-04, ED-EST-03 (EE 8), ED-EST-03 (EE 9), ED-EST-04 (EE 6), ED-EST-05 (EE 4), ED-EST-06 (EE 3), ED-EST-05 Maritimes (EE 10), ED-EST-06 Maritimes (EE 9), ED-EST-06 Québec (EE 10), ED-EST-06 Québec (EE 11), ED-EST-04 Ontario (EE 10), ED-EST-05 Ontario (EE 9), ED-EST-05 Ontario (EE 10), ED-EST-06 Ontario (EE 7), ED-EST-04 Manitoba (EE 9), ED-EST-05 Manitoba (EE 7), ED-EST-05 Manitoba (EE 8), ED-EST-06 Manitoba (EE 6), ED-EST-04 Saskatchewan (EE 10), ED-EST-05 Saskatchewan (EE 8), ED-EST-05 Saskatchewan (EE 9), ED-EST-06 Saskatchewan (EE 7), ED-EST-06 Saskatchewan (EE 8), ED-EST-04 Alberta (EE 9), ED-EST-04 Alberta (EE 10), ED-EST-05 Alberta (EE 8), ED-EST-05 Alberta (EE 9), ED-EST-06 Alberta (EE 7), ED-EST-06 Alberta (EE 8), ED-EST-04 Colombie-Britannique (EE 10), ED-EST-04 Colombie-Britannique (EE 11), ED-EST-05 Colombie-Britannique (EE 8), ED-EST-05 Colombie-Britannique (EE 9), ED-EST-06 Colombie-Britannique (EE 7), ED-EST-06 Colombie-Britannique (EE 8), ED-LAT-04 (EE 11), ED-LAT-04 (EE 12), ED-LAT-04 (EE 13), EG-05, EL-05, FO-01, FR-1, GL-COI-14, GL-EIM-14, GL-PCF-14, GL-PIP-14, GL-SMW-12, GL-SMW-13, GL-VHE-13, GL-VHE-14, GS-12, GT-05, HP-05, HS-HDO-10, HS-PHS-10, MA-03, PE-03, PO-IMA-03, PO-LES-TO-03, PO-LES-IM-03, PO-TCO-03, PR(S)-03, RO-04, SO-FLP-03, SO-MAO-03, SO-RAD-02, SR-E (Groupe salarial 5), SR-E (Groupe salarial 6), TI-05 Aviation, TR-02
A7: ='5. Données salariales brutes'!A7 -> AG-03 | B7: {=_xlfn.TEXTJOIN(", ", TRUE, _xlfn._xlws.FILTER('5. Données salariales brutes'!$A$2:$A$1297, ('5. Données salariales brutes'!$C$2:$C$1297 < '5. Données salariales brutes'!D7) * ('5. Données salariales brutes'!$C$2:$C$1297 >= '5. Données salariales brutes'!C7) * ('5. Données salariales brutes'!$A$2:$A$1297 <> '5. Données salariales brutes'!A7), "No matches"))} -> AO-CAI-01, AR-04, BI-03, CH-03, ED-EDS-05, ED-EST-05 (EE 10), ED-EST-06 (EE 9), EL-07, EN-ENG-03, EN-SUR-02, FR-5, GT-07, HR-04, IT-03, MT-05, ND-HME-3, NU-CHN-5, NU-HOS-5, OP-2, PC-03, PE-05, PG-05, PH-01, PS-3, PR(S)-05, SG-PAT-04, SO-FLP-06, SO-MAO-08, SR-CPS1, SW-SCW-04, TI-08, TI-06 Marine, TI-07 Sécurité ferroviaire, TR-04, VM-2 | C7: {=_xlfn.TEXTJOIN(", ",TRUE,_xlfn._xlws.FILTER('5. Données salariales brutes'!$A$2:$A$1297,('5. Données salariales brutes'!$C$2:$C$1297 >'5. Données salariales brutes'!E7)*('5. Données salariales brutes'!$C$2:$C$1297 <'5. Données salariales brutes'!C7),"No matches"))} -> AI-03, AS-06, CT-EAV-03 , CT-IAU-03, EC-05, ED-EDS-04, ED-EST-04 (EE 10), ED-EST-05 (EE 8), ED-EST-05 (EE 9), ED-EST-06 (EE 7), ED-EST-06 (EE 8), EG-07, FB-5, FO-02, FR-4, HP-08, IS-05 , LS-04, MA-04, MT-03, MT-04, ND-ADV-2, ND-DIT-3, NU-CHN-4, NU-HOS-4, OM-05, PR(S)-04, RO-06, SG-SRE-04, SO-FLP-05, SO-MAO-07, TI-06 Aviation, TI-06 Sécurité ferroviaire, TR-03, UT-2, WP-05
A8: ='5. Données salariales brutes'!A8 -> AG-04 | B8: {=_xlfn.TEXTJOIN(", ", TRUE, _xlfn._xlws.FILTER('5. Données salariales brutes'!$A$2:$A$1297, ('5. Données salariales brutes'!$C$2:$C$1297 < '5. Données salariales brutes'!D8) * ('5. Données salariales brutes'!$C$2:$C$1297 >= '5. Données salariales brutes'!C8) * ('5. Données salariales brutes'!$A$2:$A$1297 <> '5. Données salariales brutes'!A8), "No matches"))} -> AI-07, AO-CAI-02, AO-HPS-01, AR-05, BI-04, CH-04, CO-03, DE-01, DS-4, EL-09, FB-7, FO-04, FS-03, GT-08, IT-04, LS-05, MT-06, NU-CHN-7, NU-HOS-7, PC-04, PE-06, PS-4, SE-RES-3, SG-PAT-07, SG-SRE-07, SO-INS-01, SO-MAO-10, TI-08 Marine, TI-08 Sécurité ferroviaire, TR-05, UT-3, VM-4 | C8: {=_xlfn.TEXTJOIN(", ",TRUE,_xlfn._xlws.FILTER('5. Données salariales brutes'!$A$2:$A$1297,('5. Données salariales brutes'!$C$2:$C$1297 >'5. Données salariales brutes'!E8)*('5. Données salariales brutes'!$C$2:$C$1297 <'5. Données salariales brutes'!C8),"No matches"))} -> AI-05, AI-06, AS-08, CT-FIN-03 , CT-EAV-04 , CT-IAU-04, EC-06, EG-08, EN-ENG-04, EN-SUR-03, FB-6, FO-03, FR-6, HR-05, MA-05, ND-ADV-3, ND-DIT-4, ND-HME-4, NU-CHN-6, NU-HOS-6, PG-06, PH-02, PM-07, PM-MCO-03, SE-RES-2, SG-PAT-05, SG-SRE-06, SO-MAO-09, SW-SCW-05, TI-07 Aviation, TI-07 Marine, VM-3, WP-06
A9: ='5. Données salariales brutes'!A9 -> AG-05 | B9: {=_xlfn.TEXTJOIN(", ", TRUE, _xlfn._xlws.FILTER('5. Données salariales brutes'!$A$2:$A$1297, ('5. Données salariales brutes'!$C$2:$C$1297 < '5. Données salariales brutes'!D9) * ('5. Données salariales brutes'!$C$2:$C$1297 >= '5. Données salariales brutes'!C9) * ('5. Données salariales brutes'!$A$2:$A$1297 <> '5. Données salariales brutes'!A9), "No matches"))} -> AC-01, AO-CAI-03, AO-HPS-02, AR-06, BI-05, CH-05, CO-04, CT-FIN-04 , DE-02, EC-08, EN-ENG-05, FB-8, NU-CHN-8, NU-HOS-8, PC-05, PS-5, SG-PAT-06, SG-SRE-08, SO-INS-02, SO-MAO-11, VM-5 | C9: {=_xlfn.TEXTJOIN(", ",TRUE,_xlfn._xlws.FILTER('5. Données salariales brutes'!$A$2:$A$1297,('5. Données salariales brutes'!$C$2:$C$1297 >'5. Données salariales brutes'!E9)*('5. Données salariales brutes'!$C$2:$C$1297 <'5. Données salariales brutes'!C9),"No matches"))} -> AI-07, AO-CAI-02, AO-HPS-01, AR-05, CO-03, CT-EAV-05 , DS-4, EC-07, EN-SUR-04, FB-7, FO-04, FS-03, IT-04, MA-06, MT-07, NU-CHN-7, NU-HOS-7, PH-03, SE-REM-1, SE-RES-3, SG-PAT-07, SG-SRE-07, SO-INS-01, SO-MAO-10, TI-08 Aviation, TI-08 Marine, VM-4
A10: ='5. Données salariales brutes'!A10 -> AI-01 | B10: {=_xlfn.TEXTJOIN(", ", TRUE, _xlfn._xlws.FILTER('5. Données salariales brutes'!$A$2:$A$1297, ('5. Données salariales brutes'!$C$2:$C$1297 < '5. Données salariales brutes'!D10) * ('5. Données salariales brutes'!$C$2:$C$1297 >= '5. Données salariales brutes'!C10) * ('5. Données salariales brutes'!$A$2:$A$1297 <> '5. Données salariales brutes'!A10), "No matches"))} -> AR-02, CO-01, CT-EAV-01 , CT-IAU-01 , DA-CON-8, DA-PRO-7, DD-07, ED-EDS-01, ED-EST-02 (EE 9), ED-EST-03 (EE 7), ED-EST-04 (EE 4), ED-EST-05 (EE 2), ED-EST-05 (EE 3), ED-EST-06 (EE 1), ED-EST-05 Maritimes (EE 8), ED-EST-06 Maritimes (EE 7), ED-EST-05 Québec (EE 11), ED-EST-06 Québec (EE 8), ED-EST-06 Québec (EE 9), ED-EST-04 Ontario (EE 8), ED-EST-04 Ontario (EE 9), ED-EST-05 Ontario (EE 8), ED-EST-06 Ontario (EE 5), ED-EST-04 Manitoba (EE 7), ED-EST-05 Manitoba (EE 5), ED-EST-05 Manitoba (EE 6), ED-EST-06 Manitoba (EE 4), ED-EST-04 Saskatchewan (EE 8), ED-EST-04 Saskatchewan (EE 9), ED-EST-05 Saskatchewan (EE 6), ED-EST-05 Saskatchewan (EE 7), ED-EST-06 Saskatchewan (EE 5), ED-EST-06 Saskatchewan (EE 6), ED-EST-04 Alberta (EE 8), ED-EST-05 Alberta (EE 7), ED-EST-06 Alberta (EE 5), ED-EST-06 Alberta (EE 6), ED-EST-04 Colombie-Britannique (EE 8), ED-EST-04 Colombie-Britannique (EE 9), ED-EST-05 Colombie-Britannique (EE 6), ED-EST-05 Colombie-Britannique (EE 7), ED-EST-06 Colombie-Britannique (EE 5), ED-EST-06 Colombie-Britannique (EE 6), ED-LAT-02 (EE 12), ED-LAT-02 (EE 13), ED-LAT-03 (EE 11), ED-LAT-03 (EE 12), ED-LAT-04 (EE 9), ED-LAT-04 (EE 10), EG-04, EL-04, EN-ENG-02, EN-SUR-01, FB-2, GL-AIM-14, GL-COI-12, GL-COI-13, GL-EIM-11, GL-EIM-12, GL-MAM-13, GL-MAM-14, GL-MAN-13, GL-MAN-14, GL-MOC-14, GL-PCF-12, GL-PIP-12, GL-PIP-13, GL-PRW-13, GL-PRW-14, GL-SMW-10, GL-SMW-11, GL-VHE-11, GL-VHE-12, GL-WOW-13, GL-WOW-14, GS-10, HP-04, HR-02, HS-HDO-09, IT-01, LS-01, LS-02, MT-02, OM-03, PE-02, PG-03, PR(S)-02, SC-7 (utilisation de matériel et métier spécialisés), SE-RES-1, SG-PAT-02, SG-SRE-02, SO-FLP-02, SO-MAO-02, SO-RAD-01, SR-W (Groupe salarial 8), SW-SCW-02, TI-05, UT-1, WP-03 | C10: {=_xlfn.TEXTJOIN(", ",TRUE,_xlfn._xlws.FILTER('5. Données salariales brutes'!$A$2:$A$1297,('5. Données salariales brutes'!$C$2:$C$1297 >'5. Données salariales brutes'!E10)*('5. Données salariales brutes'!$C$2:$C$1297 <'5. Données salariales brutes'!C10),"No matches"))} -> AG-01, AS-04, BI-01, CH-01, CR-07, DA-CON-7, DD-06, DS-2, EC-03, ED-EST-01 (EE 8), ED-EST-02 (EE 8), ED-EST-03 (EE 5), ED-EST-03 (EE 6), ED-EST-04 (EE 3), ED-EST-05 (EE 1), ED-EST-04 Maritimes (EE 9), ED-EST-04 Maritimes (EE 10), ED-EST-05 Maritimes (EE 6), ED-EST-05 Maritimes (EE 7), ED-EST-06 Maritimes (EE 5), ED-EST-06 Maritimes (EE 6), ED-EST-04 Québec (EE 11), ED-EST-04 Québec (EE 12), ED-EST-05 Québec (EE 9), ED-EST-05 Québec (EE 10), ED-EST-06 Québec (EE 6), ED-EST-06 Québec (EE 7), ED-EST-03 Ontario (EE 10), ED-EST-04 Ontario (EE 7), ED-EST-05 Ontario (EE 6), ED-EST-05 Ontario (EE 7), ED-EST-06 Ontario (EE 4), ED-EST-04 Manitoba (EE 5), ED-EST-04 Manitoba (EE 6), ED-EST-05 Manitoba (EE 4), ED-EST-06 Manitoba (EE 3), ED-EST-04 Saskatchewan (EE 6), ED-EST-04 Saskatchewan (EE 7), ED-EST-05 Saskatchewan (EE 5), ED-EST-06 Saskatchewan (EE 3), ED-EST-06 Saskatchewan (EE 4), ED-EST-04 Alberta (EE 6), ED-EST-04 Alberta (EE 7), ED-EST-05 Alberta (EE 5), ED-EST-05 Alberta (EE 6), ED-EST-06 Alberta (EE 4), ED-EST-03 Colombie-Britannique (EE 8), ED-EST-03 Colombie-Britannique (EE 9), ED-EST-04 Colombie-Britannique (EE 7), ED-EST-05 Colombie-Britannique (EE 5), ED-EST-06 Colombie-Britannique (EE 4), ED-LAT-02 (EE 10), ED-LAT-02 (EE 11), ED-LAT-03 (EE 9), ED-LAT-03 (EE 10), ED-LAT-04 (EE 7), ED-LAT-04 (EE 8), EL-03, FB-1, GL-AIM-13, GL-AMW-13, GL-AMW-14, GL-COI-10, GL-COI-11, GL-EIM-10, GL-GHW-12, GL-INM-14, GL-MAM-11, GL-MAM-12, GL-MAN-12, GL-MDO-13, GL-MDO-14, GL-MOC-12, GL-MOC-13, GL-PCF-10, GL-PCF-11, GL-PIP-10, GL-PIP-11, GL-PRW-12, GL-SMW-9, GL-VHE-10, GL-WOW-12, GS-09, GT-04, HS-PHS-08, IS-03 , LI-9, PC-01, PI-04-CGC, PM-04 , PO-IMA-02, PO-LES-TO-02, PO-LES-IM-02, PO-TCO-02, PS-1, RO-03, SC-6 (utilisation de matériel et métier spécialisés), SO-FLP-01, SR-E (Groupe salarial 3 MDO-4), SR-E (APA), SR-E (APB), SR-W (Groupe salarial 6), SR-W (Groupe salarial 7), SW-SCW-01
A11: ='5. Données salariales brutes'!A11 -> AI-02 | B11: {=_xlfn.TEXTJOIN(", ", TRUE, _xlfn._xlws.FILTER('5. Données salariales brutes'!$A$2:$A$1297, ('5. Données salariales brutes'!$C$2:$C$1297 < '5. Données salariales brutes'!D11) * ('5. Données salariales brutes'!$C$2:$C$1297 >= '5. Données salariales brutes'!C11) * ('5. Données salariales brutes'!$A$2:$A$1297 <> '5. Données salariales brutes'!A11), "No matches"))} -> AG-02, AS-05, BI-02, CH-02, CX-2, ED-EDS-02, ED-EST-04 (EE 7), ED-EST-04 (EE 8), ED-EST-05 (EE 5), ED-EST-05 (EE 6), ED-EST-06 (EE 4), ED-EST-06 Maritimes (EE 10), ED-EST-06 Québec (EE 12), ED-EST-06 Ontario (EE 8), ED-EST-04 Manitoba (EE 10), ED-EST-05 Manitoba (EE 9), ED-EST-05 Manitoba (EE 10), ED-EST-06 Manitoba (EE 7), ED-EST-06 Manitoba (EE 8), ED-EST-05 Saskatchewan (EE 10), ED-EST-06 Saskatchewan (EE 9), ED-EST-06 Saskatchewan (EE 10), ED-EST-05 Alberta (EE 10), ED-EST-06 Alberta (EE 9), ED-EST-05 Colombie-Britannique (EE 9), ED-EST-05 Colombie-Britannique (EE 10), ED-EST-06 Colombie-Britannique (EE 8), ED-EST-06 Colombie-Britannique (EE 9), ED-LAT-04 (EE 13), EU-PEI-2, FB-3, FR-2, FS-01, GL-SMW-14, GS-13, GT-06, HP-06, HR-03, IS-04 , IT-02, LP-00, ND-ADV-1, ND-DIT-1, ND-HME-1, NU-CHN-2, NU-HOS-2, OM-04, PC-02, PE-03, PG-04, PI-06-CGC, PM-05 , PM-MCO-01, PO-LES-TO-04, PO-TCO-04, PS-2, PR(S)-03, RO-05, SG-SRE-03, SO-FLP-03, SO-MAO-04, SO-RAD-03, SR-E (Groupe salarial 6), SR-E (Groupe salarial 7), SR-E (Groupe salarial 8), SR-E (Groupe salarial 9), SR-E (Groupe salarial 10), SR-W (Groupe salarial 12), SW-SCW-03, SW-SCW-01 Travailleurs du service social clinique, TI-06, TI-05 Marine, VM-1, WP-04 | C11: {=_xlfn.TEXTJOIN(", ",TRUE,_xlfn._xlws.FILTER('5. Données salariales brutes'!$A$2:$A$1297,('5. Données salariales brutes'!$C$2:$C$1297 >'5. Données salariales brutes'!E11)*('5. Données salariales brutes'!$C$2:$C$1297 <'5. Données salariales brutes'!C11),"No matches"))} -> CX-1, DD-08, DD-09, EC-04, ED-EST-03 (EE 8), ED-EST-03 (EE 9), ED-EST-04 (EE 6), ED-EST-05 (EE 4), ED-EST-06 (EE 2), ED-EST-06 (EE 3), ED-EST-05 Maritimes (EE 10), ED-EST-06 Maritimes (EE 9), ED-EST-06 Québec (EE 10), ED-EST-06 Québec (EE 11), ED-EST-04 Ontario (EE 10), ED-EST-05 Ontario (EE 9), ED-EST-05 Ontario (EE 10), ED-EST-06 Ontario (EE 6), ED-EST-06 Ontario (EE 7), ED-EST-04 Manitoba (EE 8), ED-EST-04 Manitoba (EE 9), ED-EST-05 Manitoba (EE 7), ED-EST-05 Manitoba (EE 8), ED-EST-06 Manitoba (EE 6), ED-EST-04 Saskatchewan (EE 10), ED-EST-05 Saskatchewan (EE 8), ED-EST-05 Saskatchewan (EE 9), ED-EST-06 Saskatchewan (EE 7), ED-EST-06 Saskatchewan (EE 8), ED-EST-04 Alberta (EE 9), ED-EST-04 Alberta (EE 10), ED-EST-05 Alberta (EE 8), ED-EST-05 Alberta (EE 9), ED-EST-06 Alberta (EE 7), ED-EST-06 Alberta (EE 8), ED-EST-04 Colombie-Britannique (EE 10), ED-EST-04 Colombie-Britannique (EE 11), ED-EST-05 Colombie-Britannique (EE 8), ED-EST-06 Colombie-Britannique (EE 7), ED-LAT-03 (EE 13), ED-LAT-04 (EE 11), ED-LAT-04 (EE 12), EG-05, EL-05, FO-01, FR-1, GL-COI-14, GL-EIM-13, GL-EIM-14, GL-PCF-13, GL-PCF-14, GL-PIP-14, GL-SMW-12, GL-SMW-13, GL-VHE-13, GL-VHE-14, GS-12, GT-05, HP-05, HS-HDO-10, HS-PHS-09, HS-PHS-10, MA-03, PO-IMA-03, PO-LES-TO-03, PO-LES-IM-03, PO-TCO-03, RO-04, SO-MAO-03, SO-RAD-02, SR-E (Groupe salarial 4 MDO-5), SR-E (Groupe salarial 5), SR-W (Groupe salarial 11), SW-CHA-02, TI-05 Aviation, TR-02
A12: ='5. Données salariales brutes'!A12 -> AI-03 | B12: {=_xlfn.TEXTJOIN(", ", TRUE, _xlfn._xlws.FILTER('5. Données salariales brutes'!$A$2:$A$1297, ('5. Données salariales brutes'!$C$2:$C$1297 < '5. Données salariales brutes'!D12) * ('5. Données salariales brutes'!$C$2:$C$1297 >= '5. Données salariales brutes'!C12) * ('5. Données salariales brutes'!$A$2:$A$1297 <> '5. Données salariales brutes'!A12), "No matches"))} -> AG-03, AS-06, BI-03, CH-03, CT-EAV-03 , CT-IAU-03, EC-05, ED-EDS-04, ED-EST-04 (EE 10), ED-EST-05 (EE 8), ED-EST-05 (EE 9), ED-EST-06 (EE 7), ED-EST-06 (EE 8), EG-07, EL-07, FB-5, FO-02, FR-4, HP-08, IS-05 , LS-04, MA-04, MT-04, ND-ADV-2, ND-DIT-3, NU-CHN-4, NU-HOS-4, OM-05, OP-2, PC-03, RO-06, SG-SRE-04, SO-FLP-05, SO-MAO-07, TI-06 Aviation, TI-06 Marine, TI-06 Sécurité ferroviaire, TR-03, UT-2, WP-05 | C12: {=_xlfn.TEXTJOIN(", ",TRUE,_xlfn._xlws.FILTER('5. Données salariales brutes'!$A$2:$A$1297,('5. Données salariales brutes'!$C$2:$C$1297 >'5. Données salariales brutes'!E12)*('5. Données salariales brutes'!$C$2:$C$1297 <'5. Données salariales brutes'!C12),"No matches"))} -> AR-03, CT-FIN-02 , CX-3, DS-3, ED-EDS-03, ED-EST-04 (EE 9), ED-EST-05 (EE 7), ED-EST-06 (EE 5), ED-EST-06 (EE 6), ED-EST-06 Ontario (EE 10), ED-EST-06 Manitoba (EE 9), ED-EST-06 Manitoba (EE 10), ED-EST-05 Colombie-Britannique (EE 11), ED-EST-06 Colombie-Britannique (EE 10), ED-EST-06 Colombie-Britannique (EE 11), EG-06, EL-06, FB-4, FR-3, HP-07, MT-03, ND-DIT-2, ND-HME-2, NU-CHN-3, NU-HOS-3, OP-1, PE-04, PI-07-CGC, PR(S)-04, SG-PAT-03, SO-MAO-05, SO-MAO-06, SR-E (Groupe salarial 11), SR-E (Groupe salarial 12), SW-SCW-03 Travailleurs du service social clinique, SW-CHA-03, TI-07
A13: ='5. Données salariales brutes'!A13 -> AI-04 | B13: {=_xlfn.TEXTJOIN(", ", TRUE, _xlfn._xlws.FILTER('5. Données salariales brutes'!$A$2:$A$1297, ('5. Données salariales brutes'!$C$2:$C$1297 < '5. Données salariales brutes'!D13) * ('5. Données salariales brutes'!$C$2:$C$1297 >= '5. Données salariales brutes'!C13) * ('5. Données salariales brutes'!$A$2:$A$1297 <> '5. Données salariales brutes'!A13), "No matches"))} -> AI-05, AS-07, CT-FIN-03 , CT-EAV-04 , CT-IAU-04, EC-06, ED-EST-06 (EE 10), EG-08, EL-08, EN-SUR-03, FB-6, FO-03, FR-6, FS-02, HP-09, HR-05, IS-06 , MA-05, ND-ADV-3, ND-DIT-4, ND-HME-4, NU-CHN-6, NU-HOS-6, PG-06, PH-02, PM-06 , PM-MCO-02, SE-RES-2, SG-SRE-06, SO-FLP-07, SO-MAO-09, SW-SCW-05, TI-07 Aviation, TI-07 Marine, VM-3, WP-06 | C13: {=_xlfn.TEXTJOIN(", ",TRUE,_xlfn._xlws.FILTER('5. Données salariales brutes'!$A$2:$A$1297,('5. Données salariales brutes'!$C$2:$C$1297 >'5. Données salariales brutes'!E13)*('5. Données salariales brutes'!$C$2:$C$1297 <'5. Données salariales brutes'!C13),"No matches"))} -> AO-CAI-01, AR-04, CO-02, ED-EDS-05, ED-EST-05 (EE 10), ED-EST-06 (EE 9), EN-ENG-03, EN-SUR-02, FR-5, GT-07, HR-04, IT-03, LP-01, MT-05, ND-HME-3, NU-CHN-5, NU-HOS-5, OP-3, PC-03, PE-05, PG-05, PH-01, PS-3, PR(S)-05, SG-PAT-04, SG-SRE-05, SO-FLP-06, SO-MAO-08, SR-CPS1, SW-SCW-04, TI-08, TI-07 Sécurité ferroviaire, TR-04, VM-2
... A1297: ='5. Données salariales brutes'!A1297 -> WP-06 | B1297: {=_xlfn.TEXTJOIN(", ", TRUE, _xlfn._xlws.FILTER('5. Données salariales brutes'!$A$2:$A$1297, ('5. Données salariales brutes'!$C$2:$C$1297 < '5. Données salariales brutes'!D1297) * ('5. Données salariales brutes'!$C$2:$C$1297 >= '5. Données salariales brutes'!C1297) * ('5. Données salariales brutes'!$A$2:$A$1297 <> '5. Données salariales brutes'!A1297), "No matches"))} -> AG-04, AI-06, AI-07, AO-CAI-02, AR-05, AS-08, BI-04, CH-04, CO-03, DE-01, EL-09, EN-ENG-04, FB-7, FO-04, FS-03, GT-08, IT-04, LS-05, MT-06, PC-04, PE-06, PM-07, PM-MCO-03, PS-4, SG-PAT-05, SG-SRE-07, SO-MAO-10, TI-08 Sécurité ferroviaire, TR-05, UT-3 | C1297: {=_xlfn.TEXTJOIN(", ",TRUE,_xlfn._xlws.FILTER('5. Données salariales brutes'!$A$2:$A$1297,('5. Données salariales brutes'!$C$2:$C$1297 >'5. Données salariales brutes'!E1297)*('5. Données salariales brutes'!$C$2:$C$1297 <'5. Données salariales brutes'!C1297),"No matches"))} -> AI-04, AI-05, AS-07, CT-FIN-03 , CT-EAV-04 , CT-IAU-04, EC-06, ED-EST-06 (EE 10), EG-08, EL-08, EN-SUR-03, FB-6, FO-03, FR-6, FS-02, HP-09, HR-05, IS-06 , LP-01, MA-05, ND-ADV-3, ND-DIT-4, ND-HME-4, NU-CHN-6, NU-HOS-6, PG-06, PH-02, PM-06 , PM-MCO-02, SE-RES-2, SG-SRE-06, SO-FLP-07, SO-MAO-09, SW-SCW-05, TI-07 Aviation, TI-07 Marine, VM-3

Sheet 5. Données salariales brutes
A1: Poste substantif (groupe et niveau) | B1: Date d'entrée en vigueur | C1: salaire maximal (annual) | D1: salaire maximal plus 6% | E1: salaire maximal moins 6% | F1: helper column | I1: test
A2: AC-01 | B2: D) October 1, 2025 | C2: 154237 | D2: =SUM(C2*1.06) -> 163491.22 | E2: =SUM(C2*0.94) -> 144982.78 | F2: =IF(COUNTIF(C$2:C$1297, C2)>1, "Duplicate", "") | G2: AC rates of pay | I2: {=_xlfn.TEXTJOIN(", ",TRUE,_xlfn._xlws.FILTER('5. Données salariales brutes'!$A$2:$A$1297,('5. Données salariales brutes'!$C$2:$C$1297 >'5. Données salariales brutes'!E2)*('5. Données salariales brutes'!$C$2:$C$1297 <'5. Données salariales brutes'!C2),"No matches"))} -> AG-05, AO-CAI-03, AO-HPS-02, BI-05, CH-05, CO-04, CT-FIN-04 , CT-EAV-05 , DE-02, DS-4, EC-07, EN-SUR-04, MA-06, MT-07, NU-CHN-7, NU-CHN-8, NU-HOS-7, NU-HOS-8, PC-05, PH-03, SE-REM-1, SE-RES-3, SG-PAT-06, SG-PAT-07, SG-SRE-08, TI-08 Aviation, VM-4 | V2: ED
A3: AC-02 | B3: D) October 1, 2025 | C3: 179553 | D3: =SUM(C3*1.06) -> 190326.18 | E3: =SUM(C3*0.94) -> 168779.82 | F3: =IF(COUNTIF(C$2:C$1297, C3)>1, "Duplicate", "") | I3: {=_xlfn.TEXTJOIN(", ", TRUE, _xlfn._xlws.FILTER('5. Données salariales brutes'!$A$2:$A$1297, ('5. Données salariales brutes'!$C$2:$C$1297 < '5. Données salariales brutes'!D2) * ('5. Données salariales brutes'!$C$2:$C$1297 >= '5. Données salariales brutes'!C2) * ('5. Données salariales brutes'!$A$2:$A$1297 <> '5. Données salariales brutes'!A2), "No matches"))} -> AO-CAI-04, AO-HPS-03, AR-06, CT-EAV-06 , EC-08, EN-ENG-05, FB-8, FS-04, MA-07, PM-MCO-04, PS-5, SE-RES-4, SO-INS-02, SO-MAO-11, VM-5 | V3: EU
A4: AC-03 | B4: D) October 1, 2025 | C4: 199274 | D4: =SUM(C4*1.06) -> 211230.44 | E4: =SUM(C4*0.94) -> 187317.56 | F4: =IF(COUNTIF(C$2:C$1297, C4)>1, "Duplicate", "")
A5: AG-01 | B5: D) October 1, 2025 | C5: 85423 | D5: =SUM(C5*1.06) -> 90548.38 | E5: =SUM(C5*0.94) -> 80297.62 | F5: =IF(COUNTIF(C$2:C$1297, C5)>1, "Duplicate", "") -> Duplicate | G5: AG rates of pay
A6: AG-02 | B6: D) October 1, 2025 | C6: 101162 | D6: =SUM(C6*1.06) -> 107231.72 | E6: =SUM(C6*0.94) -> 95092.28 | F6: =IF(COUNTIF(C$2:C$1297, C6)>1, "Duplicate", "") -> Duplicate
A7: AG-03 | B7: D) October 1, 2025 | C7: 120292 | D7: =SUM(C7*1.06) -> 127509.52 | E7: =SUM(C7*0.94) -> 113074.48 | F7: =IF(COUNTIF(C$2:C$1297, C7)>1, "Duplicate", "") -> Duplicate
A8: AG-04 | B8: D) October 1, 2025 | C8: 137710 | D8: =SUM(C8*1.06) -> 145972.6 | E8: =SUM(C8*0.94) -> 129447.4 | F8: =IF(COUNTIF(C$2:C$1297, C8)>1, "Duplicate", "") -> Duplicate
A9: AG-05 | B9: D) October 1, 2025 | C9: 150293 | D9: =SUM(C9*1.06) -> 159310.58 | E9: =SUM(C9*0.94) -> 141275.42 | F9: =IF(COUNTIF(C$2:C$1297, C9)>1, "Duplicate", "") -> Duplicate
A10: AI-01 | B10: D) July 1, 2021 | C10: 88615 | D10: =SUM(C10*1.06) -> 93931.9 | E10: =SUM(C10*0.94) -> 83298.1 | F10: =IF(COUNTIF(C$2:C$1297, C10)>1, "Duplicate", "") | G10: AI rates of pay
A11: AI-02 | B11: D) July 1, 2021 | C11: 100530 | D11: =SUM(C11*1.06) -> 106561.8 | E11: =SUM(C11*0.94) -> 94498.2 | F11: =IF(COUNTIF(C$2:C$1297, C11)>1, "Duplicate", "")
A12: AI-03 | B12: D) July 1, 2021 | C12: 114167 | D12: =SUM(C12*1.06) -> 121017.02 | E12: =SUM(C12*0.94) -> 107316.98 | F12: =IF(COUNTIF(C$2:C$1297, C12)>1, "Duplicate", "")
A13: AI-04 | B13: D) July 1, 2021 | C13: 128692 | D13: =SUM(C13*1.06) -> 136413.52 | E13: =SUM(C13*0.94) -> 120970.48 | F13: =IF(COUNTIF(C$2:C$1297, C13)>1, "Duplicate", "")
A14: AI-05 | B14: D) July 1, 2021 | C14: 132161 | D14: =SUM(C14*1.06) -> 140090.66 | E14: =SUM(C14*0.94) -> 124231.34 | F14: =IF(COUNTIF(C$2:C$1297, C14)>1, "Duplicate", "")
A15: AI-06 | B15: D) July 1, 2021 | C15: 136536 | D15: =SUM(C15*1.06) -> 144728.16 | E15: =SUM(C15*0.94) -> 128343.84 | F15: =IF(COUNTIF(C$2:C$1297, C15)>1, "Duplicate", "")
A16: AI-07 | B16: D) July 1, 2021 | C16: 141356 | D16: =SUM(C16*1.06) -> 149837.36 | E16: =SUM(C16*0.94) -> 132874.64 | F16: =IF(COUNTIF(C$2:C$1297, C16)>1, "Duplicate", "")
A17: AO-CAI-01 | B17: D) January 26, 2026 | C17: 125684 | D17: =SUM(C17*1.06) -> 133225.04 | E17: =SUM(C17*0.94) -> 118142.96 | F17: =IF(COUNTIF(C$2:C$1297, C17)>1, "Duplicate", "") | G17: AO rates of pay
A18: AO-CAI-02 | B18: D) January 26, 2026 | C18: 141787 | D18: =SUM(C18*1.06) -> 150294.22 | E18: =SUM(C18*0.94) -> 133279.78 | F18: =IF(COUNTIF(C$2:C$1297, C18)>1, "Duplicate", "")
A19: AO-CAI-03 | B19: D) January 26, 2026 | C19: 151123 | D19: =SUM(C19*1.06) -> 160190.38 | E19: =SUM(C19*0.94) -> 142055.62 | F19: =IF(COUNTIF(C$2:C$1297, C19)>1, "Duplicate", "")
A20: AO-CAI-04 | B20: D) January 26, 2026 | C20: 160308 | D20: =SUM(C20*1.06) -> 169926.48 | E20: =SUM(C20*0.94) -> 150689.52 | F20: =IF(COUNTIF(C$2:C$1297, C20)>1, "Duplicate", "")
A21: AO-CAI-05 | B21: D) January 26, 2026 | C21: 172529 | D21: =SUM(C21*1.06) -> 182880.74 | E21: =SUM(C21*0.94) -> 162177.26 | F21: =IF(COUNTIF(C$2:C$1297, C21)>1, "Duplicate", "")
A22: AO-ETP-01 | B22: D) January 26, 2026 | C22: 186445 | D22: =SUM(C22*1.06) -> 197631.7 | E22: =SUM(C22*0.94) -> 175258.3 | F22: =IF(COUNTIF(C$2:C$1297, C22)>1, "Duplicate", "") | G22: AO-ETP rates of pay
A23: AO-HPS-01 | B23: D) January 26, 2026 | C23: 144920 | D23: =SUM(C23*1.06) -> 153615.2 | E23: =SUM(C23*0.94) -> 136224.8 | F23: =IF(COUNTIF(C$2:C$1297, C23)>1, "Duplicate", "") | G23: AO-HPS rates of pay
A24: AO-HPS-02 | B24: D) January 26, 2026 | C24: 151790 | D24: =SUM(C24*1.06) -> 160897.4 | E24: =SUM(C24*0.94) -> 142682.6 | F24: =IF(COUNTIF(C$2:C$1297, C24)>1, "Duplicate", "")
A25: AO-HPS-03 | B25: D) January 26, 2026 | C25: 161771 | D25: =SUM(C25*1.06) -> 171477.26 | E25: =SUM(C25*0.94) -> 152064.74 | F25: =IF(COUNTIF(C$2:C$1297, C25)>1, "Duplicate", "")
A26: AR-01 | B26: D) October 1, 2025 | C26: 73133 | D26: =SUM(C26*1.06) -> 77520.98 | E26: =SUM(C26*0.94) -> 68745.02 | F26: =IF(COUNTIF(C$2:C$1297, C26)>1, "Duplicate", "") | G26: AR rates of pay
A27: AR-02 | B27: D) October 1, 2025 | C27: 93501 | D27: =SUM(C27*1.06) -> 99111.06 | E27: =SUM(C27*0.94) -> 87890.94 | F27: =IF(COUNTIF(C$2:C$1297, C27)>1, "Duplicate", "")
A28: AR-03 | B28: D) October 1, 2025 | C28: 111668 | D28: =SUM(C28*1.06) -> 118368.08 | E28: =SUM(C28*0.94) -> 104967.92 | F28: =IF(COUNTIF(C$2:C$1297, C28)>1, "Duplicate", "")
A29: AR-04 | B29: D) October 1, 2025 | C29: 126214 | D29: =SUM(C29*1.06) -> 133786.84 | E29: =SUM(C29*0.94) -> 118641.16 | F29: =IF(COUNTIF(C$2:C$1297, C29)>1, "Duplicate", "")
A30: AR-05 | B30: D) October 1, 2025 | C30: 141808 | D30: =SUM(C30*1.06) -> 150316.48 | E30: =SUM(C30*0.94) -> 133299.52 | F30: =IF(COUNTIF(C$2:C$1297, C30)>1, "Duplicate", "")
A31: AR-06 | B31: D) October 1, 2025 | C31: 156341 | D31: =SUM(C31*1.06) -> 165721.46 | E31: =SUM(C31*0.94) -> 146960.54 | F31: =IF(COUNTIF(C$2:C$1297, C31)>1, "Duplicate", "")
A32: AR-07 | B32: D) October 1, 2025 | C32: 176475 | D32: =SUM(C32*1.06) -> 187063.5 | E32: =SUM(C32*0.94) -> 165886.5 | F32: =IF(COUNTIF(C$2:C$1297, C32)>1, "Duplicate", "")
A33: AS-01 | B33: Z) June 21, 2024 - Wage Adjustment | C33: 69106 | D33: =SUM(C33*1.06) -> 73252.36 | E33: =SUM(C33*0.94) -> 64959.64 | F33: =IF( COUNTIF(C$2:C$1297,#REF!)>1, "Duplicate", "") | G33: AS rates of pay
A34: AS-02 | B34: Z) June 21, 2024 - Wage Adjustment | C34: 74180 | D34: =SUM(C34*1.06) -> 78630.8 | E34: =SUM(C34*0.94) -> 69729.2 | F34: =IF( COUNTIF(C$2:C$1297,#REF!)>1, "Duplicate", "")
A35: AS-03 | B35: Z) June 21, 2024 - Wage Adjustment | C35: 79511 | D35: =SUM(C35*1.06) -> 84281.66 | E35: =SUM(C35*0.94) -> 74740.34 | F35: =IF( COUNTIF(C$2:C$1297,#REF!)>1, "Duplicate", "")
A36: AS-04 | B36: Z) June 21, 2024 - Wage Adjustment | C36: 87108 | D36: =SUM(C36*1.06) -> 92334.48 | E36: =SUM(C36*0.94) -> 81881.52 | F36: =IF( COUNTIF(C$2:C$1297,#REF!)>1, "Duplicate", "")
A37: AS-05 | B37: Z) June 21, 2024 - Wage Adjustment | C37: 104044 | D37: =SUM(C37*1.06) -> 110286.64 | E37: =SUM(C37*0.94) -> 97801.36 | F37: =IF( COUNTIF(C$2:C$1297,#REF!)>1, "Duplicate", "")
A38: AS-06 | B38: Z) June 21, 2024 - Wage Adjustment | C38: 115642 | D38: =SUM(C38*1.06) -> 122580.52 | E38: =SUM(C38*0.94) -> 108703.48 | F38: =IF( COUNTIF(C$2:C$1297,#REF!)>1, "Duplicate", "")
A39: AS-07 | B39: Z) June 21, 2024 - Wage Adjustment | C39: 129017 | D39: =SUM(C39*1.06) -> 136758.02 | E39: =SUM(C39*0.94) -> 121275.98 | F39: =IF( COUNTIF(C$2:C$1297,#REF!)>1, "Duplicate", "")
A40: AS-08 | B40: Z) June 21, 2024 - Wage Adjustment | C40: 137135 | D40: =SUM(C40*1.06) -> 145363.1 | E40: =SUM(C40*0.94) -> 128906.9 | F40: =IF( COUNTIF(C$2:C$1297,#REF!)>1, "Duplicate", "")
A41: BI-01 | B41: D) October 1, 2025 | C41: 85423 | D41: =SUM(C41*1.06) -> 90548.38 | E41: =SUM(C41*0.94) -> 80297.62 | F41: =IF(COUNTIF(C$2:C$1297, C41)>1, "Duplicate", "") -> Duplicate | G41: BI rates of pay
A42: BI-02 | B42: D) October 1, 2025 | C42: 101162 | D42: =SUM(C42*1.06) -> 107231.72 | E42: =SUM(C42*0.94) -> 95092.28 | F42: =IF(COUNTIF(C$2:C$1297, C42)>1, "Duplicate", "") -> Duplicate
A43: BI-03 | B43: D) October 1, 2025 | C43: 120292 | D43: =SUM(C43*1.06) -> 127509.52 | E43: =SUM(C43*0.94) -> 113074.48 | F43: =IF(COUNTIF(C$2:C$1297, C43)>1, "Duplicate", "") -> Duplicate
A44: BI-04 | B44: D) October 1, 2025 | C44: 137710 | D44: =SUM(C44*1.06) -> 145972.6 | E44: =SUM(C44*0.94) -> 129447.4 | F44: =IF(COUNTIF(C$2:C$1297, C44)>1, "Duplicate", "") -> Duplicate
A45: BI-05 | B45: D) October 1, 2025 | C45: 150293 | D45: =SUM(C45*1.06) -> 159310.58 | E45: =SUM(C45*0.94) -> 141275.42 | F45: =IF(COUNTIF(C$2:C$1297, C45)>1, "Duplicate", "") -> Duplicate
A46: CH-01 | B46: D) October 1, 2025 | C46: 85423 | D46: =SUM(C46*1.06) -> 90548.38 | E46: =SUM(C46*0.94) -> 80297.62 | F46: =IF(COUNTIF(C$2:C$1297, C46)>1, "Duplicate", "") -> Duplicate | G46: CH rates of pay
A47: CH-02 | B47: D) October 1, 2025 | C47: 101162 | D47: =SUM(C47*1.06) -> 107231.72 | E47: =SUM(C47*0.94) -> 95092.28 | F47: =IF(COUNTIF(C$2:C$1297, C47)>1, "Duplicate", "") -> Duplicate
A48: CH-03 | B48: D) October 1, 2025 | C48: 120292 | D48: =SUM(C48*1.06) -> 127509.52 | E48: =SUM(C48*0.94) -> 113074.48 | F48: =IF(COUNTIF(C$2:C$1297, C48)>1, "Duplicate", "") -> Duplicate
A49: CH-04 | B49: D) October 1, 2025 | C49: 137710 | D49: =SUM(C49*1.06) -> 145972.6 | E49: =SUM(C49*0.94) -> 129447.4 | F49: =IF(COUNTIF(C$2:C$1297, C49)>1, "Duplicate", "") -> Duplicate
A50: CH-05 | B50: D) October 1, 2025 | C50: 150293 | D50: =SUM(C50*1.06) -> 159310.58 | E50: =SUM(C50*0.94) -> 141275.42 | F50: =IF(COUNTIF(C$2:C$1297, C50)>1, "Duplicate", "") -> Duplicate
A51: CM-01 | B51: Z) June 21, 2024 - Wage Adjustment | C51: 41399 | D51: =SUM(C51*1.06) -> 43882.94 | E51: =SUM(C51*0.94) -> 38915.06 | F51: =IF(COUNTIF(C$2:C$1297, C51)>1, "Duplicate", "") | G51: CM rates of pay
A52: CM-02 | B52: Z) June 21, 2024 - Wage Adjustment | C52: 45801 | D52: =SUM(C52*1.06) -> 48549.06 | E52: =SUM(C52*0.94) -> 43052.94 | F52: =IF(COUNTIF(C$2:C$1297, C52)>1, "Duplicate", "")
A53: CM-03 | B53: Z) June 21, 2024 - Wage Adjustment | C53: 50511 | D53: =SUM(C53*1.06) -> 53541.66 | E53: =SUM(C53*0.94) -> 47480.34 | F53: =IF(COUNTIF(C$2:C$1297, C53)>1, "Duplicate", "")
A54: CM-04 | B54: Z) June 21, 2024 - Wage Adjustment | C54: 56093 | D54: =SUM(C54*1.06) -> 59458.58 | E54: =SUM(C54*0.94) -> 52727.42 | F54: =IF(COUNTIF(C$2:C$1297, C54)>1, "Duplicate", "")
A55: CM-05 | B55: Z) June 21, 2024 - Wage Adjustment | C55: 60388 | D55: =SUM(C55*1.06) -> 64011.28 | E55: =SUM(C55*0.94) -> 56764.72 | F55: =IF(COUNTIF(C$2:C$1297, C55)>1, "Duplicate", "")
A56: CM-06 | B56: Z) June 21, 2024 - Wage Adjustment | C56: 69485 | D56: =SUM(C56*1.06) -> 73654.1 | E56: =SUM(C56*0.94) -> 65315.9 | F56: =IF(COUNTIF(C$2:C$1297, C56)>1, "Duplicate", "")
A57: CM-07 | B57: Z) June 21, 2024 - Wage Adjustment | C57: 76137 | D57: =SUM(C57*1.06) -> 80705.22 | E57: =SUM(C57*0.94) -> 71568.78 | F57: =IF(COUNTIF(C$2:C$1297, C57)>1, "Duplicate", "")
A58: CO-DEV/PER | B58: D) June 22, 2025 | C58: 75613 | D58: =SUM(C58*1.06) -> 80149.78 | E58: =SUM(C58*0.94) -> 71076.22 | F58: =IF(COUNTIF(C$2:C$1297, C58)>1, "Duplicate", "") | G58: CO rates of pay
A59: CO-01 | B59: D) June 22, 2025 | C59: 91493 | D59: =SUM(C59*1.06) -> 96982.58 | E59: =SUM(C59*0.94) -> 86003.42 | F59: =IF(COUNTIF(C$2:C$1297, C59)>1, "Duplicate", "")
A60: CO-02 | B60: D) June 22, 2025 | C60: 128102 | D60: =SUM(C60*1.06) -> 135788.12 | E60: =SUM(C60*0.94) -> 120415.88 | F60: =IF(COUNTIF(C$2:C$1297, C60)>1, "Duplicate", "")
A61: CO-03 | B61: D) June 22, 2025 | C61: 141340 | D61: =SUM(C61*1.06) -> 149820.4 | E61: =SUM(C61*0.94) -> 132859.6 | F61: =IF(COUNTIF(C$2:C$1297, C61)>1, "Duplicate", "")
A62: CO-04 | B62: D) June 22, 2025 | C62: 152845 | D62: =SUM(C62*1.06) -> 162015.7 | E62: =SUM(C62*0.94) -> 143674.3 | F62: =IF(COUNTIF(C$2:C$1297, C62)>1, "Duplicate", "")
A63: CR-01 | B63: C) June 21, 2024 - Wage Adjustment | C63: 46342 | D63: =SUM(C63*1.06) -> 49122.52 | E63: =SUM(C63*0.94) -> 43561.48 | F63: =IF( COUNTIF(C$2:C$1297,#REF!)>1, "Duplicate", "") | G63: CR rates of pay
A64: CR-02 | B64: C) June 21, 2024 - Wage Adjustment | C64: 48654 | D64: =SUM(C64*1.06) -> 51573.24 | E64: =SUM(C64*0.94) -> 45734.76 | F64: =IF( COUNTIF(C$2:C$1297,#REF!)>1, "Duplicate", "")
A65: CR-03 | B65: C) June 21, 2024 - Wage Adjustment | C65: 55707 | D65: =SUM(C65*1.06) -> 59049.42 | E65: =SUM(C65*0.94) -> 52364.58 | F65: =IF( COUNTIF(C$2:C$1297,#REF!)>1, "Duplicate", "")
A66: CR-04 | B66: C) June 21, 2024 - Wage Adjustment | C66: 61761 | D66: =SUM(C66*1.06) -> 65466.66 | E66: =SUM(C66*0.94) -> 58055.34 | F66: =IF( COUNTIF(C$2:C$1297,#REF!)>1, "Duplicate", "")
A67: CR-05 | B67: C) June 21, 2024 - Wage Adjustment | C67: 67699 | D67: =SUM(C67*1.06) -> 71760.94 | E67: =SUM(C67*0.94) -> 63637.06 | F67: =IF( COUNTIF(C$2:C$1297,#REF!)>1, "Duplicate", "")
A68: CR-06 | B68: C) June 21, 2024 - Wage Adjustment | C68: 76779 | D68: =SUM(C68*1.06) -> 81385.74 | E68: =SUM(C68*0.94) -> 72172.26 | F68: =IF( COUNTIF(C$2:C$1297,#REF!)>1, "Duplicate", "")
A69: CR-07 | B69: C) June 21, 2024 - Wage Adjustment | C69: 85533 | D69: =SUM(C69*1.06) -> 90664.98 | E69: =SUM(C69*0.94) -> 80401.02 | F69: =IF( COUNTIF(C$2:C$1297,#REF!)>1, "Duplicate", "")
A70: CT-FIN-01 | B70: D) November 7, 2025 | C70: 93965 | D70: =SUM(C70*1.06) -> 99602.9 | E70: =SUM(C70*0.94) -> 88327.1 | F70: =IF( COUNTIF(C$2:C$1297,#REF!)>1, "Duplicate", "") | G70: CT-FIN rates of pay
A71: CT-FIN-02 | B71: D) November 7, 2025 | C71: 110607 | D71: =SUM(C71*1.06) -> 117243.42 | E71: =SUM(C71*0.94) -> 103970.58 | F71: =IF( COUNTIF(C$2:C$1297,#REF!)>1, "Duplicate", "")
A72: CT-FIN-03 | B72: D) November 7, 2025 | C72: 134326 | D72: =SUM(C72*1.06) -> 142385.56 | E72: =SUM(C72*0.94) -> 126266.44 | F72: =IF( COUNTIF(C$2:C$1297,#REF!)>1, "Duplicate", "")
A73: CT-FIN-04 | B73: D) November 7, 2025 | C73: 151719 | D73: =SUM(C73*1.06) -> 160822.14 | E73: =SUM(C73*0.94) -> 142615.86 | F73: =IF( COUNTIF(C$2:C$1297,#REF!)>1, "Duplicate", "")
A74: CT-EAV-01 | B74: E) November 7, 2025 | C74: 92670 | D74: =SUM(C74*1.06) -> 98230.2 | E74: =SUM(C74*0.94) -> 87109.8 | F74: =IF( COUNTIF(C$2:C$1297,#REF!)>1, "Duplicate", "") | G74: CT-EAV rates of pay
A75: CT-EAV-02 | B75: E) November 7, 2025 | C75: 106736 | D75: =SUM(C75*1.06) -> 113140.16 | E75: =SUM(C75*0.94) -> 100331.84 | F75: =IF( COUNTIF(C$2:C$1297,#REF!)>1, "Duplicate", "")
A76: CT-EAV-03 | B76: E) November 7, 2025 | C76: 119623 | D76: =SUM(C76*1.06) -> 126800.38 | E76: =SUM(C76*0.94) -> 112445.62 | F76: =IF( COUNTIF(C$2:C$1297,#REF!)>1, "Duplicate", "")
A77: CT-EAV-04 | B77: E) November 7, 2025 | C77: 134849 | D77: =SUM(C77*1.06) -> 142939.94 | E77: =SUM(C77*0.94) -> 126758.06 | F77: =IF( COUNTIF(C$2:C$1297,#REF!)>1, "Duplicate", "")
A78: CT-EAV-05 | B78: E) November 7, 2025 | C78: 147965 | D78: =SUM(C78*1.06) -> 156842.9 | E78: =SUM(C78*0.94) -> 139087.1 | F78: =IF( COUNTIF(C$2:C$1297,#REF!)>1, "Duplicate", "")
A79: CT-EAV-06 | B79: E) November 7, 2025 | C79: 162673 | D79: =SUM(C79*1.06) -> 172433.38 | E79: =SUM(C79*0.94) -> 152912.62 | F79: =IF( COUNTIF(C$2:C$1297,#REF!)>1, "Duplicate", "")
A80: CT-IAU-01 | B80: E) November 7, 2025 | C80: 92670 | D80: =SUM(C80*1.06) -> 98230.2 | E80: =SUM(C80*0.94) -> 87109.8 | F80: =IF( COUNTIF(C$2:C$1297,#REF!)>1, "Duplicate", "") | G80: CT-IAU rates of pay
A81: CT-IAU-02 | B81: E) November 7, 2025 | C81: 107140 | D81: =SUM(C81*1.06) -> 113568.4 | E81: =SUM(C81*0.94) -> 100711.6 | F81: =IF( COUNTIF(C$2:C$1297,#REF!)>1, "Duplicate", "")
A82: CT-IAU-03 | B82: E) November 7, 2025 | C82: 119623 | D82: =SUM(C82*1.06) -> 126800.38 | E82: =SUM(C82*0.94) -> 112445.62 | F82: =IF( COUNTIF(C$2:C$1297,#REF!)>1, "Duplicate", "")
A83: CT-IAU-04 | B83: E) November 7, 2025 | C83: 134849 | D83: =SUM(C83*1.06) -> 142939.94 | E83: =SUM(C83*0.94) -> 126758.06 | F83: =IF( COUNTIF(C$2:C$1297,#REF!)>1, "Duplicate", "")
A84: CX-1 | B84: D) June 1, 2025 | C84: 97266 | D84: =SUM(C84*1.06) -> 103101.96 | E84: =SUM(C84*0.94) -> 91430.04 | F84: =IF(COUNTIF(C$2:C$1297, C84)>1, "Duplicate", "") | G84: CX rates of pay
A85: CX-2 | B85: D) June 1, 2025 | C85: 103079 | D85: =SUM(C85*1.06) -> 109263.74 | E85: =SUM(C85*0.94) -> 96894.26 | F85: =IF(COUNTIF(C$2:C$1297, C85)>1, "Duplicate", "") -> Duplicate
A86: CX-3 | B86: D) June 1, 2025 | C86: 111905 | D86: =SUM(C86*1.06) -> 118619.3 | E86: =SUM(C86*0.94) -> 105190.7 | F86: =IF(COUNTIF(C$2:C$1297, C86)>1, "Duplicate", "")
A87: DA-CON-1 | B87: Z) June 21, 2024 - Wage Adjustment | C87: 49189 | D87: =SUM(C87*1.06) -> 52140.34 | E87: =SUM(C87*0.94) -> 46237.66 | F87: =IF(COUNTIF(C$2:C$1297, C87)>1, "Duplicate", "") | G87: DA-CON rates of pay
A88: DA-CON-2 | B88: Z) June 21, 2024 - Wage Adjustment | C88: 49270 | D88: =SUM(C88*1.06) -> 52226.2 | E88: =SUM(C88*0.94) -> 46313.8 | F88: =IF(COUNTIF(C$2:C$1297, C88)>1, "Duplicate", "")
A89: DA-CON-3 | B89: Z) June 21, 2024 - Wage Adjustment | C89: 54905 | D89: =SUM(C89*1.06) -> 58199.3 | E89: =SUM(C89*0.94) -> 51610.7 | F89: =IF(COUNTIF(C$2:C$1297, C89)>1, "Duplicate", "")
A90: DA-CON-4 | B90: Z) June 21, 2024 - Wage Adjustment | C90: 68427 | D90: =SUM(C90*1.06) -> 72532.62 | E90: =SUM(C90*0.94) -> 64321.38 | F90: =IF(COUNTIF(C$2:C$1297, C90)>1, "Duplicate", "")
A91: DA-CON-5 | B91: Z) June 21, 2024 - Wage Adjustment | C91: 72778 | D91: =SUM(C91*1.06) -> 77144.68 | E91: =SUM(C91*0.94) -> 68411.32 | F91: =IF(COUNTIF(C$2:C$1297, C91)>1, "Duplicate", "")
A92: DA-CON-6 | B92: Z) June 21, 2024 - Wage Adjustment | C92: 76216 | D92: =SUM(C92*1.06) -> 80788.96 | E92: =SUM(C92*0.94) -> 71643.04 | F92: =IF(COUNTIF(C$2:C$1297, C92)>1, "Duplicate", "")
A93: DA-CON-7 | B93: Z) June 21, 2024 - Wage Adjustment | C93: 86280 | D93: =SUM(C93*1.06) -> 91456.8 | E93: =SUM(C93*0.94) -> 81103.2 | F93: =IF(COUNTIF(C$2:C$1297, C93)>1, "Duplicate", "")
A94: DA-CON-8 | B94: Z) June 21, 2024 - Wage Adjustment | C94: 91038 | D94: =SUM(C94*1.06) -> 96500.28 | E94: =SUM(C94*0.94) -> 85575.72 | F94: =IF(COUNTIF(C$2:C$1297, C94)>1, "Duplicate", "")
A95: DA-CON Niveau spécial C | B95: Z) June 21, 2024 - Wage Adjustment | C95: 49300 | D95: =SUM(C95*1.06) -> 52258 | E95: =SUM(C95*0.94) -> 46342 | F95: =IF(COUNTIF(C$2:C$1297, C95)>1, "Duplicate", "")
A96: DA-PRO-1 | B96: Z) June 21, 2024 - Wage Adjustment | C96: 46229 | D96: =SUM(C96*1.06) -> 49002.74 | E96: =SUM(C96*0.94) -> 43455.26 | F96: =IF(COUNTIF(C$2:C$1297, C96)>1, "Duplicate", "") | G96: DA-PRO rates of pay
A97: DA-PRO-2 | B97: Z) June 21, 2024 - Wage Adjustment | C97: 51196 | D97: =SUM(C97*1.06) -> 54267.76 | E97: =SUM(C97*0.94) -> 48124.24 | F97: =IF(COUNTIF(C$2:C$1297, C97)>1, "Duplicate", "")
A98: DA-PRO-3 | B98: Z) June 21, 2024 - Wage Adjustment | C98: 57309 | D98: =SUM(C98*1.06) -> 60747.54 | E98: =SUM(C98*0.94) -> 53870.46 | F98: =IF(COUNTIF(C$2:C$1297, C98)>1, "Duplicate", "")
A99: DA-PRO-4 | B99: Z) June 21, 2024 - Wage Adjustment | C99: 63825 | D99: =SUM(C99*1.06) -> 67654.5 | E99: =SUM(C99*0.94) -> 59995.5 | F99: =IF(COUNTIF(C$2:C$1297, C99)>1, "Duplicate", "")
A100: DA-PRO-5 | B100: Z) June 21, 2024 - Wage Adjustment | C100: 71026 | D100: =SUM(C100*1.06) -> 75287.56 | E100: =SUM(C100*0.94) -> 66764.44 | F100: =IF(COUNTIF(C$2:C$1297, C100)>1, "Duplicate", "")
...

Sheet 2.1 shorter
A1: Substantive Position (group and level) | B1: Effective Date | C1: Annual Rates of Pay (in Dollars) | L1: Max Salary (annual) | M1: 2019-20 Maximum Performance Pay Rate | N1: Bilingual Bonus | P1: Total Salary | Q1: Max Salary Minus 6% | R1: Max Salary Plus 6% | S1: helper column | T1: Test
A2: AC-01 | B2: D) October 1, 2025 | L2: 154237 | P2: 0 | Q2: =SUM(L2*0.94) -> 144982.78 | R2: =SUM(L2*1.06) -> 163491.22 | S2: =IF(COUNTIF(L$2:L$192, L2)>1, "Duplicate", "") | T2: {=_xlfn.TEXTJOIN(",",TRUE,_xlfn._xlws.FILTER('2.1 shorter'!$A$2:$A$192,('2.1 shorter'!$L$2:$L$192 >'2.1 shorter'!Q2)*('2.1 shorter'!$L$2:$L$192 <'2.1 shorter'!L2),"No matches"))} -> AG-05,BI-05,CH-05,CO-04,CT-FIN-04 ,CT-EAV-05 ,EC-07,EN-SUR-4,PC-05,SE-REM-1,SE-RES-3 | U2: AC rates of pay | AJ2: ED
A3: AC-02 | B3: D) October 1, 2025 | L3: 179553 | Q3: =SUM(L3*0.94) -> 168779.82 | R3: =SUM(L3*1.06) -> 190326.18 | S3: =IF(COUNTIF(L$2:L$192, L3)>1, "Duplicate", "") | T3: {=_xlfn.TEXTJOIN(",",TRUE,_xlfn._xlws.FILTER('2.1 shorter'!$A$2:$A$192,('2.1 shorter'!$L$2:$L$192 <'2.1 shorter'!R3)*('2.1 shorter'!$L$2:$L$192 >='2.1 shorter'!L3),"No matches"))} -> AC-02,EX-02 | W3: =IF(COUNTIF(L:L, L2)>1, "Duplicate", "") | AJ3: EU
A4: AG-01 | B4: D) October 1, 2025 | L4: 85423 | Q4: =SUM(L4*0.94) -> 80297.62 | R4: =SUM(L4*1.06) -> 90548.38 | S4: =IF(COUNTIF(L$2:L$192, L4)>1, "Duplicate", "") -> Duplicate | U4: AG rates of pay
A5: AG-02 | B5: D) October 1, 2025 | L5: 101162 | Q5: =SUM(L5*0.94) -> 95092.28 | R5: =SUM(L5*1.06) -> 107231.72 | S5: =IF(COUNTIF(L$2:L$192, L5)>1, "Duplicate", "") -> Duplicate
A6: AG-03 | B6: D) October 1, 2025 | L6: 120292 | Q6: =SUM(L6*0.94) -> 113074.48 | R6: =SUM(L6*1.06) -> 127509.52 | S6: =IF(COUNTIF(L$2:L$192, L6)>1, "Duplicate", "") -> Duplicate
A7: AG-04 | B7: D) October 1, 2025 | L7: 137710 | Q7: =SUM(L7*0.94) -> 129447.4 | R7: =SUM(L7*1.06) -> 145972.6 | S7: =IF(COUNTIF(L$2:L$192, L7)>1, "Duplicate", "") -> Duplicate
A8: AG-05 | B8: D) October 1, 2025 | L8: 150293 | Q8: =SUM(L8*0.94) -> 141275.42 | R8: =SUM(L8*1.06) -> 159310.58 | S8: =IF(COUNTIF(L$2:L$192, L8)>1, "Duplicate", "") -> Duplicate
A9: AS-01 | B9: Z) June 21, 2024 - Wage Adjustment | C9: 61786 | D9: 64135 | E9: 66572 | F9: 69106 | L9: =MAX(C9:K9) -> 69106 | N9: 800 | P9: =SUM(L9:N9) -> 69906 | Q9: =SUM(L9*0.94) -> 64959.64 | R9: =SUM(L9*1.06) -> 73252.36 | S9: =IF(COUNTIF(L$2:L$192, L9)>1, "Duplicate", "") -> Duplicate | U9: AS rates of pay
A10: AS-02 | B10: Z) June 21, 2024 - Wage Adjustment | C10: 68849 | D10: 71464 | E10: 74180 | L10: =MAX(C10:K10) -> 74180 | N10: 800 | P10: =SUM(L10:N10) -> 74980 | Q10: =SUM(L10*0.94) -> 69729.2 | R10: =SUM(L10*1.06) -> 78630.8 | S10: =IF(COUNTIF(L$2:L$192, L10)>1, "Duplicate", "") -> Duplicate
A11: AS-03 | B11: Z) June 21, 2024 - Wage Adjustment | C11: 73798 | D11: 76599 | E11: 79511 | L11: =MAX(C11:K11) -> 79511 | N11: 800 | P11: =SUM(L11:N11) -> 80311 | Q11: =SUM(L11*0.94) -> 74740.34 | R11: =SUM(L11*1.06) -> 84281.66 | S11: =IF(COUNTIF(L$2:L$192, L11)>1, "Duplicate", "") -> Duplicate
A12: AS-04 | B12: Z) June 21, 2024 - Wage Adjustment | C12: 80612 | D12: 83675 | E12: 87108 | L12: =MAX(C12:K12) -> 87108 | N12: 800 | P12: =SUM(L12:N12) -> 87908 | Q12: =SUM(L12*0.94) -> 81881.52 | R12: =SUM(L12*1.06) -> 92334.48 | S12: =IF(COUNTIF(L$2:L$192, L12)>1, "Duplicate", "") -> Duplicate
A13: AS-05 | B13: Z) June 21, 2024 - Wage Adjustment | C13: 96235 | D13: 99892 | E13: 104044 | L13: =MAX(C13:K13) -> 104044 | N13: 800 | P13: =SUM(L13:N13) -> 104844 | Q13: =SUM(L13*0.94) -> 97801.36 | R13: =SUM(L13*1.06) -> 110286.64 | S13: =IF(COUNTIF(L$2:L$192, L13)>1, "Duplicate", "") -> Duplicate
A14: AS-06 | B14: Z) June 21, 2024 - Wage Adjustment | C14: 107193 | D14: 111267 | E14: 115642 | L14: =MAX(C14:K14) -> 115642 | N14: 800 | P14: =SUM(L14:N14) -> 116442 | Q14: =SUM(L14*0.94) -> 108703.48 | R14: =SUM(L14*1.06) -> 122580.52 | S14: =IF(COUNTIF(L$2:L$192, L14)>1, "Duplicate", "") -> Duplicate
A15: AS-07 | B15: Z) June 21, 2024 - Wage Adjustment | C15: 112834 | D15: 117128 | E15: 121573 | F15: 125225 | G15: 129017 | L15: =MAX(C15:K15) -> 129017 | N15: 800 | P15: =SUM(L15:N15) -> 129817 | Q15: =SUM(L15*0.94) -> 121275.98 | R15: =SUM(L15*1.06) -> 136758.02 | S15: =IF(COUNTIF(L$2:L$192, L15)>1, "Duplicate", "") -> Duplicate
A16: BI-01 | B16: D) October 1, 2025 | L16: 85423 | Q16: =SUM(L16*0.94) -> 80297.62 | R16: =SUM(L16*1.06) -> 90548.38 | S16: =IF(COUNTIF(L$2:L$192, L16)>1, "Duplicate", "") -> Duplicate
A17: BI-02 | B17: D) October 1, 2025 | L17: 101162 | Q17: =SUM(L17*0.94) -> 95092.28 | R17: =SUM(L17*1.06) -> 107231.72 | S17: =IF(COUNTIF(L$2:L$192, L17)>1, "Duplicate", "") -> Duplicate | U17: BI rates of pay
A18: BI-03 | B18: D) October 1, 2025 | L18: 120292 | Q18: =SUM(L18*0.94) -> 113074.48 | R18: =SUM(L18*1.06) -> 127509.52 | S18: =IF(COUNTIF(L$2:L$192, L18)>1, "Duplicate", "") -> Duplicate
A19: BI-04 | B19: D) October 1, 2025 | L19: 137710 | Q19: =SUM(L19*0.94) -> 129447.4 | R19: =SUM(L19*1.06) -> 145972.6 | S19: =IF(COUNTIF(L$2:L$192, L19)>1, "Duplicate", "") -> Duplicate
A20: BI-05 | B20: D) October 1, 2025 | L20: 150293 | Q20: =SUM(L20*0.94) -> 141275.42 | R20: =SUM(L20*1.06) -> 159310.58 | S20: =IF(COUNTIF(L$2:L$192, L20)>1, "Duplicate", "") -> Duplicate
A21: CH-01 | B21: D) October 1, 2025 | L21: 85423 | Q21: =SUM(L21*0.94) -> 80297.62 | R21: =SUM(L21*1.06) -> 90548.38 | S21: =IF(COUNTIF(L$2:L$192, L21)>1, "Duplicate", "") -> Duplicate
A22: CH-02 | B22: D) October 1, 2025 | L22: 101162 | Q22: =SUM(L22*0.94) -> 95092.28 | R22: =SUM(L22*1.06) -> 107231.72 | S22: =IF(COUNTIF(L$2:L$192, L22)>1, "Duplicate", "") -> Duplicate | U22: CH rates of pay
A23: CH-03 | B23: D) October 1, 2025 | L23: 120292 | Q23: =SUM(L23*0.94) -> 113074.48 | R23: =SUM(L23*1.06) -> 127509.52 | S23: =IF(COUNTIF(L$2:L$192, L23)>1, "Duplicate", "") -> Duplicate
A24: CH-04 | B24: D) October 1, 2025 | L24: 137710 | Q24: =SUM(L24*0.94) -> 129447.4 | R24: =SUM(L24*1.06) -> 145972.6 | S24: =IF(COUNTIF(L$2:L$192, L24)>1, "Duplicate", "") -> Duplicate
A25: CH-05 | B25: D) October 1, 2025 | L25: 150293 | Q25: =SUM(L25*0.94) -> 141275.42 | R25: =SUM(L25*1.06) -> 159310.58 | S25: =IF(COUNTIF(L$2:L$192, L25)>1, "Duplicate", "") -> Duplicate
A26: CO-DEV | B26: D) June 22, 2025 | L26: 75613 | Q26: =SUM(L26*0.94) -> 71076.22 | R26: =SUM(L26*1.06) -> 80149.78 | S26: =IF(COUNTIF(L$2:L$192, L26)>1, "Duplicate", "")
A27: CO-01 | B27: D) June 22, 2025 | L27: 91493 | Q27: =SUM(L27*0.94) -> 86003.42 | R27: =SUM(L27*1.06) -> 96982.58 | S27: =IF(COUNTIF(L$2:L$192, L27)>1, "Duplicate", "") | U27: CM rates of pay
A28: CO-02 | B28: D) June 22, 2025 | L28: 128102 | Q28: =SUM(L28*0.94) -> 120415.88 | R28: =SUM(L28*1.06) -> 135788.12 | S28: =IF(COUNTIF(L$2:L$192, L28)>1, "Duplicate", "")
A29: CO-03 | B29: D) June 22, 2025 | L29: 141340 | Q29: =SUM(L29*0.94) -> 132859.6 | R29: =SUM(L29*1.06) -> 149820.4 | S29: =IF(COUNTIF(L$2:L$192, L29)>1, "Duplicate", "")
A30: CO-04 | B30: D) June 22, 2025 | L30: 152845 | Q30: =SUM(L30*0.94) -> 143674.3 | R30: =SUM(L30*1.06) -> 162015.7 | S30: =IF(COUNTIF(L$2:L$192, L30)>1, "Duplicate", "")
A31: CR-03 | B31: C) June 21, 2024 - Wage Adjustment | C31: 51642 | D31: 52996 | E31: 54350 | F31: 55707 | L31: =MAX(C31:K31) -> 55707 | N31: 800 | P31: =SUM(L31:N31) -> 56507 | Q31: =SUM(L31*0.94) -> 52364.58 | R31: =SUM(L31*1.06) -> 59049.42 | S31: =IF(COUNTIF(L$2:L$192, L31)>1, "Duplicate", "")
A32: CR-04 | B32: C) June 21, 2024 - Wage Adjustment | C32: 57217 | D32: 58738 | E32: 60255 | F32: 61761 | L32: =MAX(C32:K32) -> 61761 | N32: 800 | P32: =SUM(L32:N32) -> 62561 | Q32: =SUM(L32*0.94) -> 58055.34 | R32: =SUM(L32*1.06) -> 65466.66 | S32: =IF(COUNTIF(L$2:L$192, L32)>1, "Duplicate", "")
A33: CR-05 | B33: C) June 21, 2024 - Wage Adjustment | C33: 62533 | D33: 64250 | E33: 65986 | F33: 67699 | L33: =MAX(C33:K33) -> 67699 | N33: 800 | P33: =SUM(L33:N33) -> 68499 | Q33: =SUM(L33*0.94) -> 63637.06 | R33: =SUM(L33*1.06) -> 71760.94 | S33: =IF(COUNTIF(L$2:L$192, L33)>1, "Duplicate", "")
A34: CR-06 | B34: C) June 21, 2024 - Wage Adjustment | C34: 71176 | D34: 73048 | E34: 74903 | F34: 76779 | L34: =MAX(C34:K34) -> 76779 | N34: 800 | P34: =SUM(L34:N34) -> 77579 | Q34: =SUM(L34*0.94) -> 72172.26 | R34: =SUM(L34*1.06) -> 81385.74 | S34: =IF(COUNTIF(L$2:L$192, L34)>1, "Duplicate", "") | U34: CO rates of pay
A35: CR-07 | B35: C) June 21, 2024 - Wage Adjustment | C35: 78952 | D35: 81137 | E35: 83324 | F35: 85533 | L35: =MAX(C35:K35) -> 85533 | N35: 800 | P35: =SUM(L35:N35) -> 86333 | Q35: =SUM(L35*0.94) -> 80401.02 | R35: =SUM(L35*1.06) -> 90664.98 | S35: =IF(COUNTIF(L$2:L$192, L35)>1, "Duplicate", "")
A36: CT-FIN-01 | B36: D) November 7, 2025 | C36: 64697 | D36: 69044 | E36: 73386 | F36: 77729 | G36: 82072 | H36: 86412 | I36: 90758 | L36: 93965 | N36: 800 | P36: =SUM(L36:N36) -> 94765 | Q36: =SUM(L36*0.94) -> 88327.1 | R36: =SUM(L36*1.06) -> 99602.9 | S36: =IF(COUNTIF(L$2:L$192, L36)>1, "Duplicate", "")
A37: CT-FIN-02 | B37: D) November 7, 2025 | C37: 78752 | D37: 83434 | E37: 88113 | F37: 92790 | G37: 97470 | H37: 102152 | I37: 106833 | L37: 110607 | N37: 800 | P37: =SUM(L37:N37) -> 111407 | Q37: =SUM(L37*0.94) -> 103970.58 | R37: =SUM(L37*1.06) -> 117243.42 | S37: =IF(COUNTIF(L$2:L$192, L37)>1, "Duplicate", "")
A38: CT-FIN-03 | B38: D) November 7, 2025 | C38: 100681 | D38: 104924 | E38: 109160 | F38: 113403 | G38: 117642 | H38: 122350 | I38: 129742 | L38: 134326 | N38: 800 | P38: =SUM(L38:N38) -> 135126 | Q38: =SUM(L38*0.94) -> 126266.44 | R38: =SUM(L38*1.06) -> 142385.56 | S38: =IF(COUNTIF(L$2:L$192, L38)>1, "Duplicate", "")
A39: CT-FIN-04 | B39: D) November 7, 2025 | C39: 113491 | D39: 118301 | E39: 123123 | F39: 127947 | G39: 132767 | H39: 138113 | I39: 146541 | L39: 151719 | N39: 800 | P39: =SUM(L39:N39) -> 152519 | Q39: =SUM(L39*0.94) -> 142615.86 | R39: =SUM(L39*1.06) -> 160822.14 | S39: =IF(COUNTIF(L$2:L$192, L39)>1, "Duplicate", "") | U39: CR rates of pay
A40: CT-EAV-01 | B40: E) November 7, 2025 | C40: 66714 | D40: 69606 | E40: 72475 | F40: 75357 | G40: 78241 | H40: 81130 | I40: 84014 | J40: 86900 | K40: 89506 | L40: 92670 | Q40: =SUM(L40*0.94) -> 87109.8 | R40: =SUM(L40*1.06) -> 98230.2 | S40: =IF(COUNTIF(L$2:L$192, L40)>1, "Duplicate", "")
A41: CT-EAV-02 | B41: E) November 7, 2025 | C41: 82977 | D41: 85823 | E41: 88683 | F41: 91534 | G41: 94383 | H41: 97240 | I41: 100090 | J41: 103092 | L41: 106736 | Q41: =SUM(L41*0.94) -> 100331.84 | R41: =SUM(L41*1.06) -> 113140.16 | S41: =IF(COUNTIF(L$2:L$192, L41)>1, "Duplicate", "")
A42: CT-EAV-03 | B42: E) November 7, 2025 | C42: 95096 | D42: 98654 | E42: 102039 | F42: 105419 | G42: 108797 | H42: 112176 | I42: 115542 | L42: 119623 | Q42: =SUM(L42*0.94) -> 112445.62 | R42: =SUM(L42*1.06) -> 126800.38 | S42: =IF(COUNTIF(L$2:L$192, L42)>1, "Duplicate", "")
A43: CT-EAV-04 | B43: E) November 7, 2025 | C43: 107276 | D43: 111158 | E43: 114975 | F43: 118800 | G43: 122630 | H43: 126453 | I43: 130247 | L43: 134849 | Q43: =SUM(L43*0.94) -> 126758.06 | R43: =SUM(L43*1.06) -> 142939.94 | S43: =IF(COUNTIF(L$2:L$192, L43)>1, "Duplicate", "")
A44: CT-EAV-05 | B44: E) November 7, 2025 | C44: 119335 | D44: 123216 | E44: 127108 | F44: 130986 | G44: 134866 | H44: 138755 | I44: 142916 | L44: 147965 | Q44: =SUM(L44*0.94) -> 139087.1 | R44: =SUM(L44*1.06) -> 156842.9 | S44: =IF(COUNTIF(L$2:L$192, L44)>1, "Duplicate", "")
A45: CT-EAV-06 | B45: E) November 7, 2025 | C45: 130953 | D45: 135267 | E45: 139583 | F45: 143904 | G45: 148223 | H45: 152544 | I45: 157122 | L45: 162673 | Q45: =SUM(L45*0.94) -> 152912.62 | R45: =SUM(L45*1.06) -> 172433.38 | S45: =IF(COUNTIF(L$2:L$192, L45)>1, "Duplicate", "")
A46: DA-CON-4 | B46: Z) June 21, 2024 - Wage Adjustment | L46: 68427 | Q46: =SUM(L46*0.94) -> 64321.38 | R46: =SUM(L46*1.06) -> 72532.62 | S46: =IF(COUNTIF(L$2:L$192, L46)>1, "Duplicate", "") | U46: CT-FIN rates of pay
A47: DA-CON-5 | B47: Z) June 21, 2024 - Wage Adjustment | L47: 72778 | Q47: =SUM(L47*0.94) -> 68411.32 | R47: =SUM(L47*1.06) -> 77144.68 | S47: =IF(COUNTIF(L$2:L$192, L47)>1, "Duplicate", "")
A48: DA-CON-6 | B48: Z) June 21, 2024 - Wage Adjustment | L48: 76216 | Q48: =SUM(L48*0.94) -> 71643.04 | R48: =SUM(L48*1.06) -> 80788.96 | S48: =IF(COUNTIF(L$2:L$192, L48)>1, "Duplicate", "")
A49: DA-CON-7 | B49: Z) June 21, 2024 - Wage Adjustment | L49: 86280 | Q49: =SUM(L49*0.94) -> 81103.2 | R49: =SUM(L49*1.06) -> 91456.8 | S49: =IF(COUNTIF(L$2:L$192, L49)>1, "Duplicate", "")
A50: DA-CON-8 | B50: Z) June 21, 2024 - Wage Adjustment | L50: 91038 | Q50: =SUM(L50*0.94) -> 85575.72 | R50: =SUM(L50*1.06) -> 96500.28 | S50: =IF(COUNTIF(L$2:L$192, L50)>1, "Duplicate", "") | U50: CT-EAV rates of pay
A51: DA-PRO-5 | B51: Z) June 21, 2024 - Wage Adjustment | L51: 71026 | Q51: =SUM(L51*0.94) -> 66764.44 | R51: =SUM(L51*1.06) -> 75287.56 | S51: =IF(COUNTIF(L$2:L$192, L51)>1, "Duplicate", "")
A52: DA-PRO-6 | B52: Z) June 21, 2024 - Wage Adjustment | L52: 79423 | Q52: =SUM(L52*0.94) -> 74657.62 | R52: =SUM(L52*1.06) -> 84188.38 | S52: =IF(COUNTIF(L$2:L$192, L52)>1, "Duplicate", "")
A53: DA-PRO-7 | B53: Z) June 21, 2024 - Wage Adjustment | L53: 88829 | Q53: =SUM(L53*0.94) -> 83499.26 | R53: =SUM(L53*1.06) -> 94158.74 | S53: =IF(COUNTIF(L$2:L$192, L53)>1, "Duplicate", "")
A54: DD-02 | B54: Z) June 22, 2024 - Wage Adjustment | L54: 58307 | Q54: =SUM(L54*0.94) -> 54808.58 | R54: =SUM(L54*1.06) -> 61805.42 | S54: =IF(COUNTIF(L$2:L$192, L54)>1, "Duplicate", "")
A55: DD-03 | B55: Z) June 22, 2024 - Wage Adjustment | L55: 64678 | Q55: =SUM(L55*0.94) -> 60797.32 | R55: =SUM(L55*1.06) -> 68558.68 | S55: =IF(COUNTIF(L$2:L$192, L55)>1, "Duplicate", "")
A56: DD-04 | B56: Z) June 22, 2024 - Wage Adjustment | L56: 71193 | Q56: =SUM(L56*0.94) -> 66921.42 | R56: =SUM(L56*1.06) -> 75464.58 | S56: =IF(COUNTIF(L$2:L$192, L56)>1, "Duplicate", "") | U56: CT-IAU rates of pay
A57: DD-05 | B57: Z) June 22, 2024 - Wage Adjustment | L57: 78187 | Q57: =SUM(L57*0.94) -> 73495.78 | R57: =SUM(L57*1.06) -> 82878.22 | S57: =IF(COUNTIF(L$2:L$192, L57)>1, "Duplicate", "")
A58: DD-06 | B58: Z) June 22, 2024 - Wage Adjustment | L58: 83944 | Q58: =SUM(L58*0.94) -> 78907.36 | R58: =SUM(L58*1.06) -> 88980.64 | S58: =IF(COUNTIF(L$2:L$192, L58)>1, "Duplicate", "")
A59: DD-07 | B59: Z) June 22, 2024 - Wage Adjustment | L59: 91261 | Q59: =SUM(L59*0.94) -> 85785.34 | R59: =SUM(L59*1.06) -> 96736.66 | S59: =IF(COUNTIF(L$2:L$192, L59)>1, "Duplicate", "")
A60: DD-08 | B60: Z) June 22, 2024 - Wage Adjustment | L60: 96110 | Q60: =SUM(L60*0.94) -> 90343.4 | R60: =SUM(L60*1.06) -> 101876.6 | S60: =IF(COUNTIF(L$2:L$192, L60)>1, "Duplicate", "") | U60: CX rates of pay
A61: DD-09 | B61: Z) June 22, 2024 - Wage Adjustment | L61: 100408 | Q61: =SUM(L61*0.94) -> 94383.52 | R61: =SUM(L61*1.06) -> 106432.48 | S61: =IF(COUNTIF(L$2:L$192, L61)>1, "Duplicate", "")
A62: EC-01 | B62: D) June 22, 2025 | C62: 61638 | D62: 63790 | E62: 66028 | F62: 69262 | G62: 71654 | L62: 73087 | N62: 800 | P62: =SUM(L62:N62) -> 73887 | Q62: =SUM(L62*0.94) -> 68701.78 | R62: =SUM(L62*1.06) -> 77472.22 | S62: =IF(COUNTIF(L$2:L$192, L62)>1, "Duplicate", "")
A63: EC-02 | B63: D) June 22, 2025 | C63: 68959 | D63: 70631 | E63: 73105 | F63: 76424 | G63: 79061 | L63: 80642 | N63: 800 | P63: =SUM(L63:N63) -> 81442 | Q63: =SUM(L63*0.94) -> 75803.48 | R63: =SUM(L63*1.06) -> 85480.52 | S63: =IF(COUNTIF(L$2:L$192, L63)>1, "Duplicate", "")
A64: EC-03 | B64: D) June 22, 2025 | C64: 76167 | D64: 78337 | E64: 80510 | F64: 83309 | G64: 86183 | L64: 87907 | N64: 800 | P64: =SUM(L64:N64) -> 88707 | Q64: =SUM(L64*0.94) -> 82632.58 | R64: =SUM(L64*1.06) -> 93181.42 | S64: =IF(COUNTIF(L$2:L$192, L64)>1, "Duplicate", "") | U64: DA-CON rates of pay
A65: EC-04 | B65: D) June 22, 2025 | C65: 82218 | D65: 85032 | E65: 87972 | F65: 91973 | G65: 95148 | L65: 97051 | N65: 800 | P65: =SUM(L65:N65) -> 97851 | Q65: =SUM(L65*0.94) -> 91227.94 | R65: =SUM(L65*1.06) -> 102874.06 | S65: =IF(COUNTIF(L$2:L$192, L65)>1, "Duplicate", "")
A66: EC-05 | B66: D) June 22, 2025 | C66: 98299 | D66: 101298 | E66: 104609 | F66: 109371 | G66: 113141 | L66: 115404 | N66: 800 | P66: =SUM(L66:N66) -> 116204 | Q66: =SUM(L66*0.94) -> 108479.76 | R66: =SUM(L66*1.06) -> 122328.24 | S66: =IF(COUNTIF(L$2:L$192, L66)>1, "Duplicate", "")
A67: EC-06 | B67: D) June 22, 2025 | C67: 111057 | D67: 114949 | E67: 119083 | F67: 124501 | G67: 128799 | L67: 131375 | N67: 800 | P67: =SUM(L67:N67) -> 132175 | Q67: =SUM(L67*0.94) -> 123492.5 | R67: =SUM(L67*1.06) -> 139257.5 | S67: =IF(COUNTIF(L$2:L$192, L67)>1, "Duplicate", "")
A68: EC-07 | B68: D) June 22, 2025 | C68: 125481 | D68: 129270 | E68: 133186 | F68: 139252 | G68: 144055 | L68: 146936 | N68: 800 | P68: =SUM(L68:N68) -> 147736 | Q68: =SUM(L68*0.94) -> 138119.84 | R68: =SUM(L68*1.06) -> 155752.16 | S68: =IF(COUNTIF(L$2:L$192, L68)>1, "Duplicate", "")
A69: EC-08 | B69: D) June 22, 2025 | C69: 136426 | D69: 140204 | E69: 144170 | F69: 150725 | G69: 155927 | L69: 159046 | N69: 800 | P69: =SUM(L69:N69) -> 159846 | Q69: =SUM(L69*0.94) -> 149503.24 | R69: =SUM(L69*1.06) -> 168588.76 | S69: =IF(COUNTIF(L$2:L$192, L69)>1, "Duplicate", "")
A70: EG-01 | B70: Z) June 22, 2024 - Wage Adjustment | L70: 67757 | Q70: =SUM(L70*0.94) -> 63691.58 | R70: =SUM(L70*1.06) -> 71822.42 | S70: =IF(COUNTIF(L$2:L$192, L70)>1, "Duplicate", "")
A71: EG-02 | B71: Z) June 22, 2024 - Wage Adjustment | L71: 74534 | Q71: =SUM(L71*0.94) -> 70061.96 | R71: =SUM(L71*1.06) -> 79006.04 | S71: =IF(COUNTIF(L$2:L$192, L71)>1, "Duplicate", "")
A72: EG-03 | B72: Z) June 22, 2024 - Wage Adjustment | L72: 81985 | Q72: =SUM(L72*0.94) -> 77065.9 | R72: =SUM(L72*1.06) -> 86904.1 | S72: =IF(COUNTIF(L$2:L$192, L72)>1, "Duplicate", "")
A73: EG-04 | B73: Z) June 22, 2024 - Wage Adjustment | L73: 90184 | Q73: =SUM(L73*0.94) -> 84772.96 | R73: =SUM(L73*1.06) -> 95595.04 | S73: =IF(COUNTIF(L$2:L$192, L73)>1, "Duplicate", "")
A74: EG-05 | B74: Z) June 22, 2024 - Wage Adjustment | L74: 99200 | Q74: =SUM(L74*0.94) -> 93248 | R74: =SUM(L74*1.06) -> 105152 | S74: =IF(COUNTIF(L$2:L$192, L74)>1, "Duplicate", "") | U74: DD rates of pay
A75: EG-06 | B75: Z) June 22, 2024 - Wage Adjustment | L75: 109119 | Q75: =SUM(L75*0.94) -> 102571.86 | R75: =SUM(L75*1.06) -> 115666.14 | S75: =IF(COUNTIF(L$2:L$192, L75)>1, "Duplicate", "")
A76: EG-07 | B76: Z) June 22, 2024 - Wage Adjustment | L76: 120034 | Q76: =SUM(L76*0.94) -> 112831.96 | R76: =SUM(L76*1.06) -> 127236.04 | S76: =IF(COUNTIF(L$2:L$192, L76)>1, "Duplicate", "")
A77: EG-08 | B77: Z) June 22, 2024 - Wage Adjustment | L77: 132037 | Q77: =SUM(L77*0.94) -> 124114.78 | R77: =SUM(L77*1.06) -> 139959.22 | S77: =IF(COUNTIF(L$2:L$192, L77)>1, "Duplicate", "")
A78: EL-01 | B78: D) September 1, 2025 | L78: 62958 | Q78: =SUM(L78*0.94) -> 59180.52 | R78: =SUM(L78*1.06) -> 66735.48 | S78: =IF(COUNTIF(L$2:L$192, L78)>1, "Duplicate", "")
A79: EL-02 | B79: D) September 1, 2025 | L79: 75900 | Q79: =SUM(L79*0.94) -> 71346 | R79: =SUM(L79*1.06) -> 80454 | S79: =IF(COUNTIF(L$2:L$192, L79)>1, "Duplicate", "")
A80: EL-03 | B80: D) September 1, 2025 | L80: 84276 | Q80: =SUM(L80*0.94) -> 79219.44 | R80: =SUM(L80*1.06) -> 89332.56 | S80: =IF(COUNTIF(L$2:L$192, L80)>1, "Duplicate", "")
A81: EL-04 | B81: D) September 1, 2025 | L81: 90190 | Q81: =SUM(L81*0.94) -> 84778.6 | R81: =SUM(L81*1.06) -> 95601.4 | S81: =IF(COUNTIF(L$2:L$192, L81)>1, "Duplicate", "")
A82: EL-05 | B82: D) September 1, 2025 | L82: 100029 | Q82: =SUM(L82*0.94) -> 94027.26 | R82: =SUM(L82*1.06) -> 106030.74 | S82: =IF(COUNTIF(L$2:L$192, L82)>1, "Duplicate", "")
A83: EL-06 | B83: D) September 1, 2025 | L83: 110468 | Q83: =SUM(L83*0.94) -> 103839.92 | R83: =SUM(L83*1.06) -> 117096.08 | S83: =IF(COUNTIF(L$2:L$192, L83)>1, "Duplicate", "") | U83: DE rates of pay
A84: EL-07 | B84: D) September 1, 2025 | L84: 120446 | Q84: =SUM(L84*0.94) -> 113219.24 | R84: =SUM(L84*1.06) -> 127672.76 | S84: =IF(COUNTIF(L$2:L$192, L84)>1, "Duplicate", "")
A85: EL-08 | B85: D) September 1, 2025 | L85: 129353 | Q85: =SUM(L85*0.94) -> 121591.82 | R85: =SUM(L85*1.06) -> 137114.18 | S85: =IF(COUNTIF(L$2:L$192, L85)>1, "Duplicate", "")
A86: EL-09 | B86: D) September 1, 2025 | L86: 139038 | Q86: =SUM(L86*0.94) -> 130695.72 | R86: =SUM(L86*1.06) -> 147380.28 | S86: =IF(COUNTIF(L$2:L$192, L86)>1, "Duplicate", "") | U86: DS rates of pay
A87: EN-ENG-1 | B87: 46013 | C87: 56709 | D87: to | E87: 66461 | L87: 70103 | N87: 800 | P87: =SUM(L87:N87) -> 70903 | Q87: =SUM(L87*0.94) -> 65896.82 | R87: =SUM(L87*1.06) -> 74309.18 | S87: =IF(COUNTIF(L$2:L$192, L87)>1, "Duplicate", "")
A88: EN-ENG-2 | B88: 46013 | C88: 72427 | D88: 75166 | E88: 77704 | F88: 80246 | G88: 82795 | L88: 85374 | N88: 800 | P88: =SUM(L88:N88) -> 86174 | Q88: =SUM(L88*0.94) -> 80251.56 | R88: =SUM(L88*1.06) -> 90496.44 | S88: =IF(COUNTIF(L$2:L$192, L88)>1, "Duplicate", "")
A89: EN-ENG-3 | B89: 46013 | C89: 88989 | D89: 92187 | E89: 95378 | F89: 98561 | G89: 101755 | H89: 104941 | I89: 108127 | L89: 110760 | N89: 800 | P89: =SUM(L89:N89) -> 111560 | Q89: =SUM(L89*0.94) -> 104114.4 | R89: =SUM(L89*1.06) -> 117405.6 | S89: =IF(COUNTIF(L$2:L$192, L89)>1, "Duplicate", "")
A90: EN-ENG-4 | B90: 46013 | C90: 104135 | D90: 107592 | E90: 111060 | F90: 114524 | G90: 117987 | H90: 121451 | L90: 123941 | N90: 800 | P90: =SUM(L90:N90) -> 124741 | Q90: =SUM(L90*0.94) -> 116504.54 | R90: =SUM(L90*1.06) -> 131377.46 | S90: =IF(COUNTIF(L$2:L$192, L90)>1, "Duplicate", "")
A91: EN-ENG-5 | B91: 46013 | C91: 119286 | D91: 123298 | E91: 127330 | F91: 131362 | G91: 135403 | H91: 139443 | L91: 142611 | N91: 800 | P91: =SUM(L91:N91) -> 143411 | Q91: =SUM(L91*0.94) -> 134054.34 | R91: =SUM(L91*1.06) -> 151167.66 | S91: =IF(COUNTIF(L$2:L$192, L91)>1, "Duplicate", "")
A92: EN-SUR-1 | B92: D)October 1, 2025 | L92: 92150 | Q92: =SUM(L92*0.94) -> 86621 | R92: =SUM(L92*1.06) -> 97679 | S92: =IF(COUNTIF(L$2:L$192, L92)>1, "Duplicate", "")
A93: EN-SUR-2 | B93: D)October 1, 2025 | L93: 121962 | Q93: =SUM(L93*0.94) -> 114644.28 | R93: =SUM(L93*1.06) -> 129279.72 | S93: =IF(COUNTIF(L$2:L$192, L93)>1, "Duplicate", "") | U93: EC rates of pay
A94: EN-SUR-3 | B94: D)October 1, 2025 | L94: 134115 | Q94: =SUM(L94*0.94) -> 126068.1 | R94: =SUM(L94*1.06) -> 142161.9 | S94: =IF(COUNTIF(L$2:L$192, L94)>1, "Duplicate", "")
A95: EN-SUR-4 | B95: D)October 1, 2025 | L95: 149723 | Q95: =SUM(L95*0.94) -> 140739.62 | R95: =SUM(L95*1.06) -> 158706.38 | S95: =IF(COUNTIF(L$2:L$192, L95)>1, "Duplicate", "")
A96: EX-01 | B96: A) April 1, 2025 | L96: 161773 | Q96: =SUM(L96*0.94) -> 152066.62 | R96: =SUM(L96*1.06) -> 171479.38 | S96: =IF(COUNTIF(L$2:L$192, L96)>1, "Duplicate", "")
A97: EX-02 | B97: A) April 1, 2025 | L97: 181365 | Q97: =SUM(L97*0.94) -> 170483.1 | R97: =SUM(L97*1.06) -> 192246.9 | S97: =IF(COUNTIF(L$2:L$192, L97)>1, "Duplicate", "")
A98: EX-03 | B98: A) April 1, 2025 | L98: 202918 | Q98: =SUM(L98*0.94) -> 190742.92 | R98: =SUM(L98*1.06) -> 215093.08 | S98: =IF(COUNTIF(L$2:L$192, L98)>1, "Duplicate", "")
A99: EX-04 | B99: A) April 1, 2025 | L99: 232676 | Q99: =SUM(L99*0.94) -> 218715.44 | R99: =SUM(L99*1.06) -> 246636.56 | S99: =IF(COUNTIF(L$2:L$192, L99)>1, "Duplicate", "")
A100: EX-05 | B100: A) April 1, 2025 | L100: 260719 | Q100: =SUM(L100*0.94) -> 245075.86 | R100: =SUM(L100*1.06) -> 276362.14 | S100: =IF(COUNTIF(L$2:L$192, L100)>1, "Duplicate", "")
...

Sheet 5. Identical salaries
A1: All the salaries shared by more than one position | B1: All positions that have identical max salaries
A2: {=_xlfn.UNIQUE(_xlfn._xlws.FILTER('5. Données salariales brutes'!C2:C1297,('5. Données salariales brutes'!F2:F1297 = "Duplicate")))} -> 85423 | B2: {=_xlfn.TEXTJOIN(", ", TRUE, _xlfn._xlws.FILTER('5. Données salariales brutes'!A2:A1297, '5. Données salariales brutes'!C2:C1297=A2))} -> AG-01, BI-01, CH-01
A3: 101162 | B3: {=_xlfn.TEXTJOIN(", ", TRUE, _xlfn._xlws.FILTER('5. Données salariales brutes'!A3:A1298, '5. Données salariales brutes'!C3:C1298=A3))} -> AG-02, BI-02, CH-02, PC-02
A4: 120292 | B4: {=_xlfn.TEXTJOIN(", ", TRUE, _xlfn._xlws.FILTER('5. Données salariales brutes'!A4:A1299, '5. Données salariales brutes'!C4:C1299=A4))} -> AG-03, BI-03, CH-03, OP-2
A5: 137710 | B5: {=_xlfn.TEXTJOIN(", ", TRUE, _xlfn._xlws.FILTER('5. Données salariales brutes'!A5:A1300, '5. Données salariales brutes'!C5:C1300=A5))} -> AG-04, BI-04, CH-04
A6: 150293 | B6: {=_xlfn.TEXTJOIN(", ", TRUE, _xlfn._xlws.FILTER('5. Données salariales brutes'!A6:A1301, '5. Données salariales brutes'!C6:C1301=A6))} -> AG-05, BI-05, CH-05
A7: 103079 | B7: {=_xlfn.TEXTJOIN(", ", TRUE, _xlfn._xlws.FILTER('5. Données salariales brutes'!A7:A1302, '5. Données salariales brutes'!C7:C1302=A7))} -> CX-2, FB-3
A8: 97758 | B8: {=_xlfn.TEXTJOIN(", ", TRUE, _xlfn._xlws.FILTER('5. Données salariales brutes'!A8:A1303, '5. Données salariales brutes'!C8:C1303=A8))} -> ED-EST-05 Maritimes (EE 10), ED-EST-06 Manitoba (EE 6)
A9: 51250 | B9: {=_xlfn.TEXTJOIN(", ", TRUE, _xlfn._xlws.FILTER('5. Données salariales brutes'!A9:A1304, '5. Données salariales brutes'!C9:C1304=A9))} -> ED-EST-01 Québec (EE 3), ED-EST-02 Québec (EE 2)
A10: 70436 | B10: {=_xlfn.TEXTJOIN(", ", TRUE, _xlfn._xlws.FILTER('5. Données salariales brutes'!A10:A1305, '5. Données salariales brutes'!C10:C1305=A10))} -> ED-EST-01 Québec (EE 9), ED-EST-02 Alberta (EE 8)
A11: 75472 | B11: {=_xlfn.TEXTJOIN(", ", TRUE, _xlfn._xlws.FILTER('5. Données salariales brutes'!A11:A1306, '5. Données salariales brutes'!C11:C1306=A11))} -> ED-EST-04 Colombie-Britannique (EE 4), GT-03
A12: 56606 | B12: {=_xlfn.TEXTJOIN(", ", TRUE, _xlfn._xlws.FILTER('5. Données salariales brutes'!A12:A1307, '5. Données salariales brutes'!C12:C1307=A12))} -> EU-TEA (Maritimes), EU-TEA (Québec), EU-TEA (Ontario), EU-TEA (Manitoba), EU-TEA (Saskatchewan), EU-TEA (Alberta), EU-TEA (Colombie-Britannique)
A13: 74653.421 | B13: {=_xlfn.TEXTJOIN(", ", TRUE, _xlfn._xlws.FILTER('5. Données salariales brutes'!A13:A1308, '5. Données salariales brutes'!C13:C1308=A13))} -> GL-AIM-9, GL-GHW-7
A14: 81832.838 | B14: {=_xlfn.TEXTJOIN(", ", TRUE, _xlfn._xlws.FILTER('5. Données salariales brutes'!A14:A1309, '5. Données salariales brutes'!C14:C1309=A14))} -> GL-AMW-12, GL-GHW-10
... A33: 80392.781 | B33: {=_xlfn.TEXTJOIN(", ", TRUE, _xlfn._xlws.FILTER('5. Données salariales brutes'!A33:A1328, '5. Données salariales brutes'!C33:C1328=A33))} -> HP-03, SR-W (Groupe salarial 9) APD-10
A34: 94104 | B34: {=_xlfn.TEXTJOIN(", ", TRUE, _xlfn._xlws.FILTER('5. Données salariales brutes'!A34:A1329, '5. Données salariales brutes'!C41:C1329=A34))} -> #VALUE!
A35: 106456 | B35: {=_xlfn.TEXTJOIN(", ", TRUE, _xlfn._xlws.FILTER('5. Données salariales brutes'!A35:A1330, '5. Données salariales brutes'!C41:C1330=A35))} -> #VALUE!
A36: 109001 | B36: {=_xlfn.TEXTJOIN(", ", TRUE, _xlfn._xlws.FILTER('5. Données salariales brutes'!A36:A1331, '5. Données salariales brutes'!C41:C1331=A36))} -> #VALUE!
A37: 115426 | B37: {=_xlfn.TEXTJOIN(", ", TRUE, _xlfn._xlws.FILTER('5. Données salariales brutes'!A37:A1332, '5. Données salariales brutes'!C41:C1332=A37))} -> #VALUE!
A38: 122344 | B38: {=_xlfn.TEXTJOIN(", ", TRUE, _xlfn._xlws.FILTER('5. Données salariales brutes'!A38:A1333, '5. Données salariales brutes'!C41:C1333=A38))} -> #VALUE!
A39: 131257 | B39: {=_xlfn.TEXTJOIN(", ", TRUE, _xlfn._xlws.FILTER('5. Données salariales brutes'!A39:A1334, '5. Données salariales brutes'!C41:C1334=A39))} -> #VALUE!
A40: 145702 | B40: {=_xlfn.TEXTJOIN(", ", TRUE, _xlfn._xlws.FILTER('5. Données salariales brutes'!A40:A1335, '5. Données salariales brutes'!C41:C1335=A40))} -> #VALUE!
A41: 154064 | B41: {=_xlfn.TEXTJOIN(", ", TRUE, _xlfn._xlws.FILTER('5. Données salariales brutes'!A41:A1336, '5. Données salariales brutes'!C41:C1336=A41))} -> NU-CHN-8, NU-HOS-8
A42: 37172 | B42: {=_xlfn.TEXTJOIN(", ", TRUE, _xlfn._xlws.FILTER('5. Données salariales brutes'!A42:A1337, '5. Données salariales brutes'!C42:C1337=A42))} -> OE-BEO-1, OE-CEO-1, OE-DEO-1, OE-MSE-1, OE-MEO-1
A43: 43721 | B43: {=_xlfn.TEXTJOIN(", ", TRUE, _xlfn._xlws.FILTER('5. Données salariales brutes'!A43:A1338, '5. Données salariales brutes'!C43:C1338=A43))} -> OE-BEO-2, OE-CEO-2, OE-DEO-2, OE-MSE-2, OE-MEO-2
A44: 47398 | B44: {=_xlfn.TEXTJOIN(", ", TRUE, _xlfn._xlws.FILTER('5. Données salariales brutes'!A44:A1339, '5. Données salariales brutes'!C44:C1339=A44))} -> OE-CEO-3, OE-DEO-3, OE-MEO-3
A45: 79952 | B45: {=_xlfn.TEXTJOIN(", ", TRUE, _xlfn._xlws.FILTER('5. Données salariales brutes'!A45:A1340, '5. Données salariales brutes'!C45:C1340=A45))} -> PO-IMA-01, PO-LES-IM-01
A46: 87946 | B46: {=_xlfn.TEXTJOIN(", ", TRUE, _xlfn._xlws.FILTER('5. Données salariales brutes'!A46:A1341, '5. Données salariales brutes'!C46:C1341=A46))} -> PO-IMA-02, PO-LES-TO-02, PO-LES-IM-02, PO-TCO-02
A47: 95864 | B47: {=_xlfn.TEXTJOIN(", ", TRUE, _xlfn._xlws.FILTER('5. Données salariales brutes'!A47:A1342, '5. Données salariales brutes'!C47:C1342=A47))} -> PO-IMA-03, PO-LES-IM-03
A48: 79953 | B48: {=_xlfn.TEXTJOIN(", ", TRUE, _xlfn._xlws.FILTER('5. Données salariales brutes'!A48:A1343, '5. Données salariales brutes'!C48:C1343=A48))} -> PO-LES-TO-01, PO-TCO-01
A49: 95861 | B49: {=_xlfn.TEXTJOIN(", ", TRUE, _xlfn._xlws.FILTER('5. Données salariales brutes'!A49:A1344, '5. Données salariales brutes'!C49:C1344=A49))} -> PO-LES-TO-03, PO-TCO-03
A50: 104489 | B50: {=_xlfn.TEXTJOIN(", ", TRUE, _xlfn._xlws.FILTER('5. Données salariales brutes'!A50:A1345, '5. Données salariales brutes'!C50:C1345=A50))} -> PO-LES-TO-04, PO-TCO-04
A51: 65640 | B51: {=_xlfn.TEXTJOIN(", ", TRUE, _xlfn._xlws.FILTER('5. Données salariales brutes'!A51:A1346, '5. Données salariales brutes'!C51:C1346=A51))} -> SC-1 (service du pont et service de la chambre des machines), SC-STD-1
A52: 67068 | B52: {=_xlfn.TEXTJOIN(", ", TRUE, _xlfn._xlws.FILTER('5. Données salariales brutes'!A52:A1347, '5. Données salariales brutes'!C52:C1347=A52))} -> SC-2 (service du pont et service de la chambre des machines), SC-STD-2
... A59: 42366.912 | B59: {=_xlfn.TEXTJOIN(", ", TRUE, _xlfn._xlws.FILTER('5. Données salariales brutes'!A59:A1354, '5. Données salariales brutes'!C59:C1354=A59))} -> SR-W (Groupe salarial 9) APC-1, SR-W (Groupe salarial 9) APD-1
B60: {=_xlfn.TEXTJOIN(", ", TRUE, _xlfn._xlws.FILTER('5. Données salariales brutes'!A60:A1355, '5. Données salariales brutes'!C60:C1355=A60))}
B61: {=_xlfn.TEXTJOIN(", ", TRUE, _xlfn._xlws.FILTER('5. Données salariales brutes'!A61:A1356, '5. Données salariales brutes'!C61:C1356=A61))}
B62: {=_xlfn.TEXTJOIN(", ", TRUE, _xlfn._xlws.FILTER('5. Données salariales brutes'!A62:A1357, '5. Données salariales brutes'!C62:C1357=A62))}
B63: {=_xlfn.TEXTJOIN(", ", TRUE, _xlfn._xlws.FILTER('5. Données salariales brutes'!A63:A1358, '5. Données salariales brutes'!C63:C1358=A63))}
B64: {=_xlfn.TEXTJOIN(", ", TRUE, _xlfn._xlws.FILTER('5. Données salariales brutes'!A64:A1359, '5. Données salariales brutes'!C84:C1359=A64))} -> #VALUE!
B65: {=_xlfn.TEXTJOIN(", ", TRUE, _xlfn._xlws.FILTER('5. Données salariales brutes'!A65:A1360, '5. Données salariales brutes'!C84:C1360=A65))} -> #VALUE!
B66: {=_xlfn.TEXTJOIN(", ", TRUE, _xlfn._xlws.FILTER('5. Données salariales brutes'!A66:A1361, '5. Données salariales brutes'!C84:C1361=A66))} -> #VALUE!
B67: {=_xlfn.TEXTJOIN(", ", TRUE, _xlfn._xlws.FILTER('5. Données salariales brutes'!A67:A1362, '5. Données salariales brutes'!C84:C1362=A67))} -> #VALUE!
B68: {=_xlfn.TEXTJOIN(", ", TRUE, _xlfn._xlws.FILTER('5. Données salariales brutes'!A68:A1363, '5. Données salariales brutes'!C84:C1363=A68))} -> #VALUE!
B69: {=_xlfn.TEXTJOIN(", ", TRUE, _xlfn._xlws.FILTER('5. Données salariales brutes'!A69:A1364, '5. Données salariales brutes'!C84:C1364=A69))} -> #VALUE!
B70: {=_xlfn.TEXTJOIN(", ", TRUE, _xlfn._xlws.FILTER('5. Données salariales brutes'!A70:A1365, '5. Données salariales brutes'!C84:C1365=A70))} -> #VALUE!
B71: {=_xlfn.TEXTJOIN(", ", TRUE, _xlfn._xlws.FILTER('5. Données salariales brutes'!A71:A1366, '5. Données salariales brutes'!C84:C1366=A71))} -> #VALUE!
B72: {=_xlfn.TEXTJOIN(", ", TRUE, _xlfn._xlws.FILTER('5. Données salariales brutes'!A72:A1367, '5. Données salariales brutes'!C84:C1367=A72))} -> #VALUE!
B73: {=_xlfn.TEXTJOIN(", ", TRUE, _xlfn._xlws.FILTER('5. Données salariales brutes'!A73:A1368, '5. Données salariales brutes'!C84:C1368=A73))} -> #VALUE!

Sheet draft work
B1: All positions (minus those noted in tab 3) | D1: SHORTER (based on 2012 table)
B4: AC-01 | D4: AC-01
B5: AC-02 | D5: AC-02
B6: AC-03 | D6: AG-01
B7: AG-01 | D7: AG-02
B8: AG-02 | D8: AG-03
B9: AG-03 | D9: AG-04
B10: AG-04 | D10: AG-05
B11: AG-05 | D11: AS-01
B12: AS-01 | D12: AS-02
B13: AS-02 | D13: AS-03
B14: AS-03 | D14: AS-04
... B194: EN-SUR-6 | D194: TI-06
B195: FO-01
B196: FO-02
B197: FO-03
B198: FO-04
B199: GL-MAN-1
B200: GL-MAN-2
B201: GL-MAN-3
B202: GL-MAN-4
B203: GL-MAN-5
B204: GL-MAN-6
B205: GL-MAN-7
B206: GL-MAN-8
... B462: WP-06
